{"text_format":"1","workbook":"xlsx","n_sheets":8,"sheets":["Protokół","Ranking","Składy","wydruk - mecze","2 str. protokołu","KolejkaRunda1","kluby i zawodnicy","zawodnicy deble i po deblach"],"not_rendered":{"charts":0,"images":1,"macros":1,"external_links":0,"defined_names":9,"comments":2,"pivot_tables":0},"unopened":[],"bounds":{"document_bytes":16777216,"sheet_cells":100000,"rows_first":2000,"rows_last":500,"rows_between":2000,"halvings":0,"cell_chars":16384,"cell_head_chars":4096},"cells_cut":0,"cells_raw":0,"read":"whole","date_system":"1900"}

{"sheet":"Protokół","index":0,"n_rows":125,"n_cols":189,"rows_kept":125,"cut":false,"hidden":false,"merged":[[14,3,14,22],[15,3,15,22],[16,3,16,22],[17,3,17,22],[43,4,43,38],[44,4,44,38],[12,40,12,59],[13,40,13,59],[14,40,14,59],[15,40,15,59],[16,40,16,59],[17,40,17,59],[16,34,16,35],[19,58,19,62],[21,38,21,39],[21,41,21,42],[21,43,21,44],[22,41,23,42],[22,43,23,44],[22,45,23,45],[22,46,23,47],[22,48,23,49],[22,50,23,50],[22,20,23,21],[33,97,33,98],[25,175,25,176],[34,7,35,47],[34,0,35,6],[32,183,32,184],[33,183,33,184],[33,160,33,161],[33,163,33,164],[33,165,33,166],[33,168,33,169],[33,170,33,171],[33,173,33,174],[33,175,33,176],[33,178,33,179],[33,180,33,181],[32,160,32,161],[32,163,32,164],[32,165,32,166],[32,168,32,169],[32,170,32,171],[32,173,32,174],[32,175,32,176],[32,178,32,179],[32,180,32,181],[33,94,33,95],[28,180,28,181],[30,180,30,181],[23,183,23,184],[22,160,22,161],[22,163,22,164],[22,165,22,166],[22,168,22,169],[22,170,22,171],[22,173,22,174],[22,175,22,176],[22,178,22,179],[22,180,22,181],[22,183,22,184],[23,160,23,161],[23,163,23,164],[23,165,23,166],[23,180,23,181],[23,168,23,169],[23,170,23,171],[23,173,23,174],[23,175,23,176],[23,178,23,179],[25,170,25,171],[25,173,25,174],[19,160,19,161],[25,178,25,179],[25,180,25,181],[28,183,28,184],[28,160,28,161],[28,163,28,164],[28,165,28,166],[28,168,28,169],[21,180,21,181],[20,180,20,181],[20,183,20,184],[20,175,20,176],[20,178,20,179],[21,160,21,161],[21,163,21,164],[21,165,21,166],[21,168,21,169],[21,170,21,171],[21,173,21,174],[21,175,21,176],[21,178,21,179],[20,163,20,164],[20,165,20,166],[20,168,20,169],[19,22,19,33],[19,185,19,186],[19,187,19,188],[21,183,21,184],[27,160,27,162],[31,160,31,161],[31,163,31,164],[31,165,31,166],[31,168,31,169],[31,170,31,171],[31,173,31,174],[31,175,31,176],[31,178,31,179],[28,170,28,171],[28,173,28,174],[28,175,28,176],[28,178,28,179],[30,173,30,174],[30,175,30,176],[30,178,30,179],[31,180,31,181],[31,183,31,184],[20,170,20,171],[20,173,20,174],[17,34,17,35],[17,37,17,39],[17,60,17,66],[14,30,14,31],[17,23,17,29],[17,30,17,31],[17,32,17,33],[14,67,14,68],[14,69,14,70],[14,71,14,72],[15,67,15,68],[15,69,15,70],[15,71,15,72],[15,60,15,66],[17,67,17,68],[17,69,17,70],[17,71,17,72],[14,60,14,66],[19,105,19,109],[16,69,16,70],[16,23,16,29],[16,30,16,31],[16,32,16,33],[0,51,0,57],[0,58,0,65],[2,66,2,72],[2,58,2,65],[8,34,8,54],[13,23,13,29],[13,30,13,31],[13,32,13,33],[13,34,13,35],[12,32,12,33],[12,34,12,35],[12,37,12,39],[12,60,12,66],[13,71,13,72],[13,37,13,39],[10,5,10,35],[13,60,13,66],[1,64,1,68],[10,37,10,41],[2,25,2,47],[2,9,2,21],[12,23,12,29],[12,30,12,31],[13,3,13,22],[2,113,4,113],[2,114,4,114],[2,115,4,115],[6,14,6,35],[6,36,6,62],[8,11,8,22],[8,23,8,31],[8,32,8,33],[6,79,6,88],[8,79,8,88],[6,89,6,90],[2,49,2,57],[12,0,12,2],[10,42,10,72],[11,0,11,2],[11,23,11,29],[11,30,11,35],[11,37,11,39],[11,60,11,66],[11,67,11,72],[12,3,12,22],[11,3,11,22],[11,40,11,59],[10,89,10,91],[10,92,10,93],[8,89,8,92],[2,112,4,112],[13,67,13,68],[13,69,13,70],[18,0,18,72],[15,37,15,39],[14,32,14,33],[14,34,14,35],[14,37,14,39],[13,0,13,2],[14,23,14,29],[14,0,14,2],[15,0,15,2],[15,32,15,33],[15,34,15,35],[15,23,15,29],[15,30,15,31],[12,67,12,68],[9,0,9,72],[10,0,10,4],[12,69,12,70],[12,71,12,72],[16,71,16,72],[16,37,16,39],[16,60,16,66],[16,67,16,68],[19,63,19,67],[20,48,20,49],[20,51,20,52],[17,0,17,2],[16,0,16,2],[19,0,19,4],[19,5,19,15],[19,16,19,17],[19,18,19,19],[19,20,19,21],[19,43,19,47],[19,48,19,52],[20,0,20,1],[20,2,20,3],[20,4,20,15],[20,16,20,17],[20,18,20,19],[20,20,20,21],[20,22,20,33],[19,94,19,98],[19,99,19,103],[20,34,20,35],[20,36,20,37],[20,38,20,39],[20,41,20,42],[20,43,20,44],[20,46,20,47],[19,53,19,57],[20,99,20,100],[20,102,20,103],[20,53,20,54],[20,56,20,57],[20,58,20,59],[20,61,20,62],[20,79,20,80],[20,82,20,83],[19,68,19,72],[19,79,19,83],[19,84,19,88],[19,89,19,93],[19,34,19,35],[19,36,19,37],[19,38,19,42],[20,105,20,106],[20,108,20,109],[21,0,21,1],[21,2,21,3],[21,4,21,15],[21,16,21,17],[21,18,21,19],[21,20,21,21],[20,84,20,85],[20,87,20,88],[20,89,20,90],[20,92,20,93],[20,94,20,95],[20,97,20,98],[20,63,20,64],[20,66,20,67],[20,68,20,69],[20,71,20,72],[21,53,21,54],[21,56,21,57],[21,58,21,59],[21,22,21,33],[21,34,21,35],[21,36,21,37],[21,97,21,98],[21,99,21,100],[21,102,21,103],[21,105,21,106],[21,108,21,109],[22,0,23,1],[22,2,23,3],[22,4,22,15],[22,16,22,17],[21,82,21,83],[21,84,21,85],[21,87,21,88],[21,89,21,90],[21,92,21,93],[21,94,21,95],[21,61,21,62],[21,63,21,64],[21,66,21,67],[21,68,21,69],[21,71,21,72],[21,79,21,80],[21,46,21,47],[21,48,21,49],[21,51,21,52],[22,22,22,33],[22,34,22,35],[22,38,23,39],[22,40,23,40],[22,61,23,62],[22,63,23,64],[22,65,23,65],[22,66,23,67],[22,68,23,69],[22,70,23,70],[22,51,23,52],[22,53,23,54],[22,55,23,55],[22,56,23,57],[22,58,23,59],[22,60,23,60],[22,81,23,81],[22,82,23,83],[22,84,23,85],[22,86,23,86],[22,87,23,88],[22,89,23,90],[22,71,23,72],[22,74,23,74],[22,75,23,75],[22,76,23,76],[22,77,23,77],[22,79,23,80],[24,0,24,1],[24,2,24,3],[24,4,24,15],[24,16,24,17],[24,18,24,19],[24,20,24,21],[22,111,23,111],[22,112,23,112],[23,4,23,15],[23,16,23,17],[23,22,23,33],[23,34,23,35],[22,101,23,101],[22,102,23,103],[22,105,23,106],[22,107,23,107],[22,108,23,109],[22,110,23,110],[22,91,23,91],[22,92,23,93],[22,94,23,95],[22,96,23,96],[22,97,23,98],[22,99,23,100],[24,105,24,106],[24,108,24,109],[25,0,25,1],[25,2,25,3],[25,4,25,15],[25,16,25,17],[25,18,25,19],[24,82,24,83],[24,84,24,85],[24,87,24,88],[24,89,24,90],[24,92,24,93],[24,94,24,95],[24,61,24,62],[24,63,24,64],[24,66,24,67],[24,68,24,69],[24,71,24,72],[24,79,24,80],[24,46,24,47],[24,48,24,49],[24,51,24,52],[24,53,24,54],[24,56,24,57],[25,20,25,21],[25,22,25,33],[25,34,25,35],[25,36,25,37],[25,38,25,39],[25,41,25,42],[24,97,24,98],[24,99,24,100],[24,102,24,103],[24,58,24,59],[24,22,24,33],[24,34,24,35],[24,36,24,37],[24,38,24,39],[24,41,24,42],[24,43,24,44],[25,58,25,59],[25,61,25,62],[25,63,25,64],[25,66,25,67],[25,68,25,69],[25,71,25,72],[25,43,25,44],[25,46,25,47],[25,48,25,49],[25,51,25,52],[25,53,25,54],[25,56,25,57],[25,94,25,95],[25,97,25,98],[25,99,25,100],[25,102,25,103],[25,105,25,106],[28,41,28,42],[28,43,28,44],[25,108,25,109],[25,79,25,80],[25,82,25,83],[25,84,25,85],[25,87,25,88],[25,89,25,90],[25,92,25,93],[26,0,26,72],[27,0,27,4],[27,5,27,15],[27,16,27,17],[27,18,27,19],[27,20,27,21],[27,22,27,33],[27,34,27,35],[27,36,27,37],[27,38,27,42],[27,94,27,98],[27,99,27,103],[27,105,27,109],[27,43,27,47],[27,48,27,52],[27,84,27,88],[27,89,27,93],[28,79,28,80],[28,46,28,47],[28,48,28,49],[28,51,28,52],[28,53,28,54],[28,56,28,57],[27,63,27,67],[27,68,27,72],[27,79,27,83],[27,53,27,57],[27,58,27,62],[28,58,28,59],[29,0,29,1],[29,2,29,3],[29,4,29,15],[29,16,29,17],[29,18,29,19],[28,82,28,83],[28,84,28,85],[28,87,28,88],[28,89,28,90],[28,61,28,62],[28,63,28,64],[28,66,28,67],[28,68,28,69],[28,71,28,72],[28,0,28,1],[28,2,28,3],[28,4,28,15],[28,16,28,17],[28,18,28,19],[28,20,28,21],[28,22,28,33],[28,34,28,35],[28,36,28,37],[28,38,28,39],[28,105,28,106],[28,108,28,109],[28,92,28,93],[28,94,28,95],[29,102,29,103],[29,105,29,106],[29,108,29,109],[29,79,29,80],[29,82,29,83],[29,84,29,85],[29,87,29,88],[29,89,29,90],[29,92,29,93],[29,94,29,95],[29,97,29,98],[29,99,29,100],[28,97,28,98],[28,99,28,100],[28,102,28,103],[29,43,29,44],[29,46,29,47],[29,48,29,49],[29,51,29,52],[29,53,29,54],[29,56,29,57],[29,20,29,21],[29,22,29,33],[30,38,31,39],[30,40,31,40],[29,34,29,35],[29,36,29,37],[29,38,29,39],[29,41,29,42],[30,50,31,50],[30,51,31,52],[30,41,31,42],[30,20,31,21],[30,53,31,54],[30,55,31,55],[30,56,31,57],[31,22,31,33],[31,34,31,35],[30,43,31,44],[30,45,31,45],[30,46,31,47],[30,48,31,49],[30,61,31,62],[30,60,31,60],[32,58,32,59],[30,108,31,109],[30,110,31,110],[30,92,31,93],[30,94,31,95],[30,96,31,96],[30,97,31,98],[30,99,31,100],[30,101,31,101],[30,82,31,83],[30,84,31,85],[30,86,31,86],[30,87,31,88],[30,89,31,90],[30,91,31,91],[30,102,31,103],[30,105,31,106],[30,107,31,107],[30,75,31,75],[32,36,32,37],[32,38,32,39],[32,41,32,42],[32,43,32,44],[32,51,32,52],[32,53,32,54],[33,41,33,42],[32,56,32,57],[33,43,33,44],[52,0,52,54],[52,56,52,72],[34,57,34,62],[51,56,51,72],[51,0,51,55],[54,4,54,21],[55,0,55,3],[55,4,55,21],[55,22,55,38],[54,0,54,3],[53,56,55,72],[54,22,54,38],[54,39,54,54],[55,39,55,54],[53,0,53,3],[43,56,43,72],[44,56,44,72],[45,4,45,38],[45,0,45,3],[50,0,50,3],[50,4,50,21],[50,22,50,38],[50,39,50,54],[42,56,42,72],[62,106,62,108],[63,106,63,108],[61,75,61,91],[62,75,62,91],[63,75,63,91],[64,75,64,91],[65,75,65,91],[56,0,56,72],[58,75,58,81],[58,93,58,98],[59,75,59,91],[59,93,59,109],[57,0,58,72],[60,106,60,108],[60,75,60,91],[64,106,64,108],[68,106,68,108],[74,106,74,108],[75,89,75,91],[75,106,75,108],[71,89,71,91],[71,106,71,108],[72,89,72,91],[72,106,72,108],[73,89,73,91],[73,106,73,108],[74,89,74,91],[69,89,69,91],[69,106,69,108],[70,89,70,91],[70,106,70,108],[66,89,66,91],[66,93,66,107],[67,89,67,91],[67,106,67,108],[68,89,68,91],[61,106,61,108],[33,2,33,3],[33,4,33,15],[33,16,33,17],[33,18,33,19],[45,39,45,54],[33,34,33,35],[33,36,33,37],[33,38,33,39],[33,20,33,21],[33,22,33,33],[43,39,43,54],[33,108,33,109],[33,79,33,80],[33,82,33,83],[33,71,33,72],[48,39,48,54],[44,0,44,3],[44,39,44,54],[22,18,23,19],[22,36,23,37],[30,18,31,19],[30,36,31,37],[53,4,53,21],[53,22,53,38],[53,39,53,54],[35,63,35,66],[35,68,35,71],[33,48,33,49],[33,51,33,52],[33,53,33,54],[33,56,33,57],[41,0,41,72],[37,0,40,72],[49,0,49,3],[30,0,31,1],[30,2,31,3],[30,4,30,15],[30,34,30,35],[32,0,32,1],[33,46,33,47],[46,0,46,55],[29,58,29,59],[30,16,30,17],[47,0,47,54],[48,0,48,3],[48,4,48,21],[48,22,48,38],[49,4,49,21],[49,22,49,38],[49,39,49,54],[30,22,30,33],[32,2,32,3],[32,20,32,21],[32,4,32,15],[42,0,42,54],[33,0,33,1],[31,4,31,15],[31,16,31,17],[43,0,43,3],[32,46,32,47],[32,48,32,49],[32,16,32,17],[32,18,32,19],[34,48,35,55],[32,22,32,33],[32,34,32,35],[33,99,33,100],[32,105,32,106],[32,108,32,109],[32,87,32,88],[32,97,32,98],[32,99,32,100],[32,102,32,103],[50,56,50,72],[46,56,46,72],[33,84,33,85],[33,87,33,88],[33,89,33,90],[33,92,33,93],[33,102,33,103],[33,105,33,106],[33,58,33,59],[35,75,35,77],[33,61,33,62],[33,63,33,64],[33,66,33,67],[32,61,32,62],[32,63,32,64],[32,66,32,67],[32,68,32,69],[19,154,19,158],[27,139,27,143],[27,144,27,148],[27,149,27,153],[27,154,27,158],[20,160,20,161],[24,160,24,161],[32,79,32,80],[29,63,29,64],[29,66,29,67],[29,68,29,69],[30,66,31,67],[19,139,19,143],[19,144,19,148],[19,149,19,153],[30,112,31,112],[30,111,31,111],[30,81,31,81],[30,74,31,74],[30,77,31,77],[30,79,31,80],[32,71,32,72],[30,70,31,70],[30,71,31,72],[29,170,29,171],[29,173,29,174],[29,175,29,176],[29,178,29,179],[29,180,29,181],[29,183,29,184],[30,160,30,161],[30,163,30,164],[30,165,30,166],[30,168,30,169],[30,170,30,171],[25,183,25,184],[24,170,24,171],[24,173,24,174],[24,175,24,176],[24,178,24,179],[32,82,32,83],[32,84,32,85],[32,89,32,90],[32,92,32,93],[32,94,32,95],[24,163,24,164],[24,165,24,166],[24,168,24,169],[25,160,25,161],[25,163,25,164],[25,165,25,166],[25,168,25,169],[30,183,30,184],[24,180,24,181],[24,183,24,184],[29,160,29,161],[29,163,29,164],[29,165,29,166],[29,168,29,169],[30,76,31,76],[29,61,29,62],[29,71,29,72],[34,75,34,77],[30,68,31,69],[45,56,45,72],[53,74,53,89],[54,74,54,89],[34,68,34,72],[33,68,33,69],[34,63,34,66],[47,56,49,72],[35,57,35,62],[34,56,35,56],[30,63,31,64],[30,65,31,65],[30,58,31,59],[55,74,55,89],[43,74,43,89],[44,74,44,89],[45,74,45,89],[46,74,46,89],[47,74,47,89],[48,74,48,89],[49,74,49,89],[50,74,50,89],[51,74,51,89],[52,74,52,89]]}
[null,null,null,null,null,null,null,null,null,null,null,null,null,null,null,null,null,null,null,null,null,null,null,null,null,null,null,null,null,null,null,null,null,null,null,null,null,null,null,null,null,null,null,null,null,null,null,null,null,null,null,null,null,null,null,null,null,null,null,null,null,null,null,null,null,null,null,null,null,null,null,null,null,null,null,null,null,null,null,null,null,null,null,null,null,null,null,null,null,null,null,null,"2 liga","2015-03-05"]
[null,null,null,null,null,null,null,null,null,null,null,null,null,null,null,null,null,null,null,null,null,null,null,null,null,null,null,null,null,null,null,null,null,null,null,null,null,null,null,null,null,null,null,null,null,null,null,null,null,null,null,null,null,null,null,null,null,"Nr meczu …………",null,null,null,null,null,null,16]
[null,null,null,null,null,null,null,null,null,"1910lc",null,null,null,null,null,null,null,null,null,null,null,null,{"$f":"IF(DJ3=1,\"ZPZTS-WZTS\",\"ZPZTS\")","v":"ZPZTS"},null,null,"PROTOKÓŁ MECZU",null,null,null,null,null,null,null,null,null,null,null,null,null,null,null,null,null,null,null,null,null,null,null,null,null,null,null,null,null,null,null,null,"Nr meczu: ",null,null,null,null,null,null,null,5002,null,null,null,null,null,null,null,{"$f":"IF(BO3<=CL9,1,IF(BO3>CL9,2))","v":1},null,null,null,null,null,null,null,null,null,null,null,null,null,null,null,null,null,null,null,null,null,null,null,null,null,null,null,null,null,null,null,null,null,null,null,null,null,"Liga",4,"PŁEĆ",1]
[]
[]
[null,null,null,null,null,null,null,null,null,null,null,null,null,null,null,null,null,null,null,null,null,null,null,null,null,null,null,null,null,null,null,null,null,null,null,null,null,null,null,null,null,null,null,null,null,null,null,null,null,null,null,null,null,null,null,null,null,null,null,null,null,null,null,null,null,null,null,null,null,null,null,null,null,null,2,null,null,null,null,null,null,null,null,null,null,null,null,null,null,null,null,null,null,null,null,null,null,null,null,null,null,null,null,null,null,null,null,null,null,null,null,null,null,"II  LIGA",null,"MĘŻCZYZN"]
[null,null,null,null,null,null,null,null,null,null,null,null,null,null,{"$f":"IF(DJ3=1,\"II LIGI \",IF(DJ3=2,\"III LIGI \",IF(DJ3=3,\"IV LIGI \",IF(DJ3=4,\"V LIGI \",\"\"))))","v":"V LIGI "},null,null,null,null,null,null,null,null,null,null,null,null,null,null,null,null,null,null,null,null,null,"MĘŻCZYZN",null,null,null,null,null,null,null,null,null,null,null,null,null,null,null,null,null,null,null,null,null,null,null,null,null,null,null,null,null,null,null,null,null,null,null,null,null,null,null,null,null,null,"runda pierwsza",null,null,null,null,null,null,null,null,null,40,null,null,50]
[null,null,null,null,null,null,null,null,null,null,null,null,null,null,null,null,null,null,null,null,null,null,null,null,null,null,null,null,null,null,null,null,null,null,null,null,null,null,null,null,null,null,null,null,null,null,null,null,null,null,null,null,null,null,null,null,null,null,null,null,null,null,null,null,null,null,null,null,null,null,null,null,null,null,null,null,null,null,null,null,null,null,null,null,null,null,null,null,null,null,null,null,null,null,null,null,null,null,null,null,null,null,null,null,null,null,null,null,null,null,null,null,null,"II  LIGA",null,"MĘŻCZYZN"]
[null,null,null,null,null,null,null,null,null,null,null,"rozegranego w dniu",null,null,null,null,null,null,null,null,null,null,null,{"$f":"KolejkaRunda1!B159","v":"2020-10-17"},null,null,null,null,null,null,null,null,"w",null,{"$f":"IF(X9<>\"\",KolejkaRunda1!C159,\"\")","v":"Szczecinie"},null,null,null,null,null,null,null,null,null,null,null,null,null,null,null,null,null,null,null,null,"pomiędzy drużynami:",null,null,null,null,null,null,null,null,null,null,null,null,null,null,null,null,null,null,null,null,null,1,null,"runda rewanzowa",null,null,null,null,null,null,null,null,null,{"$f":"IF(DJ3=1,28,IF(DJ3=2,3078,IF(DJ3=3,4045,5015)))","v":5015},null,null,null,null,null,null,null,null,null,null,null,null,null,null,null,null,null,null,null,null,null,null,null,"III  LIGA",null,"KOBIET"]
[null,null,null,null,null,null,null,null,null,null,null,null,null,null,null,null,null,null,null,null,null,null,null,null,null,null,null,null,null,null,null,null,null,null,null,null,null,null,null,null,null,null,null,null,null,null,null,null,null,null,null,null,null,null,null,null,null,null,null,null,null,null,null,null,null,null,null,null,null,null,null,null,null,null,null,null,null,null,null,null,null,null,null,null,null,null,null,null,null,null,null,null,null,null,null,null,null,null,null,null,null,null,null,null,null,null,null,null,null,null,null,null,null,"IV  LIGA"]
["\"A\" -",null,null,null,null,{"$f":"IF(KolejkaRunda1!A159=0,\"\",KolejkaRunda1!F159)","v":"SL Salos Szczecin"},null,null,null,null,null,null,null,null,null,null,null,null,null,null,null,null,null,null,null,null,null,null,null,null,null,null,null,null,null,null,null,"\"X\" -",null,null,null,null,{"$f":"IF(KolejkaRunda1!A159=0,\"\",KolejkaRunda1!G159)","v":"Flota Świnoujście"},null,null,null,null,null,null,null,null,null,null,null,null,null,null,null,null,null,null,null,null,null,null,null,null,null,null,null,null,null,null,null,null,null,null,null,null,{"$f":"IF(CE59=CO60,BX60,IF(CE59=#REF!,#REF!,IF(CE59=#REF!,#REF!,IF(CE59=#REF!,#REF!,IF(CE59=#REF!,#REF!,IF(#REF!=CE59,#REF!,IF(CE59=#REF!,#REF!,IF(CE59=#REF!,#REF!,IF(CE59=#REF!,#REF!,IF(CE59=#REF!,#REF!,\"\"))))))))))","v":{"$error":"#REF!"}},null,null,null,null,null,null,null,null,null,"2 liga",null,null,"3-5 liga",null,null,null,null,null,null,null,null,null,null,null,null,null,null,null,null,null,null,null,null,"V  LIGA"]
[null,null,null,"Nazwisko i Imię",null,null,null,null,null,null,null,null,null,null,null,null,null,null,null,null,null,null,null,"Licencja",null,null,null,null,null,null,"Kartki: Ż; Ż-Cz; Cz",null,null,null,null,null,null,null,null,null,"Nazwisko i Imię",null,null,null,null,null,null,null,null,null,null,null,null,null,null,null,null,null,null,null,"Licencja",null,null,null,null,null,null,"Kartki: Ż; Ż-Cz; Cz"]
["A",null,null,null,null,null,null,null,null,null,null,null,null,null,null,null,null,null,null,null,null,null,null,{"$f":"IF(D13=\"\",\"\",VLOOKUP(D13,'kluby i zawodnicy'!$G$47:$H$89,2,FALSE))","v":""},null,null,null,null,null,null,null,null,null,null,null,null,null,"X",null,null,null,null,null,null,null,null,null,null,null,null,null,null,null,null,null,null,null,null,null,null,{"$f":"IF(AO13=\"\",\"\",VLOOKUP(AO13,'kluby i zawodnicy'!$L$47:$M$89,2,FALSE))","v":""},null,null,null,null,null,null,null,null,null,null,null,null,null,{"$f":"VLOOKUP(E23,DS13:DT16,2,0)","v":{"$error":"#N/A"}},null,null,null,null,null,null,null,{"$f":"VLOOKUP(AO13,'kluby i zawodnicy'!L47:P89,5,0)","v":9},null,null,null,null,null,null,null,null,null,null,null,null,null,null,null,null,null,null,null,null,null,null,null,null,null,null,null,null,null,null,"II  LIGA"]
["B",null,null,null,null,null,null,null,null,null,null,null,null,null,null,null,null,null,null,null,null,null,null,{"$f":"IF(D14=\"\",\"\",VLOOKUP(D14,'kluby i zawodnicy'!$G$47:$H$89,2,FALSE))","v":""},null,null,null,null,null,null,null,null,null,null,null,null,null,"Y",null,null,null,null,null,null,null,null,null,null,null,null,null,null,null,null,null,null,null,null,null,null,{"$f":"IF(AO14=\"\",\"\",VLOOKUP(AO14,'kluby i zawodnicy'!$L$47:$M$89,2,FALSE))","v":""},null,null,null,null,null,null,null,null,null,null,null,null,null,null,null,null,null,null,null,null,null,{"$f":"VLOOKUP(AO14,'kluby i zawodnicy'!L138:O179,4,0)","v":{"$error":"#N/A"}},null,null,null,null,null,null,null,null,null,null,null,null,null,null,null,null,null,null,null,null,null,null,null,null,null,null,null,null,null,null,"III  LIGA"]
["C",null,null,null,null,null,null,null,null,null,null,null,null,null,null,null,null,null,null,null,null,null,null,{"$f":"IF(D15=\"\",\"\",VLOOKUP(D15,'kluby i zawodnicy'!$G$47:$H$89,2,FALSE))","v":""},null,null,null,null,null,null,null,null,null,null,null,null,null,"W",null,null,null,null,null,null,null,null,null,null,null,null,null,null,null,null,null,null,null,null,null,null,{"$f":"IF(AO15=\"\",\"\",VLOOKUP(AO15,'kluby i zawodnicy'!$L$47:$M$89,2,FALSE))","v":""},null,null,null,null,null,null,null,null,null,null,null,null,null,null,null,null,null,null,null,null,null,{"$f":"VLOOKUP(AO15,'kluby i zawodnicy'!L180:O219,4,0)","v":{"$error":"#N/A"}},null,null,null,null,null,null,null,null,null,null,null,null,null,null,null,null,null,null,null,null,null,null,null,null,null,null,null,null,null,null,"IV  LIGA"]
["D",null,null,null,null,null,null,null,null,null,null,null,null,null,null,null,null,null,null,null,null,null,null,{"$f":"IF(D16=\"\",\"\",VLOOKUP(D16,'kluby i zawodnicy'!$G$47:$H$89,2,FALSE))","v":""},null,null,null,null,null,null,null,null,null,null,null,null,null,"Z",null,null,null,null,null,null,null,null,null,null,null,null,null,null,null,null,null,null,null,null,null,null,{"$f":"IF(AO16=\"\",\"\",VLOOKUP(AO16,'kluby i zawodnicy'!$L$47:$M$89,2,FALSE))","v":""},null,null,null,null,null,null,null,null,null,null,null,null,null,null,null,null,null,null,null,null,null,{"$f":"VLOOKUP(AO16,'kluby i zawodnicy'!L220:O259,4,0)","v":{"$error":"#N/A"}},null,null,null,null,null,null,null,null,null,null,null,null,null,null,null,null,null,null,null,null,null,null,null,null,null,null,null,null,null,null,"V  LIGA"]
["R1",null,null,null,null,null,null,null,null,null,null,null,null,null,null,null,null,null,null,null,null,null,null,{"$f":"IF(D17=\"\",\"\",VLOOKUP(D17,'kluby i zawodnicy'!$G$47:$H$89,2,FALSE))","v":""},null,null,null,null,null,null,null,null,null,null,null,null,null,"R1",null,null,null,null,null,null,null,null,null,null,null,null,null,null,null,null,null,null,null,null,null,null,{"$f":"IF(AO17=\"\",\"\",VLOOKUP(AO17,'kluby i zawodnicy'!$L$47:$M$89,2,FALSE))","v":""},null,null,null,null,null,null,null,null,null,null,null,null,null,null,{"$f":"CONCATENATE(D19,\" \",O19)","v":" "},null,null,null,null,null,null,{"$f":"VLOOKUP(AO17,'kluby i zawodnicy'!L260:O299,4,0)","v":{"$error":"#N/A"}}]
["R2",null,null,null,null,null,null,null,null,null,null,null,null,null,null,null,null,null,null,null,null,null,null,{"$f":"IF(D18=\"\",\"\",VLOOKUP(D18,'kluby i zawodnicy'!$G$47:$H$89,2,FALSE))","v":""},null,null,null,null,null,null,null,null,null,null,null,null,null,"R2",null,null,null,null,null,null,null,null,null,null,null,null,null,null,null,null,null,null,null,null,null,null,{"$f":"IF(AO18=\"\",\"\",VLOOKUP(AO18,'kluby i zawodnicy'!$L$47:$M$89,2,FALSE))","v":""},null,null,null,null,null,null,null,null,null,null,null,null,null,null,null,null,null,null,null,null,null,{"$f":"VLOOKUP(AO18,'kluby i zawodnicy'!L300:O339,4,0)","v":{"$error":"#N/A"}}]
[]
["Stół 1",null,null,null,null,"Nazwisko Imię",null,null,null,null,null,null,null,null,null,null,"S\n(P/O)",null,"T\n(1-5)",null,null,null,"Nazwisko Imię",null,null,null,null,null,null,null,null,null,null,null,"S\n(P/O)",null,"T\n(1-5)",null,"I \nSET",null,null,null,null,"II \nSET",null,null,null,null,"III \nSET",null,null,null,null,"IV \nSET",null,null,null,null,"V \nSET",null,null,null,null,"Sety",null,null,null,null,"Wynik",null,null,null,null,null,{"$f":"OR(AND(AM21<=9,AP21=11),AND(AM21>9,OR(AP21=AM21-2,AP21=AM21+2)))","v":false},null,null,null,null,"I SET",null,null,null,null,"II SET",null,null,null,null,"III SET",null,null,null,null,"IV SET",null,null,null,null,"V SET",null,null,null,null,null,"Punkty",null,null,null,null,"zakończenie\n meczu",null,null,null,null,null,null,null,null,null,null,null,null,null,null,null,null,null,null,null,null,null,null,null,null,null,null,null,null,"II \nSET",null,null,null,null,"III \nSET",null,null,null,null,"IV \nSET",null,null,null,null,"V \nSET",null,null,null,null,null,{"$f":"IF(AM23=\"\",\" nie istnieje\",\"\")","v":" nie istnieje"},null,1,null,null,null,null,2,null,null,null,null,3,null,null,null,null,4,null,null,null,null,5,null,null,4,null,5]
[1,null,"A",null,{"$f":"D13","v":0},null,null,null,null,null,null,null,null,null,null,null,null,null,null,null,"X",null,{"$f":"AO13","v":0},null,null,null,null,null,null,null,null,null,null,null,null,null,null,null,null,null,{"$f":"IF(AM21<>\"\",\":\",\"\")","v":""},null,null,null,null,{"$f":"IF(AR21<>\"\",\":\",\"\")","v":""},null,null,null,null,{"$f":"IF(AW21<>\"\",\":\",\"\")","v":""},null,null,null,null,{"$f":"IF(BB21<>\"\",\":\",\"\")","v":""},null,null,null,null,{"$f":"IF(BG21<>\"\",\":\",\"\")","v":""},null,null,{"$f":"IF(AM21<>\"\",(CB21+CG21+CL21+CQ21+CV21),\"\")","v":""},null,{"$f":"IF(BL21<>\"\",\":\",\"\")","v":""},{"$f":"IF(AM21<>\"\",(CE21+CJ21+CO21+CT21+CY21),\"\")","v":""},null,{"$f":"IF(BW21=TRUE,BX21,\"\")","v":""},null,{"$f":"IF(BQ21<>\"\",\":\",\"\")","v":""},{"$f":"IF(BW21=TRUE,BZ21,\"\")","v":""},null,null,{"$f":"OR(SUM(CB21,CG21,CL21,CQ21,CV21)>2,SUM(CE21,CJ21,CO21,CT21,CY21)>2)","v":false},{"$f":"IF(BW21=TRUE,DB21,\"\")","v":""},":",{"$f":"IF(BW21=TRUE,DE21,\"\")","v":""},null,{"$f":"IF((AM21+AP21)=0,0,IF(AND(AM21<>\"\",AP21<>\"\",AM21>AP21)=TRUE,1,0))","v":0},null,":",{"$f":"IF((AM21+AP21)=0,0,IF(AND(AM21<>\"\",AP21<>\"\",AM21<AP21)=TRUE,1,0))","v":0},null,{"$f":"IF((AR21+AU21)=0,0,IF(AND(AR21<>\"\",AU21<>\"\",AR21>AU21)=TRUE,1,0))","v":0},null,":",{"$f":"IF((AR21+AU21)=0,0,IF(AND(AR21<>\"\",AU21<>\"\",AR21<AU21)=TRUE,1,0))","v":0},null,{"$f":"IF((AW21+AZ21)=0,0,IF(AND(AW21<>\"\",AZ21<>\"\",AW21>AZ21)=TRUE,1,0))","v":0},null,":",{"$f":"IF((AW21+AZ21)=0,0,IF(AND(AW21<>\"\",AZ21<>\"\",AW21<AZ21)=TRUE,1,0))","v":0},null,{"$f":"IF((BB21+BE21)=0,0,IF(AND(BB21<>\"\",BE21<>\"\",BB21>BE21)=TRUE,1,0))","v":0},null,":",{"$f":"IF((BB21+BE21)=0,0,IF(AND(BB21<>\"\",BE21<>\"\",BB21<BE21)=TRUE,1,0))","v":0},null,{"$f":"IF((BG21+BJ21)=0,0,IF(AND(BG21<>\"\",BJ21<>\"\",BG21>BJ21)=TRUE,1,0))","v":0},null,":",{"$f":"IF((BG21+BJ21)=0,0,IF(AND(BG21<>\"\",BJ21<>\"\",BG21<BJ21)=TRUE,1,0))","v":0},null,null,{"$f":"IF(SUM(CB21,CG21,CL21,CQ21,CV21)>2,1,IF((CE21+CJ21+CO21+CT21+CY21)>2,0,\"\"))","v":""},null,":",{"$f":"IF(SUM(CB21,CG21,CL21,CQ21,CV21)>2,0,IF((CE21+CJ21+CO21+CT21+CY21)>2,1,\"\"))","v":""},null,{"$f":"OR(BL21>2,BO21>2)","v":true},null,null,null,null,null,null,null,null,null,null,null,null,null,null,null,null,null,null,null,null,null,null,null,null,null,null,null,{"$f":"OR(AND(AM21<=9,AP21=11),AND(AM21>9,OR(AP21=AM21-2,AP21=AM21+2)),AND(AM21=11,AP21<=19))","v":false},null,null,null,null,{"$f":"OR(AND(AR21<=9,AU21=11),AND(AR21>9,OR(AU21=AR21-2,AU21=AR21+2)),AND(AR21=11,AU21<=19))","v":false},null,null,null,null,{"$f":"OR(AND(AW21<=9,AZ21=11),AND(AW21>9,OR(AZ21=AW21-2,AZ21=AW21+2)),AND(AW21=11,AZ21<=19))","v":false},null,null,null,null,{"$f":"OR(AND(BB21<=9,BE21=11),AND(BB21>9,OR(BE21=BB21-2,BE21=BB21+2)),AND(BB21=11,BE21<=19))","v":false},null,null,null,null,{"$f":"OR(AND(BG21<=9,BJ21=11),AND(BG21>9,OR(BJ21=BG21-2,BJ21=BG21+2)),AND(BG21=11,BJ21<=19))","v":false},null,{"$f":"OR(AND(AP21>=0,AM21>=0,$BL21<3,$BO21<3),AND(0<=AM21<=9,AP21=11,$BL21<3,$BO21<3),AND(AM21=11,0<=AP21<=9,$BL21<3,$BO21<3),AND(AP21>9,OR(AM21=AP21-2,AM21=AP21+2),$BL21<3,$BO21<3),AND(AP21=\"\",AM21>=0,AM21<=30,AP21=11,$BL21<3,$BO21<3),AND(AP21=11,0<=AM21<=9,$BL21<3,$BO21<3))","v":false},null,":",{"$f":"OR(AND(AM21>=0,AM21<=9,AP21=11,$BL21<3,$BO21<3),AND(AM21>9,OR(AP21=AM21-2,AP21=AM21+2),$BL21<3,$BO21<3),AND(AM21=11,AP21>=0,AP21<=9,$BL21<3,$BO21<3))","v":false},null,{"$f":"OR(AND(AU21>=0,AR21>=0,$BL21<3,$BO21<3),AND(0<=AR21<=9,AU21=11,$BL21<3,$BO21<3),AND(AR21=11,0<=AU21<=9,$BL21<3,$BO21<3),AND(AU21>9,OR(AR21=AU21-2,AR21=AU21+2),$BL21<3,$BO21<3),AND(AU21=\"\",AR21>=0,AR21<=30,AU21=11,$BL21<3,$BO21<3),AND(AU21=11,0<=AR21<=9,$BL21<3,$BO21<3))","v":false},null,":",{"$f":"OR(AND(AR21>=0,AR21<=9,AU21=11,$BL21<3,$BO21<3),AND(AR21>9,OR(AU21=AR21-2,AU21=AR21+2),$BL21<3,$BO21<3),AND(AR21=11,AU21>=0,AU21<=9,$BL21<3,$BO21<3))","v":false},null,{"$f":"OR(AND(AZ21>=0,AW21>=0,$BL21<3,$BO21<3),AND(0<=AW21<=9,AZ21=11,$BL21<3,$BO21<3),AND(AW21=11,0<=AZ21<=9,$BL21<3,$BO21<3),AND(AZ21>9,OR(AW21=AZ21-2,AW21=AZ21+2),$BL21<3,$BO21<3),AND(AZ21=\"\",AW21>=0,AW21<=30,AZ21=11,$BL21<3,$BO21<3),AND(AZ21=11,0<=AW21<=9,$BL21<3,$BO21<3))","v":false},null,":",{"$f":"OR(AND(AW21>=0,AW21<=9,AZ21=11,$BL21<3,$BO21<3),AND(AW21>9,OR(AZ21=AW21-2,AZ21=AW21+2),$BL21<3,$BO21<3),AND(AW21=11,AZ21>=0,AZ21<=9,$BL21<3,$BO21<3))","v":false},null,{"$f":"OR(AND(BE21>=0,BB21>=0,$BL21<3,$BO21<3),AND(0<=BB21<=9,BE21=11,$BL21<3,$BO21<3),AND(BB21=11,0<=BE21<=9,$BL21<3,$BO21<3),AND(BE21>9,OR(BB21=BE21-2,BB21=BE21+2),$BL21<3,$BO21<3),AND(BE21=\"\",BB21>=0,BB21<=30,BE21=11,$BL21<3,$BO21<3),AND(BE21=11,0<=BB21<=9,$BL21<3,$BO21<3))","v":false},null,":",{"$f":"OR(AND(BB21>=0,BB21<=9,BE21=11,$BL21<4,$BO21<4),AND(BB21>9,OR(BE21=BB21-2,BE21=BB21+2),$BL21<4,$BO21<4),AND(BB21=11,BE21>=0,BE21<=9,$BL21<4,$BO21<4))","v":false},null,{"$f":"OR(AND(BJ21>=0,BG21>=0,$BL21<3,$BO21<3),AND(0<=BG21<=9,BJ21=11,$BL21<3,$BO21<3),AND(BG21=11,0<=BJ21<=9,$BL21<3,$BO21<3),AND(BJ21>9,OR(BG21=BJ21-2,BG21=BJ21+2),$BL21<3,$BO21<3),AND(BJ21=\"\",BG21>=0,BG21<=30,BJ21=11,$BL21<3,$BO21<3),AND(BJ21=11,0<=BG21<=9,$BL21<3,$BO21<3))","v":false},null,":",{"$f":"OR(AND(BG21>=0,BG21<=9,BJ21=11,$BL21<4,$BO21<4),AND(BG21>9,OR(BJ21=BG21-2,BJ21=BG21+2),$BL21<4,$BO21<4),AND(BG21=11,BJ21>=0,BJ21<=9,$BL21<4,$BO21<4))","v":false},null,{"$f":"AND(FE21,FH21,FJ21,FM21,FO21,FR21,FT21)","v":false},{"$f":"AND(FE21,FH21,FJ21,FM21,FO21,FR21,FT21)","v":false},{"$f":"AND(GE21,FY21)","v":false},{"$f":"AND(GF21,GB21)","v":false}]
[3,null,"B",null,{"$f":"D14","v":0},null,null,null,null,null,null,null,null,null,null,null,null,null,null,null,"Y",null,{"$f":"AO14","v":0},null,null,null,null,null,null,null,null,null,null,null,null,null,null,null,null,null,{"$f":"IF(AM22<>\"\",\":\",\"\")","v":""},null,null,null,null,{"$f":"IF(AR22<>\"\",\":\",\"\")","v":""},null,null,null,null,{"$f":"IF(AW22<>\"\",\":\",\"\")","v":""},null,null,null,null,{"$f":"IF(BB22<>\"\",\":\",\"\")","v":""},null,null,null,null,{"$f":"IF(BG22<>\"\",\":\",\"\")","v":""},null,null,{"$f":"IF(AM22<>\"\",(CB22+CG22+CL22+CQ22+CV22),\"\")","v":""},null,{"$f":"IF(BL22<>\"\",\":\",\"\")","v":""},{"$f":"IF(AM22<>\"\",(CE22+CJ22+CO22+CT22+CY22),\"\")","v":""},null,{"$f":"IF(BW22=TRUE,BX22,\"\")","v":""},null,{"$f":"IF(BQ22<>\"\",\":\",\"\")","v":""},{"$f":"IF(BW22=TRUE,BZ22,\"\")","v":""},null,null,{"$f":"OR(SUM(CB22,CG22,CL22,CQ22,CV22)>2,SUM(CE22,CJ22,CO22,CT22,CY22)>2)","v":false},{"$f":"IF(BW22=TRUE,SUM(DB22,BX29),\"\")","v":""},":",{"$f":"IF(BW22=TRUE,SUM(DE22,BZ29),\"\")","v":""},null,{"$f":"IF((AM22+AP22)=0,0,IF(AND(AM22<>\"\",AP22<>\"\",AM22>AP22)=TRUE,1,0))","v":0},null,":",{"$f":"IF((AM22+AP22)=0,0,IF(AND(AM22<>\"\",AP22<>\"\",AM22<AP22)=TRUE,1,0))","v":0},null,{"$f":"IF((AR22+AU22)=0,0,IF(AND(AR22<>\"\",AU22<>\"\",AR22>AU22)=TRUE,1,0))","v":0},null,":",{"$f":"IF((AR22+AU22)=0,0,IF(AND(AR22<>\"\",AU22<>\"\",AR22<AU22)=TRUE,1,0))","v":0},null,{"$f":"IF((AW22+AZ22)=0,0,IF(AND(AW22<>\"\",AZ22<>\"\",AW22>AZ22)=TRUE,1,0))","v":0},null,":",{"$f":"IF((AW22+AZ22)=0,0,IF(AND(AW22<>\"\",AZ22<>\"\",AW22<AZ22)=TRUE,1,0))","v":0},null,{"$f":"IF((BB22+BE22)=0,0,IF(AND(BB22<>\"\",BE22<>\"\",BB22>BE22)=TRUE,1,0))","v":0},null,":",{"$f":"IF((BB22+BE22)=0,0,IF(AND(BB22<>\"\",BE22<>\"\",BB22<BE22)=TRUE,1,0))","v":0},null,{"$f":"IF((BG22+BJ22)=0,0,IF(AND(BG22<>\"\",BJ22<>\"\",BG22>BJ22)=TRUE,1,0))","v":0},null,":",{"$f":"IF((BG22+BJ22)=0,0,IF(AND(BG22<>\"\",BJ22<>\"\",BG22<BJ22)=TRUE,1,0))","v":0},null,null,{"$f":"IF(SUM(CB22,CG22,CL22,CQ22,CV22)>2,1,IF((CE22+CJ22+CO22+CT22+CY22)>2,0,\"\"))","v":""},null,":",{"$f":"IF(SUM(CB22,CG22,CL22,CQ22,CV22)>2,0,IF((CE22+CJ22+CO22+CT22+CY22)>2,1,\"\"))","v":""},null,{"$f":"OR(BL22>2,BO22>2)","v":true},null,null,null,null,null,null,null,null,null,null,null,null,null,null,null,null,null,null,null,null,null,null,null,null,null,null,null,{"$f":"OR(AND(AM22<=9,AP22=11),AND(AM22>9,OR(AP22=AM22-2,AP22=AM22+2)),AND(AM22=11,AP22<=19))","v":false},null,null,null,null,{"$f":"OR(AND(AR22<=9,AU22=11),AND(AR22>9,OR(AU22=AR22-2,AU22=AR22+2)),AND(AR22=11,AU22<=19))","v":false},null,null,null,null,{"$f":"OR(AND(AW22<=9,AZ22=11),AND(AW22>9,OR(AZ22=AW22-2,AZ22=AW22+2)),AND(AW22=11,AZ22<=19))","v":false},null,null,null,null,{"$f":"OR(AND(BB22<=9,BE22=11),AND(BB22>9,OR(BE22=BB22-2,BE22=BB22+2)),AND(BB22=11,BE22<=19))","v":false},null,null,null,null,{"$f":"OR(AND(BG22<=9,BJ22=11),AND(BG22>9,OR(BJ22=BG22-2,BJ22=BG22+2)),AND(BG22=11,BJ22<=19))","v":false},null,{"$f":"OR(AND(AP22>=0,AM22>=0,$BL22<3,$BO22<3),AND(0<=AM22<=9,AP22=11,$BL22<3,$BO22<3),AND(AM22=11,0<=AP22<=9,$BL22<3,$BO22<3),AND(AP22>9,OR(AM22=AP22-2,AM22=AP22+2),$BL22<3,$BO22<3),AND(AP22=\"\",AM22>=0,AM22<=30,AP22=11,$BL22<3,$BO22<3),AND(AP22=11,0<=AM22<=9,$BL22<3,$BO22<3))","v":false},null,":",{"$f":"OR(AND(AM22>=0,AM22<=9,AP22=11,$BL22<3,$BO22<3),AND(AM22>9,OR(AP22=AM22-2,AP22=AM22+2),$BL22<3,$BO22<3),AND(AM22=11,AP22>=0,AP22<=9,$BL22<3,$BO22<3))","v":false},null,{"$f":"OR(AND(AU22>=0,AR22>=0,$BL22<3,$BO22<3),AND(0<=AR22<=9,AU22=11,$BL22<3,$BO22<3),AND(AR22=11,0<=AU22<=9,$BL22<3,$BO22<3),AND(AU22>9,OR(AR22=AU22-2,AR22=AU22+2),$BL22<3,$BO22<3),AND(AU22=\"\",AR22>=0,AR22<=30,AU22=11,$BL22<3,$BO22<3),AND(AU22=11,0<=AR22<=9,$BL22<3,$BO22<3))","v":false},null,":",{"$f":"OR(AND(AR22>=0,AR22<=9,AU22=11,$BL22<3,$BO22<3),AND(AR22>9,OR(AU22=AR22-2,AU22=AR22+2),$BL22<3,$BO22<3),AND(AR22=11,AU22>=0,AU22<=9,$BL22<3,$BO22<3))","v":false},null,{"$f":"OR(AND(AZ22>=0,AW22>=0,$BL22<3,$BO22<3),AND(0<=AW22<=9,AZ22=11,$BL22<3,$BO22<3),AND(AW22=11,0<=AZ22<=9,$BL22<3,$BO22<3),AND(AZ22>9,OR(AW22=AZ22-2,AW22=AZ22+2),$BL22<3,$BO22<3),AND(AZ22=\"\",AW22>=0,AW22<=30,AZ22=11,$BL22<3,$BO22<3),AND(AZ22=11,0<=AW22<=9,$BL22<3,$BO22<3))","v":false},null,":",{"$f":"OR(AND(AW22>=0,AW22<=9,AZ22=11,$BL22<3,$BO22<3),AND(AW22>9,OR(AZ22=AW22-2,AZ22=AW22+2),$BL22<3,$BO22<3),AND(AW22=11,AZ22>=0,AZ22<=9,$BL22<3,$BO22<3))","v":false},null,{"$f":"OR(AND(BE22>=0,BB22>=0,$BL22<3,$BO22<3),AND(0<=BB22<=9,BE22=11,$BL22<3,$BO22<3),AND(BB22=11,0<=BE22<=9,$BL22<3,$BO22<3),AND(BE22>9,OR(BB22=BE22-2,BB22=BE22+2),$BL22<3,$BO22<3),AND(BE22=\"\",BB22>=0,BB22<=30,BE22=11,$BL22<3,$BO22<3),AND(BE22=11,0<=BB22<=9,$BL22<3,$BO22<3))","v":false},null,":",{"$f":"OR(AND(BB22>=0,BB22<=9,BE22=11,$BL22<4,$BO22<4),AND(BB22>9,OR(BE22=BB22-2,BE22=BB22+2),$BL22<4,$BO22<4),AND(BB22=11,BE22>=0,BE22<=9,$BL22<4,$BO22<4))","v":false},null,{"$f":"OR(AND(BJ22>=0,BG22>=0,$BL22<3,$BO22<3),AND(0<=BG22<=9,BJ22=11,$BL22<3,$BO22<3),AND(BG22=11,0<=BJ22<=9,$BL22<3,$BO22<3),AND(BJ22>9,OR(BG22=BJ22-2,BG22=BJ22+2),$BL22<3,$BO22<3),AND(BJ22=\"\",BG22>=0,BG22<=30,BJ22=11,$BL22<3,$BO22<3),AND(BJ22=11,0<=BG22<=9,$BL22<3,$BO22<3))","v":false},null,":",{"$f":"OR(AND(BG22>=0,BG22<=9,BJ22=11,$BL22<4,$BO22<4),AND(BG22>9,OR(BJ22=BG22-2,BJ22=BG22+2),$BL22<4,$BO22<4),AND(BG22=11,BJ22>=0,BJ22<=9,$BL22<4,$BO22<4))","v":false},null,{"$f":"AND(FE22,FH22,FJ22,FM22,FO22,FR22,FT22)","v":false},{"$f":"AND(FE22,FH22,FJ22,FM22,FO22,FR22,FT22)","v":false},{"$f":"AND(GE22,FY22)","v":false},{"$f":"AND(GF22,GB22)","v":false}]
[5,null,"gra \npod\nwój.",null,null,null,null,null,null,null,null,null,null,null,null,null,null,null,null,null,"gra \npod\nwój.",null,null,null,null,null,null,null,null,null,null,null,null,null,null,null,null,null,null,null,{"$f":"IF(AM23<>\"\",\":\",\"\")","v":""},null,null,null,null,{"$f":"IF(AR23<>\"\",\":\",\"\")","v":""},null,null,null,null,{"$f":"IF(AW23<>\"\",\":\",\"\")","v":""},null,null,null,null,{"$f":"IF(BB23<>\"\",\":\",\"\")","v":""},null,null,null,null,{"$f":"IF(BG23<>\"\",\":\",\"\")","v":""},null,null,{"$f":"IF(AM23<>\"\",(CB23+CG23+CL23+CQ23+CV23),\"\")","v":""},null,{"$f":"IF(BL23<>\"\",\":\",\"\")","v":""},{"$f":"IF(AM23<>\"\",(CE23+CJ23+CO23+CT23+CY23),\"\")","v":""},null,{"$f":"IF(BW23=TRUE,BX23,\"\")","v":""},null,{"$f":"IF(BQ23<>\"\",\":\",\"\")","v":""},{"$f":"IF(BW23=TRUE,BZ23,\"\")","v":""},null,null,{"$f":"OR(SUM(CB23,CG23,CL23,CQ23,CV23)>2,SUM(CE23,CJ23,CO23,CT23,CY23)>2)","v":false},{"$f":"IF(BW23=TRUE,SUM(DB23,BX30),\"\")","v":""},":",{"$f":"IF(BW23=TRUE,SUM(DE23,BZ30),\"\")","v":""},null,{"$f":"IF((AM23+AP23)=0,0,IF(AND(AM23<>\"\",AP23<>\"\",AM23>AP23)=TRUE,1,0))","v":0},null,":",{"$f":"IF((AM23+AP23)=0,0,IF(AND(AM23<>\"\",AP23<>\"\",AM23<AP23)=TRUE,1,0))","v":0},null,{"$f":"IF((AR23+AU23)=0,0,IF(AND(AR23<>\"\",AU23<>\"\",AR23>AU23)=TRUE,1,0))","v":0},null,":",{"$f":"IF((AR23+AU23)=0,0,IF(AND(AR23<>\"\",AU23<>\"\",AR23<AU23)=TRUE,1,0))","v":0},null,{"$f":"IF((AW23+AZ23)=0,0,IF(AND(AW23<>\"\",AZ23<>\"\",AW23>AZ23)=TRUE,1,0))","v":0},null,":",{"$f":"IF((AW23+AZ23)=0,0,IF(AND(AW23<>\"\",AZ23<>\"\",AW23<AZ23)=TRUE,1,0))","v":0},null,{"$f":"IF((BB23+BE23)=0,0,IF(AND(BB23<>\"\",BE23<>\"\",BB23>BE23)=TRUE,1,0))","v":0},null,":",{"$f":"IF((BB23+BE23)=0,0,IF(AND(BB23<>\"\",BE23<>\"\",BB23<BE23)=TRUE,1,0))","v":0},null,{"$f":"IF((BG23+BJ23)=0,0,IF(AND(BG23<>\"\",BJ23<>\"\",BG23>BJ23)=TRUE,1,0))","v":0},null,":",{"$f":"IF((BG23+BJ23)=0,0,IF(AND(BG23<>\"\",BJ23<>\"\",BG23<BJ23)=TRUE,1,0))","v":0},null,null,{"$f":"IF(SUM(CB23,CG23,CL23,CQ23,CV23)>2,1,IF((CE23+CJ23+CO23+CT23+CY23)>2,0,\"\"))","v":""},null,":",{"$f":"IF(SUM(CB23,CG23,CL23,CQ23,CV23)>2,0,IF((CE23+CJ23+CO23+CT23+CY23)>2,1,\"\"))","v":""},null,{"$f":"OR(BL23>2,BO23>2)","v":true},null,null,null,null,null,null,null,null,null,null,null,null,null,null,null,null,null,null,null,null,null,null,null,null,null,null,null,{"$f":"OR(AND(AM23<=9,AP23=11),AND(AM23>9,OR(AP23=AM23-2,AP23=AM23+2)),AND(AM23=11,AP23<=19))","v":false},null,null,null,null,{"$f":"OR(AND(AR23<=9,AU23=11),AND(AR23>9,OR(AU23=AR23-2,AU23=AR23+2)),AND(AR23=11,AU23<=19))","v":false},null,null,null,null,{"$f":"OR(AND(AW23<=9,AZ23=11),AND(AW23>9,OR(AZ23=AW23-2,AZ23=AW23+2)),AND(AW23=11,AZ23<=19))","v":false},null,null,null,null,{"$f":"OR(AND(BB23<=9,BE23=11),AND(BB23>9,OR(BE23=BB23-2,BE23=BB23+2)),AND(BB23=11,BE23<=19))","v":false},null,null,null,null,{"$f":"OR(AND(BG23<=9,BJ23=11),AND(BG23>9,OR(BJ23=BG23-2,BJ23=BG23+2)),AND(BG23=11,BJ23<=19))","v":false},null,{"$f":"OR(AND(AP23>=0,AM23>=0,$BL23<3,$BO23<3),AND(0<=AM23<=9,AP23=11,$BL23<3,$BO23<3),AND(AM23=11,0<=AP23<=9,$BL23<3,$BO23<3),AND(AP23>9,OR(AM23=AP23-2,AM23=AP23+2),$BL23<3,$BO23<3),AND(AP23=\"\",AM23>=0,AM23<=30,AP23=11,$BL23<3,$BO23<3),AND(AP23=11,0<=AM23<=9,$BL23<3,$BO23<3))","v":false},null,":",{"$f":"OR(AND(AM23>=0,AM23<=9,AP23=11,$BL23<3,$BO23<3),AND(AM23>9,OR(AP23=AM23-2,AP23=AM23+2),$BL23<3,$BO23<3),AND(AM23=11,AP23>=0,AP23<=9,$BL23<3,$BO23<3))","v":false},null,{"$f":"OR(AND(AU23>=0,AR23>=0,$BL23<3,$BO23<3),AND(0<=AR23<=9,AU23=11,$BL23<3,$BO23<3),AND(AR23=11,0<=AU23<=9,$BL23<3,$BO23<3),AND(AU23>9,OR(AR23=AU23-2,AR23=AU23+2),$BL23<3,$BO23<3),AND(AU23=\"\",AR23>=0,AR23<=30,AU23=11,$BL23<3,$BO23<3),AND(AU23=11,0<=AR23<=9,$BL23<3,$BO23<3))","v":false},null,":",{"$f":"OR(AND(AR23>=0,AR23<=9,AU23=11,$BL23<3,$BO23<3),AND(AR23>9,OR(AU23=AR23-2,AU23=AR23+2),$BL23<3,$BO23<3),AND(AR23=11,AU23>=0,AU23<=9,$BL23<3,$BO23<3))","v":false},null,{"$f":"OR(AND(AZ23>=0,AW23>=0,$BL23<3,$BO23<3),AND(0<=AW23<=9,AZ23=11,$BL23<3,$BO23<3),AND(AW23=11,0<=AZ23<=9,$BL23<3,$BO23<3),AND(AZ23>9,OR(AW23=AZ23-2,AW23=AZ23+2),$BL23<3,$BO23<3),AND(AZ23=\"\",AW23>=0,AW23<=30,AZ23=11,$BL23<3,$BO23<3),AND(AZ23=11,0<=AW23<=9,$BL23<3,$BO23<3))","v":false},null,":",{"$f":"OR(AND(AW23>=0,AW23<=9,AZ23=11,$BL23<3,$BO23<3),AND(AW23>9,OR(AZ23=AW23-2,AZ23=AW23+2),$BL23<3,$BO23<3),AND(AW23=11,AZ23>=0,AZ23<=9,$BL23<3,$BO23<3))","v":false},null,{"$f":"OR(AND(BE23>=0,BB23>=0,$BL23<3,$BO23<3),AND(0<=BB23<=9,BE23=11,$BL23<3,$BO23<3),AND(BB23=11,0<=BE23<=9,$BL23<3,$BO23<3),AND(BE23>9,OR(BB23=BE23-2,BB23=BE23+2),$BL23<3,$BO23<3),AND(BE23=\"\",BB23>=0,BB23<=30,BE23=11,$BL23<3,$BO23<3),AND(BE23=11,0<=BB23<=9,$BL23<3,$BO23<3))","v":false},null,":",{"$f":"OR(AND(BB23>=0,BB23<=9,BE23=11,$BL23<4,$BO23<4),AND(BB23>9,OR(BE23=BB23-2,BE23=BB23+2),$BL23<4,$BO23<4),AND(BB23=11,BE23>=0,BE23<=9,$BL23<4,$BO23<4))","v":false},null,{"$f":"OR(AND(BJ23>=0,BG23>=0,$BL23<3,$BO23<3),AND(0<=BG23<=9,BJ23=11,$BL23<3,$BO23<3),AND(BG23=11,0<=BJ23<=9,$BL23<3,$BO23<3),AND(BJ23>9,OR(BG23=BJ23-2,BG23=BJ23+2),$BL23<3,$BO23<3),AND(BJ23=\"\",BG23>=0,BG23<=30,BJ23=11,$BL23<3,$BO23<3),AND(BJ23=11,0<=BG23<=9,$BL23<3,$BO23<3))","v":false},null,":",{"$f":"OR(AND(BG23>=0,BG23<=9,BJ23=11,$BL23<4,$BO23<4),AND(BG23>9,OR(BJ23=BG23-2,BJ23=BG23+2),$BL23<4,$BO23<4),AND(BG23=11,BJ23>=0,BJ23<=9,$BL23<4,$BO23<4))","v":false},null,{"$f":"AND(FE23,FH23,FJ23,FM23,FO23,FR23,FT23)","v":false},{"$f":"AND(FE23,FH23,FJ23,FM23,FO23,FR23,FT23)","v":false},{"$f":"AND(GE23,FY23)","v":false},{"$f":"AND(GF23,GB23)","v":false}]
[]
[7,null,"A",null,null,null,null,null,null,null,null,null,null,null,null,null,null,null,null,null,"Y",null,null,null,null,null,null,null,null,null,null,null,null,null,null,null,null,null,null,null,{"$f":"IF(AM25<>\"\",\":\",\"\")","v":""},null,null,null,null,{"$f":"IF(AR25<>\"\",\":\",\"\")","v":""},null,null,null,null,{"$f":"IF(AW25<>\"\",\":\",\"\")","v":""},null,null,null,null,{"$f":"IF(BB25<>\"\",\":\",\"\")","v":""},null,null,null,null,{"$f":"IF(BG25<>\"\",\":\",\"\")","v":""},null,null,{"$f":"IF(AM25<>\"\",(CB25+CG25+CL25+CQ25+CV25),\"\")","v":""},null,{"$f":"IF(BL25<>\"\",\":\",\"\")","v":""},{"$f":"IF(AM25<>\"\",(CE25+CJ25+CO25+CT25+CY25),\"\")","v":""},null,{"$f":"IF(BW25=TRUE,BX25,\"\")","v":""},null,{"$f":"IF(BQ25<>\"\",\":\",\"\")","v":""},{"$f":"IF(BW25=TRUE,BZ25,\"\")","v":""},null,null,{"$f":"OR(SUM(CB25,CG25,CL25,CQ25,CV25)>2,SUM(CE25,CJ25,CO25,CT25,CY25)>2)","v":false},{"$f":"IF(BW25=TRUE,SUM(DB25,BX31),\"\")","v":""},":",{"$f":"IF(BW25=TRUE,SUM(DE25,BZ31),\"\")","v":""},null,{"$f":"IF((AM25+AP25)=0,0,IF(AND(AM25<>\"\",AP25<>\"\",AM25>AP25)=TRUE,1,0))","v":0},null,":",{"$f":"IF((AM25+AP25)=0,0,IF(AND(AM25<>\"\",AP25<>\"\",AM25<AP25)=TRUE,1,0))","v":0},null,{"$f":"IF((AR25+AU25)=0,0,IF(AND(AR25<>\"\",AU25<>\"\",AR25>AU25)=TRUE,1,0))","v":0},null,":",{"$f":"IF((AR25+AU25)=0,0,IF(AND(AR25<>\"\",AU25<>\"\",AR25<AU25)=TRUE,1,0))","v":0},null,{"$f":"IF((AW25+AZ25)=0,0,IF(AND(AW25<>\"\",AZ25<>\"\",AW25>AZ25)=TRUE,1,0))","v":0},null,":",{"$f":"IF((AW25+AZ25)=0,0,IF(AND(AW25<>\"\",AZ25<>\"\",AW25<AZ25)=TRUE,1,0))","v":0},null,{"$f":"IF((BB25+BE25)=0,0,IF(AND(BB25<>\"\",BE25<>\"\",BB25>BE25)=TRUE,1,0))","v":0},null,":",{"$f":"IF((BB25+BE25)=0,0,IF(AND(BB25<>\"\",BE25<>\"\",BB25<BE25)=TRUE,1,0))","v":0},null,{"$f":"IF((BG25+BJ25)=0,0,IF(AND(BG25<>\"\",BJ25<>\"\",BG25>BJ25)=TRUE,1,0))","v":0},null,":",{"$f":"IF((BG25+BJ25)=0,0,IF(AND(BG25<>\"\",BJ25<>\"\",BG25<BJ25)=TRUE,1,0))","v":0},null,null,{"$f":"IF(SUM(CB25,CG25,CL25,CQ25,CV25)>2,1,IF((CE25+CJ25+CO25+CT25+CY25)>2,0,\"\"))","v":""},null,":",{"$f":"IF(SUM(CB25,CG25,CL25,CQ25,CV25)>2,0,IF((CE25+CJ25+CO25+CT25+CY25)>2,1,\"\"))","v":""},null,{"$f":"OR(BL25>2,BO25>2)","v":true},null,null,null,null,null,null,null,null,null,null,null,null,null,null,null,null,null,null,null,null,null,null,null,null,null,null,null,{"$f":"OR(AND(AM25<=9,AP25=11),AND(AM25>9,OR(AP25=AM25-2,AP25=AM25+2)),AND(AM25=11,AP25<=19))","v":false},null,null,null,null,{"$f":"OR(AND(AR25<=9,AU25=11),AND(AR25>9,OR(AU25=AR25-2,AU25=AR25+2)),AND(AR25=11,AU25<=19))","v":false},null,null,null,null,{"$f":"OR(AND(AW25<=9,AZ25=11),AND(AW25>9,OR(AZ25=AW25-2,AZ25=AW25+2)),AND(AW25=11,AZ25<=19))","v":false},null,null,null,null,{"$f":"OR(AND(BB25<=9,BE25=11),AND(BB25>9,OR(BE25=BB25-2,BE25=BB25+2)),AND(BB25=11,BE25<=19))","v":false},null,null,null,null,{"$f":"OR(AND(BG25<=9,BJ25=11),AND(BG25>9,OR(BJ25=BG25-2,BJ25=BG25+2)),AND(BG25=11,BJ25<=19))","v":false},null,{"$f":"OR(AND(AP25>=0,AM25>=0,$BL25<3,$BO25<3),AND(0<=AM25<=9,AP25=11,$BL25<3,$BO25<3),AND(AM25=11,0<=AP25<=9,$BL25<3,$BO25<3),AND(AP25>9,OR(AM25=AP25-2,AM25=AP25+2),$BL25<3,$BO25<3),AND(AP25=\"\",AM25>=0,AM25<=30,AP25=11,$BL25<3,$BO25<3),AND(AP25=11,0<=AM25<=9,$BL25<3,$BO25<3))","v":false},null,":",{"$f":"OR(AND(AM25>=0,AM25<=9,AP25=11,$BL25<3,$BO25<3),AND(AM25>9,OR(AP25=AM25-2,AP25=AM25+2),$BL25<3,$BO25<3),AND(AM25=11,AP25>=0,AP25<=9,$BL25<3,$BO25<3))","v":false},null,{"$f":"OR(AND(AU25>=0,AR25>=0,$BL25<3,$BO25<3),AND(0<=AR25<=9,AU25=11,$BL25<3,$BO25<3),AND(AR25=11,0<=AU25<=9,$BL25<3,$BO25<3),AND(AU25>9,OR(AR25=AU25-2,AR25=AU25+2),$BL25<3,$BO25<3),AND(AU25=\"\",AR25>=0,AR25<=30,AU25=11,$BL25<3,$BO25<3),AND(AU25=11,0<=AR25<=9,$BL25<3,$BO25<3))","v":false},null,":",{"$f":"OR(AND(AR25>=0,AR25<=9,AU25=11,$BL25<3,$BO25<3),AND(AR25>9,OR(AU25=AR25-2,AU25=AR25+2),$BL25<3,$BO25<3),AND(AR25=11,AU25>=0,AU25<=9,$BL25<3,$BO25<3))","v":false},null,{"$f":"OR(AND(AZ25>=0,AW25>=0,$BL25<3,$BO25<3),AND(0<=AW25<=9,AZ25=11,$BL25<3,$BO25<3),AND(AW25=11,0<=AZ25<=9,$BL25<3,$BO25<3),AND(AZ25>9,OR(AW25=AZ25-2,AW25=AZ25+2),$BL25<3,$BO25<3),AND(AZ25=\"\",AW25>=0,AW25<=30,AZ25=11,$BL25<3,$BO25<3),AND(AZ25=11,0<=AW25<=9,$BL25<3,$BO25<3))","v":false},null,":",{"$f":"OR(AND(AW25>=0,AW25<=9,AZ25=11,$BL25<3,$BO25<3),AND(AW25>9,OR(AZ25=AW25-2,AZ25=AW25+2),$BL25<3,$BO25<3),AND(AW25=11,AZ25>=0,AZ25<=9,$BL25<3,$BO25<3))","v":false},null,{"$f":"OR(AND(BE25>=0,BB25>=0,$BL25<3,$BO25<3),AND(0<=BB25<=9,BE25=11,$BL25<3,$BO25<3),AND(BB25=11,0<=BE25<=9,$BL25<3,$BO25<3),AND(BE25>9,OR(BB25=BE25-2,BB25=BE25+2),$BL25<3,$BO25<3),AND(BE25=\"\",BB25>=0,BB25<=30,BE25=11,$BL25<3,$BO25<3),AND(BE25=11,0<=BB25<=9,$BL25<3,$BO25<3))","v":false},null,":",{"$f":"OR(AND(BB25>=0,BB25<=9,BE25=11,$BL25<4,$BO25<4),AND(BB25>9,OR(BE25=BB25-2,BE25=BB25+2),$BL25<4,$BO25<4),AND(BB25=11,BE25>=0,BE25<=9,$BL25<4,$BO25<4))","v":false},null,{"$f":"OR(AND(BJ25>=0,BG25>=0,$BL25<3,$BO25<3),AND(0<=BG25<=9,BJ25=11,$BL25<3,$BO25<3),AND(BG25=11,0<=BJ25<=9,$BL25<3,$BO25<3),AND(BJ25>9,OR(BG25=BJ25-2,BG25=BJ25+2),$BL25<3,$BO25<3),AND(BJ25=\"\",BG25>=0,BG25<=30,BJ25=11,$BL25<3,$BO25<3),AND(BJ25=11,0<=BG25<=9,$BL25<3,$BO25<3))","v":false},null,":",{"$f":"OR(AND(BG25>=0,BG25<=9,BJ25=11,$BL25<4,$BO25<4),AND(BG25>9,OR(BJ25=BG25-2,BJ25=BG25+2),$BL25<4,$BO25<4),AND(BG25=11,BJ25>=0,BJ25<=9,$BL25<4,$BO25<4))","v":false},null,{"$f":"AND(FE25,FH25,FJ25,FM25,FO25,FR25,FT25)","v":false},{"$f":"AND(FE25,FH25,FJ25,FM25,FO25,FR25,FT25)","v":false},{"$f":"AND(GE25,FY25)","v":false},{"$f":"AND(GF25,GB25)","v":false}]
[9,null,"B",null,null,null,null,null,null,null,null,null,null,null,null,null,null,null,null,null,"X",null,null,null,null,null,null,null,null,null,null,null,null,null,null,null,null,null,null,null,{"$f":"IF(AM26<>\"\",\":\",\"\")","v":""},null,null,null,null,{"$f":"IF(AR26<>\"\",\":\",\"\")","v":""},null,null,null,null,{"$f":"IF(AW26<>\"\",\":\",\"\")","v":""},null,null,null,null,{"$f":"IF(BB26<>\"\",\":\",\"\")","v":""},null,null,null,null,{"$f":"IF(BG26<>\"\",\":\",\"\")","v":""},null,null,{"$f":"IF(AM26<>\"\",(CB26+CG26+CL26+CQ26+CV26),\"\")","v":""},null,{"$f":"IF(BL26<>\"\",\":\",\"\")","v":""},{"$f":"IF(AM26<>\"\",(CE26+CJ26+CO26+CT26+CY26),\"\")","v":""},null,{"$f":"IF(BW26=TRUE,BX26,\"\")","v":""},null,{"$f":"IF(BQ26<>\"\",\":\",\"\")","v":""},{"$f":"IF(BW26=TRUE,BZ26,\"\")","v":""},null,null,{"$f":"OR(SUM(CB26,CG26,CL26,CQ26,CV26)>2,SUM(CE26,CJ26,CO26,CT26,CY26)>2)","v":false},{"$f":"IF(BW26=TRUE,SUM(DB26,BX33),\"\")","v":""},":",{"$f":"IF(BW26=TRUE,SUM(DE26,BZ33),\"\")","v":""},null,{"$f":"IF((AM26+AP26)=0,0,IF(AND(AM26<>\"\",AP26<>\"\",AM26>AP26)=TRUE,1,0))","v":0},null,":",{"$f":"IF((AM26+AP26)=0,0,IF(AND(AM26<>\"\",AP26<>\"\",AM26<AP26)=TRUE,1,0))","v":0},null,{"$f":"IF((AR26+AU26)=0,0,IF(AND(AR26<>\"\",AU26<>\"\",AR26>AU26)=TRUE,1,0))","v":0},null,":",{"$f":"IF((AR26+AU26)=0,0,IF(AND(AR26<>\"\",AU26<>\"\",AR26<AU26)=TRUE,1,0))","v":0},null,{"$f":"IF((AW26+AZ26)=0,0,IF(AND(AW26<>\"\",AZ26<>\"\",AW26>AZ26)=TRUE,1,0))","v":0},null,":",{"$f":"IF((AW26+AZ26)=0,0,IF(AND(AW26<>\"\",AZ26<>\"\",AW26<AZ26)=TRUE,1,0))","v":0},null,{"$f":"IF((BB26+BE26)=0,0,IF(AND(BB26<>\"\",BE26<>\"\",BB26>BE26)=TRUE,1,0))","v":0},null,":",{"$f":"IF((BB26+BE26)=0,0,IF(AND(BB26<>\"\",BE26<>\"\",BB26<BE26)=TRUE,1,0))","v":0},null,{"$f":"IF((BG26+BJ26)=0,0,IF(AND(BG26<>\"\",BJ26<>\"\",BG26>BJ26)=TRUE,1,0))","v":0},null,":",{"$f":"IF((BG26+BJ26)=0,0,IF(AND(BG26<>\"\",BJ26<>\"\",BG26<BJ26)=TRUE,1,0))","v":0},null,null,{"$f":"IF(SUM(CB26,CG26,CL26,CQ26,CV26)>2,1,IF((CE26+CJ26+CO26+CT26+CY26)>2,0,\"\"))","v":""},null,":",{"$f":"IF(SUM(CB26,CG26,CL26,CQ26,CV26)>2,0,IF((CE26+CJ26+CO26+CT26+CY26)>2,1,\"\"))","v":""},null,{"$f":"OR(BL26>2,BO26>2)","v":true},null,null,null,null,null,null,null,null,null,null,null,null,null,null,null,null,null,null,null,null,null,null,null,null,null,null,null,{"$f":"OR(AND(AM26<=9,AP26=11),AND(AM26>9,OR(AP26=AM26-2,AP26=AM26+2)),AND(AM26=11,AP26<=19))","v":false},null,null,null,null,{"$f":"OR(AND(AR26<=9,AU26=11),AND(AR26>9,OR(AU26=AR26-2,AU26=AR26+2)),AND(AR26=11,AU26<=19))","v":false},null,null,null,null,{"$f":"OR(AND(AW26<=9,AZ26=11),AND(AW26>9,OR(AZ26=AW26-2,AZ26=AW26+2)),AND(AW26=11,AZ26<=19))","v":false},null,null,null,null,{"$f":"OR(AND(BB26<=9,BE26=11),AND(BB26>9,OR(BE26=BB26-2,BE26=BB26+2)),AND(BB26=11,BE26<=19))","v":false},null,null,null,null,{"$f":"OR(AND(BG26<=9,BJ26=11),AND(BG26>9,OR(BJ26=BG26-2,BJ26=BG26+2)),AND(BG26=11,BJ26<=19))","v":false},null,{"$f":"OR(AND(AP26>=0,AM26>=0,$BL26<3,$BO26<3),AND(0<=AM26<=9,AP26=11,$BL26<3,$BO26<3),AND(AM26=11,0<=AP26<=9,$BL26<3,$BO26<3),AND(AP26>9,OR(AM26=AP26-2,AM26=AP26+2),$BL26<3,$BO26<3),AND(AP26=\"\",AM26>=0,AM26<=30,AP26=11,$BL26<3,$BO26<3),AND(AP26=11,0<=AM26<=9,$BL26<3,$BO26<3))","v":false},null,":",{"$f":"OR(AND(AM26>=0,AM26<=9,AP26=11,$BL26<3,$BO26<3),AND(AM26>9,OR(AP26=AM26-2,AP26=AM26+2),$BL26<3,$BO26<3),AND(AM26=11,AP26>=0,AP26<=9,$BL26<3,$BO26<3))","v":false},null,{"$f":"OR(AND(AU26>=0,AR26>=0,$BL26<3,$BO26<3),AND(0<=AR26<=9,AU26=11,$BL26<3,$BO26<3),AND(AR26=11,0<=AU26<=9,$BL26<3,$BO26<3),AND(AU26>9,OR(AR26=AU26-2,AR26=AU26+2),$BL26<3,$BO26<3),AND(AU26=\"\",AR26>=0,AR26<=30,AU26=11,$BL26<3,$BO26<3),AND(AU26=11,0<=AR26<=9,$BL26<3,$BO26<3))","v":false},null,":",{"$f":"OR(AND(AR26>=0,AR26<=9,AU26=11,$BL26<3,$BO26<3),AND(AR26>9,OR(AU26=AR26-2,AU26=AR26+2),$BL26<3,$BO26<3),AND(AR26=11,AU26>=0,AU26<=9,$BL26<3,$BO26<3))","v":false},null,{"$f":"OR(AND(AZ26>=0,AW26>=0,$BL26<3,$BO26<3),AND(0<=AW26<=9,AZ26=11,$BL26<3,$BO26<3),AND(AW26=11,0<=AZ26<=9,$BL26<3,$BO26<3),AND(AZ26>9,OR(AW26=AZ26-2,AW26=AZ26+2),$BL26<3,$BO26<3),AND(AZ26=\"\",AW26>=0,AW26<=30,AZ26=11,$BL26<3,$BO26<3),AND(AZ26=11,0<=AW26<=9,$BL26<3,$BO26<3))","v":false},null,":",{"$f":"OR(AND(AW26>=0,AW26<=9,AZ26=11,$BL26<3,$BO26<3),AND(AW26>9,OR(AZ26=AW26-2,AZ26=AW26+2),$BL26<3,$BO26<3),AND(AW26=11,AZ26>=0,AZ26<=9,$BL26<3,$BO26<3))","v":false},null,{"$f":"OR(AND(BE26>=0,BB26>=0,$BL26<3,$BO26<3),AND(0<=BB26<=9,BE26=11,$BL26<3,$BO26<3),AND(BB26=11,0<=BE26<=9,$BL26<3,$BO26<3),AND(BE26>9,OR(BB26=BE26-2,BB26=BE26+2),$BL26<3,$BO26<3),AND(BE26=\"\",BB26>=0,BB26<=30,BE26=11,$BL26<3,$BO26<3),AND(BE26=11,0<=BB26<=9,$BL26<3,$BO26<3))","v":false},null,":",{"$f":"OR(AND(BB26>=0,BB26<=9,BE26=11,$BL26<4,$BO26<4),AND(BB26>9,OR(BE26=BB26-2,BE26=BB26+2),$BL26<4,$BO26<4),AND(BB26=11,BE26>=0,BE26<=9,$BL26<4,$BO26<4))","v":false},null,{"$f":"OR(AND(BJ26>=0,BG26>=0,$BL26<3,$BO26<3),AND(0<=BG26<=9,BJ26=11,$BL26<3,$BO26<3),AND(BG26=11,0<=BJ26<=9,$BL26<3,$BO26<3),AND(BJ26>9,OR(BG26=BJ26-2,BG26=BJ26+2),$BL26<3,$BO26<3),AND(BJ26=\"\",BG26>=0,BG26<=30,BJ26=11,$BL26<3,$BO26<3),AND(BJ26=11,0<=BG26<=9,$BL26<3,$BO26<3))","v":false},null,":",{"$f":"OR(AND(BG26>=0,BG26<=9,BJ26=11,$BL26<4,$BO26<4),AND(BG26>9,OR(BJ26=BG26-2,BJ26=BG26+2),$BL26<4,$BO26<4),AND(BG26=11,BJ26>=0,BJ26<=9,$BL26<4,$BO26<4))","v":false},null,{"$f":"AND(FE26,FH26,FJ26,FM26,FO26,FR26,FT26)","v":false},{"$f":"AND(FE26,FH26,FJ26,FM26,FO26,FR26,FT26)","v":false},{"$f":"AND(GE26,FY26)","v":false},{"$f":"AND(GF26,GB26)","v":false}]
[]
["Stół 2",null,null,null,null,"Nazwisko Imię",null,null,null,null,null,null,null,null,null,null,"S\n(P/O)",null,"T\n(1-5)",null,null,null,"Nazwisko Imię",null,null,null,null,null,null,null,null,null,null,null,"S\n(P/O)",null,"T\n(1-5)",null,"I \nSET",null,null,null,null,"II \nSET",null,null,null,null,"III \nSET",null,null,null,null,"IV \nSET",null,null,null,null,"V \nSET",null,null,null,null,"Sety",null,null,null,null,"Wynik",null,null,null,null,null,null,null,null,null,null,"I SET",null,null,null,null,"II SET",null,null,null,null,"III SET",null,null,null,null,"IV SET",null,null,null,null,"V SET",null,null,null,null,null,"Punkty",null,null,null,null,null,null,null,null,null,null,null,null,null,null,null,null,null,null,null,null,null,null,null,null,null,null,null,null,null,null,null,null,null,"II \nSET",null,null,null,null,"III \nSET",null,null,null,null,"IV \nSET",null,null,null,null,"V \nSET"]
[2,null,"C",null,{"$f":"D15","v":0},null,null,null,null,null,null,null,null,null,null,null,null,null,null,null,"W",null,{"$f":"AO15","v":0},null,null,null,null,null,null,null,null,null,null,null,null,null,null,null,null,null,{"$f":"IF(AM29<>\"\",\":\",\"\")","v":""},null,null,null,null,{"$f":"IF(AR29<>\"\",\":\",\"\")","v":""},null,null,null,null,{"$f":"IF(AW29<>\"\",\":\",\"\")","v":""},null,null,null,null,{"$f":"IF(BB29<>\"\",\":\",\"\")","v":""},null,null,null,null,{"$f":"IF(BG29<>\"\",\":\",\"\")","v":""},null,null,{"$f":"IF(AM29<>\"\",(CB29+CG29+CL29+CQ29+CV29),\"\")","v":""},null,{"$f":"IF(BL29<>\"\",\":\",\"\")","v":""},{"$f":"IF(AM29<>\"\",(CE29+CJ29+CO29+CT29+CY29),\"\")","v":""},null,{"$f":"IF(BQ21=\"\",\"\",IF(BW29=TRUE,BX29,\"\"))","v":""},null,{"$f":"IF(BS21=\"\",\"\",IF(BQ29<>\"\",\":\",\"\"))","v":""},{"$f":"IF(BT21=\"\",\"\",IF(BW29=TRUE,BZ29,\"\"))","v":""},null,null,{"$f":"OR(SUM(CB29,CG29,CL29,CQ29,CV29)>2,SUM(CE29,CJ29,CO29,CT29,CY29)>2)","v":false},{"$f":"IF(BW29=TRUE,SUM(DB29,BX21),\"\")","v":""},":",{"$f":"IF(BW29=TRUE,SUM(DE29,BZ21),\"\")","v":""},null,{"$f":"IF((AM29+AP29)=0,0,IF(AND(AM29<>\"\",AP29<>\"\",AM29>AP29)=TRUE,1,0))","v":0},null,":",{"$f":"IF((AM29+AP29)=0,0,IF(AND(AM29<>\"\",AP29<>\"\",AM29<AP29)=TRUE,1,0))","v":0},null,{"$f":"IF((AR29+AU29)=0,0,IF(AND(AR29<>\"\",AU29<>\"\",AR29>AU29)=TRUE,1,0))","v":0},null,":",{"$f":"IF((AR29+AU29)=0,0,IF(AND(AR29<>\"\",AU29<>\"\",AR29<AU29)=TRUE,1,0))","v":0},null,{"$f":"IF((AW29+AZ29)=0,0,IF(AND(AW29<>\"\",AZ29<>\"\",AW29>AZ29)=TRUE,1,0))","v":0},null,":",{"$f":"IF((AW29+AZ29)=0,0,IF(AND(AW29<>\"\",AZ29<>\"\",AW29<AZ29)=TRUE,1,0))","v":0},null,{"$f":"IF((BB29+BE29)=0,0,IF(AND(BB29<>\"\",BE29<>\"\",BB29>BE29)=TRUE,1,0))","v":0},null,":",{"$f":"IF((BB29+BE29)=0,0,IF(AND(BB29<>\"\",BE29<>\"\",BB29<BE29)=TRUE,1,0))","v":0},null,{"$f":"IF((BG29+BJ29)=0,0,IF(AND(BG29<>\"\",BJ29<>\"\",BG29>BJ29)=TRUE,1,0))","v":0},null,":",{"$f":"IF((BG29+BJ29)=0,0,IF(AND(BG29<>\"\",BJ29<>\"\",BG29<BJ29)=TRUE,1,0))","v":0},null,null,{"$f":"IF(SUM(CB29,CG29,CL29,CQ29,CV29)>2,1,IF((CE29+CJ29+CO29+CT29+CY29)>2,0,\"\"))","v":""},null,":",{"$f":"IF(SUM(CB29,CG29,CL29,CQ29,CV29)>2,0,IF((CE29+CJ29+CO29+CT29+CY29)>2,1,\"\"))","v":""},null,{"$f":"OR(BL29>2,BO29>2)","v":true},null,null,null,null,null,null,null,null,null,null,null,null,null,null,null,null,null,null,null,null,null,null,null,null,null,null,null,{"$f":"OR(AND(AM29<=9,AP29=11),AND(AM29>9,OR(AP29=AM29-2,AP29=AM29+2)),AND(AM29=11,AP29<=19))","v":false},null,null,null,null,{"$f":"OR(AND(AR29<=9,AU29=11),AND(AR29>9,OR(AU29=AR29-2,AU29=AR29+2)),AND(AR29=11,AU29<=19))","v":false},null,null,null,null,{"$f":"OR(AND(AW29<=9,AZ29=11),AND(AW29>9,OR(AZ29=AW29-2,AZ29=AW29+2)),AND(AW29=11,AZ29<=19))","v":false},null,null,null,null,{"$f":"OR(AND(BB29<=9,BE29=11),AND(BB29>9,OR(BE29=BB29-2,BE29=BB29+2)),AND(BB29=11,BE29<=19))","v":false},null,null,null,null,{"$f":"OR(AND(BG29<=9,BJ29=11),AND(BG29>9,OR(BJ29=BG29-2,BJ29=BG29+2)),AND(BG29=11,BJ29<=19))","v":false},null,{"$f":"OR(AND(AP29>=0,AM29>=0,$BL29<3,$BO29<3),AND(0<=AM29<=9,AP29=11,$BL29<3,$BO29<3),AND(AM29=11,0<=AP29<=9,$BL29<3,$BO29<3),AND(AP29>9,OR(AM29=AP29-2,AM29=AP29+2),$BL29<3,$BO29<3),AND(AP29=\"\",AM29>=0,AM29<=30,AP29=11,$BL29<3,$BO29<3),AND(AP29=11,0<=AM29<=9,$BL29<3,$BO29<3))","v":false},null,":",{"$f":"OR(AND(AM29>=0,AM29<=9,AP29=11,$BL29<3,$BO29<3),AND(AM29>9,OR(AP29=AM29-2,AP29=AM29+2),$BL29<3,$BO29<3),AND(AM29=11,AP29>=0,AP29<=9,$BL29<3,$BO29<3))","v":false},null,{"$f":"OR(AND(AU29>=0,AR29>=0,$BL29<3,$BO29<3),AND(0<=AR29<=9,AU29=11,$BL29<3,$BO29<3),AND(AR29=11,0<=AU29<=9,$BL29<3,$BO29<3),AND(AU29>9,OR(AR29=AU29-2,AR29=AU29+2),$BL29<3,$BO29<3),AND(AU29=\"\",AR29>=0,AR29<=30,AU29=11,$BL29<3,$BO29<3),AND(AU29=11,0<=AR29<=9,$BL29<3,$BO29<3))","v":false},null,":",{"$f":"OR(AND(AR29>=0,AR29<=9,AU29=11,$BL29<3,$BO29<3),AND(AR29>9,OR(AU29=AR29-2,AU29=AR29+2),$BL29<3,$BO29<3),AND(AR29=11,AU29>=0,AU29<=9,$BL29<3,$BO29<3))","v":false},null,{"$f":"OR(AND(AZ29>=0,AW29>=0,$BL29<3,$BO29<3),AND(0<=AW29<=9,AZ29=11,$BL29<3,$BO29<3),AND(AW29=11,0<=AZ29<=9,$BL29<3,$BO29<3),AND(AZ29>9,OR(AW29=AZ29-2,AW29=AZ29+2),$BL29<3,$BO29<3),AND(AZ29=\"\",AW29>=0,AW29<=30,AZ29=11,$BL29<3,$BO29<3),AND(AZ29=11,0<=AW29<=9,$BL29<3,$BO29<3))","v":false},null,":",{"$f":"OR(AND(AW29>=0,AW29<=9,AZ29=11,$BL29<3,$BO29<3),AND(AW29>9,OR(AZ29=AW29-2,AZ29=AW29+2),$BL29<3,$BO29<3),AND(AW29=11,AZ29>=0,AZ29<=9,$BL29<3,$BO29<3))","v":false},null,{"$f":"OR(AND(BE29>=0,BB29>=0,$BL29<3,$BO29<3),AND(0<=BB29<=9,BE29=11,$BL29<3,$BO29<3),AND(BB29=11,0<=BE29<=9,$BL29<3,$BO29<3),AND(BE29>9,OR(BB29=BE29-2,BB29=BE29+2),$BL29<3,$BO29<3),AND(BE29=\"\",BB29>=0,BB29<=30,BE29=11,$BL29<3,$BO29<3),AND(BE29=11,0<=BB29<=9,$BL29<3,$BO29<3))","v":false},null,":",{"$f":"OR(AND(BB29>=0,BB29<=9,BE29=11,$BL29<4,$BO29<4),AND(BB29>9,OR(BE29=BB29-2,BE29=BB29+2),$BL29<4,$BO29<4),AND(BB29=11,BE29>=0,BE29<=9,$BL29<4,$BO29<4))","v":false},null,{"$f":"OR(AND(BJ29>=0,BG29>=0,$BL29<3,$BO29<3),AND(0<=BG29<=9,BJ29=11,$BL29<3,$BO29<3),AND(BG29=11,0<=BJ29<=9,$BL29<3,$BO29<3),AND(BJ29>9,OR(BG29=BJ29-2,BG29=BJ29+2),$BL29<3,$BO29<3),AND(BJ29=\"\",BG29>=0,BG29<=30,BJ29=11,$BL29<3,$BO29<3),AND(BJ29=11,0<=BG29<=9,$BL29<3,$BO29<3))","v":false},null,":",{"$f":"OR(AND(BG29>=0,BG29<=9,BJ29=11,$BL29<4,$BO29<4),AND(BG29>9,OR(BJ29=BG29-2,BJ29=BG29+2),$BL29<4,$BO29<4),AND(BG29=11,BJ29>=0,BJ29<=9,$BL29<4,$BO29<4))","v":false},null,{"$f":"AND(FE29,FH29,FJ29,FM29,FO29,FR29,FT29)","v":false},{"$f":"AND(FE29,FH29,FJ29,FM29,FO29,FR29,FT29)","v":false},{"$f":"AND(GE29,FY29)","v":false},{"$f":"AND(GF29,GB29)","v":false}]
[4,null,"D",null,{"$f":"D16","v":0},null,null,null,null,null,null,null,null,null,null,null,null,null,null,null,"Z",null,{"$f":"AO16","v":0},null,null,null,null,null,null,null,null,null,null,null,null,null,null,null,null,null,{"$f":"IF(AM30<>\"\",\":\",\"\")","v":""},null,null,null,null,{"$f":"IF(AR30<>\"\",\":\",\"\")","v":""},null,null,null,null,{"$f":"IF(AW30<>\"\",\":\",\"\")","v":""},null,null,null,null,{"$f":"IF(BB30<>\"\",\":\",\"\")","v":""},null,null,null,null,{"$f":"IF(BG30<>\"\",\":\",\"\")","v":""},null,null,{"$f":"IF(AM30<>\"\",(CB30+CG30+CL30+CQ30+CV30),\"\")","v":""},null,{"$f":"IF(BL30<>\"\",\":\",\"\")","v":""},{"$f":"IF(AM30<>\"\",(CE30+CJ30+CO30+CT30+CY30),\"\")","v":""},null,{"$f":"IF(BQ22=\"\",\"\",IF(BW30=TRUE,BX30,\"\"))","v":""},null,{"$f":"IF(BS22=\"\",\"\",IF(BQ30<>\"\",\":\",\"\"))","v":""},{"$f":"IF(BT22=\"\",\"\",IF(BW30=TRUE,BZ30,\"\"))","v":""},null,null,{"$f":"OR(SUM(CB30,CG30,CL30,CQ30,CV30)>2,SUM(CE30,CJ30,CO30,CT30,CY30)>2)","v":false},{"$f":"IF(BW30=TRUE,SUM(DB30,BX22),\"\")","v":""},":",{"$f":"IF(BW30=TRUE,SUM(DE30,BZ22),\"\")","v":""},null,{"$f":"IF((AM30+AP30)=0,0,IF(AND(AM30<>\"\",AP30<>\"\",AM30>AP30)=TRUE,1,0))","v":0},null,":",{"$f":"IF((AM30+AP30)=0,0,IF(AND(AM30<>\"\",AP30<>\"\",AM30<AP30)=TRUE,1,0))","v":0},null,{"$f":"IF((AR30+AU30)=0,0,IF(AND(AR30<>\"\",AU30<>\"\",AR30>AU30)=TRUE,1,0))","v":0},null,":",{"$f":"IF((AR30+AU30)=0,0,IF(AND(AR30<>\"\",AU30<>\"\",AR30<AU30)=TRUE,1,0))","v":0},null,{"$f":"IF((AW30+AZ30)=0,0,IF(AND(AW30<>\"\",AZ30<>\"\",AW30>AZ30)=TRUE,1,0))","v":0},null,":",{"$f":"IF((AW30+AZ30)=0,0,IF(AND(AW30<>\"\",AZ30<>\"\",AW30<AZ30)=TRUE,1,0))","v":0},null,{"$f":"IF((BB30+BE30)=0,0,IF(AND(BB30<>\"\",BE30<>\"\",BB30>BE30)=TRUE,1,0))","v":0},null,":",{"$f":"IF((BB30+BE30)=0,0,IF(AND(BB30<>\"\",BE30<>\"\",BB30<BE30)=TRUE,1,0))","v":0},null,{"$f":"IF((BG30+BJ30)=0,0,IF(AND(BG30<>\"\",BJ30<>\"\",BG30>BJ30)=TRUE,1,0))","v":0},null,":",{"$f":"IF((BG30+BJ30)=0,0,IF(AND(BG30<>\"\",BJ30<>\"\",BG30<BJ30)=TRUE,1,0))","v":0},null,null,{"$f":"IF(SUM(CB30,CG30,CL30,CQ30,CV30)>2,1,IF((CE30+CJ30+CO30+CT30+CY30)>2,0,\"\"))","v":""},null,":",{"$f":"IF(SUM(CB30,CG30,CL30,CQ30,CV30)>2,0,IF((CE30+CJ30+CO30+CT30+CY30)>2,1,\"\"))","v":""},null,{"$f":"OR(BL30>2,BO30>2)","v":true},null,null,null,null,null,null,null,null,null,null,null,null,null,null,null,null,null,null,null,null,null,null,null,null,null,null,null,{"$f":"OR(AND(AM30<=9,AP30=11),AND(AM30>9,OR(AP30=AM30-2,AP30=AM30+2)),AND(AM30=11,AP30<=19))","v":false},null,null,null,null,{"$f":"OR(AND(AR30<=9,AU30=11),AND(AR30>9,OR(AU30=AR30-2,AU30=AR30+2)),AND(AR30=11,AU30<=19))","v":false},null,null,null,null,{"$f":"OR(AND(AW30<=9,AZ30=11),AND(AW30>9,OR(AZ30=AW30-2,AZ30=AW30+2)),AND(AW30=11,AZ30<=19))","v":false},null,null,null,null,{"$f":"OR(AND(BB30<=9,BE30=11),AND(BB30>9,OR(BE30=BB30-2,BE30=BB30+2)),AND(BB30=11,BE30<=19))","v":false},null,null,null,null,{"$f":"OR(AND(BG30<=9,BJ30=11),AND(BG30>9,OR(BJ30=BG30-2,BJ30=BG30+2)),AND(BG30=11,BJ30<=19))","v":false},null,{"$f":"OR(AND(AP30>=0,AM30>=0,$BL30<3,$BO30<3),AND(0<=AM30<=9,AP30=11,$BL30<3,$BO30<3),AND(AM30=11,0<=AP30<=9,$BL30<3,$BO30<3),AND(AP30>9,OR(AM30=AP30-2,AM30=AP30+2),$BL30<3,$BO30<3),AND(AP30=\"\",AM30>=0,AM30<=30,AP30=11,$BL30<3,$BO30<3),AND(AP30=11,0<=AM30<=9,$BL30<3,$BO30<3))","v":false},null,":",{"$f":"OR(AND(AM30>=0,AM30<=9,AP30=11,$BL30<3,$BO30<3),AND(AM30>9,OR(AP30=AM30-2,AP30=AM30+2),$BL30<3,$BO30<3),AND(AM30=11,AP30>=0,AP30<=9,$BL30<3,$BO30<3))","v":false},null,{"$f":"OR(AND(AU30>=0,AR30>=0,$BL30<3,$BO30<3),AND(0<=AR30<=9,AU30=11,$BL30<3,$BO30<3),AND(AR30=11,0<=AU30<=9,$BL30<3,$BO30<3),AND(AU30>9,OR(AR30=AU30-2,AR30=AU30+2),$BL30<3,$BO30<3),AND(AU30=\"\",AR30>=0,AR30<=30,AU30=11,$BL30<3,$BO30<3),AND(AU30=11,0<=AR30<=9,$BL30<3,$BO30<3))","v":false},null,":",{"$f":"OR(AND(AR30>=0,AR30<=9,AU30=11,$BL30<3,$BO30<3),AND(AR30>9,OR(AU30=AR30-2,AU30=AR30+2),$BL30<3,$BO30<3),AND(AR30=11,AU30>=0,AU30<=9,$BL30<3,$BO30<3))","v":false},null,{"$f":"OR(AND(AZ30>=0,AW30>=0,$BL30<3,$BO30<3),AND(0<=AW30<=9,AZ30=11,$BL30<3,$BO30<3),AND(AW30=11,0<=AZ30<=9,$BL30<3,$BO30<3),AND(AZ30>9,OR(AW30=AZ30-2,AW30=AZ30+2),$BL30<3,$BO30<3),AND(AZ30=\"\",AW30>=0,AW30<=30,AZ30=11,$BL30<3,$BO30<3),AND(AZ30=11,0<=AW30<=9,$BL30<3,$BO30<3))","v":false},null,":",{"$f":"OR(AND(AW30>=0,AW30<=9,AZ30=11,$BL30<3,$BO30<3),AND(AW30>9,OR(AZ30=AW30-2,AZ30=AW30+2),$BL30<3,$BO30<3),AND(AW30=11,AZ30>=0,AZ30<=9,$BL30<3,$BO30<3))","v":false},null,{"$f":"OR(AND(BE30>=0,BB30>=0,$BL30<3,$BO30<3),AND(0<=BB30<=9,BE30=11,$BL30<3,$BO30<3),AND(BB30=11,0<=BE30<=9,$BL30<3,$BO30<3),AND(BE30>9,OR(BB30=BE30-2,BB30=BE30+2),$BL30<3,$BO30<3),AND(BE30=\"\",BB30>=0,BB30<=30,BE30=11,$BL30<3,$BO30<3),AND(BE30=11,0<=BB30<=9,$BL30<3,$BO30<3))","v":false},null,":",{"$f":"OR(AND(BB30>=0,BB30<=9,BE30=11,$BL30<4,$BO30<4),AND(BB30>9,OR(BE30=BB30-2,BE30=BB30+2),$BL30<4,$BO30<4),AND(BB30=11,BE30>=0,BE30<=9,$BL30<4,$BO30<4))","v":false},null,{"$f":"OR(AND(BJ30>=0,BG30>=0,$BL30<3,$BO30<3),AND(0<=BG30<=9,BJ30=11,$BL30<3,$BO30<3),AND(BG30=11,0<=BJ30<=9,$BL30<3,$BO30<3),AND(BJ30>9,OR(BG30=BJ30-2,BG30=BJ30+2),$BL30<3,$BO30<3),AND(BJ30=\"\",BG30>=0,BG30<=30,BJ30=11,$BL30<3,$BO30<3),AND(BJ30=11,0<=BG30<=9,$BL30<3,$BO30<3))","v":false},null,":",{"$f":"OR(AND(BG30>=0,BG30<=9,BJ30=11,$BL30<4,$BO30<4),AND(BG30>9,OR(BJ30=BG30-2,BJ30=BG30+2),$BL30<4,$BO30<4),AND(BG30=11,BJ30>=0,BJ30<=9,$BL30<4,$BO30<4))","v":false},null,{"$f":"AND(FE30,FH30,FJ30,FM30,FO30,FR30,FT30)","v":false},{"$f":"AND(FE30,FH30,FJ30,FM30,FO30,FR30,FT30)","v":false},{"$f":"AND(GE30,FY30)","v":false},{"$f":"AND(GF30,GB30)","v":false}]
[6,null,"gra \npod\nwój.",null,null,null,null,null,null,null,null,null,null,null,null,null,null,null,null,null,"gra \npod\nwój.",null,null,null,null,null,null,null,null,null,null,null,null,null,null,null,null,null,null,null,{"$f":"IF(AM31<>\"\",\":\",\"\")","v":""},null,null,null,null,{"$f":"IF(AR31<>\"\",\":\",\"\")","v":""},null,null,null,null,{"$f":"IF(AW31<>\"\",\":\",\"\")","v":""},null,null,null,null,{"$f":"IF(BB31<>\"\",\":\",\"\")","v":""},null,null,null,null,{"$f":"IF(BG31<>\"\",\":\",\"\")","v":""},null,null,{"$f":"IF(AM31<>\"\",(CB31+CG31+CL31+CQ31+CV31),\"\")","v":""},null,{"$f":"IF(BL31<>\"\",\":\",\"\")","v":""},{"$f":"IF(AM31<>\"\",(CE31+CJ31+CO31+CT31+CY31),\"\")","v":""},null,{"$f":"IF(BQ23=\"\",\"\",IF(BW31=TRUE,BX31,\"\"))","v":""},null,{"$f":"IF(BS23=\"\",\"\",IF(BQ31<>\"\",\":\",\"\"))","v":""},{"$f":"IF(BT23=\"\",\"\",IF(BW31=TRUE,BZ31,\"\"))","v":""},null,null,{"$f":"OR(SUM(CB31,CG31,CL31,CQ31,CV31)>2,SUM(CE31,CJ31,CO31,CT31,CY31)>2)","v":false},{"$f":"IF(BW31=TRUE,SUM(DB31,BX23),\"\")","v":""},":",{"$f":"IF(BW31=TRUE,SUM(DE31,BZ23),\"\")","v":""},null,{"$f":"IF((AM31+AP31)=0,0,IF(AND(AM31<>\"\",AP31<>\"\",AM31>AP31)=TRUE,1,0))","v":0},null,":",{"$f":"IF((AM31+AP31)=0,0,IF(AND(AM31<>\"\",AP31<>\"\",AM31<AP31)=TRUE,1,0))","v":0},null,{"$f":"IF((AR31+AU31)=0,0,IF(AND(AR31<>\"\",AU31<>\"\",AR31>AU31)=TRUE,1,0))","v":0},null,":",{"$f":"IF((AR31+AU31)=0,0,IF(AND(AR31<>\"\",AU31<>\"\",AR31<AU31)=TRUE,1,0))","v":0},null,{"$f":"IF((AW31+AZ31)=0,0,IF(AND(AW31<>\"\",AZ31<>\"\",AW31>AZ31)=TRUE,1,0))","v":0},null,":",{"$f":"IF((AW31+AZ31)=0,0,IF(AND(AW31<>\"\",AZ31<>\"\",AW31<AZ31)=TRUE,1,0))","v":0},null,{"$f":"IF((BB31+BE31)=0,0,IF(AND(BB31<>\"\",BE31<>\"\",BB31>BE31)=TRUE,1,0))","v":0},null,":",{"$f":"IF((BB31+BE31)=0,0,IF(AND(BB31<>\"\",BE31<>\"\",BB31<BE31)=TRUE,1,0))","v":0},null,{"$f":"IF((BG31+BJ31)=0,0,IF(AND(BG31<>\"\",BJ31<>\"\",BG31>BJ31)=TRUE,1,0))","v":0},null,":",{"$f":"IF((BG31+BJ31)=0,0,IF(AND(BG31<>\"\",BJ31<>\"\",BG31<BJ31)=TRUE,1,0))","v":0},null,null,{"$f":"IF(SUM(CB31,CG31,CL31,CQ31,CV31)>2,1,IF((CE31+CJ31+CO31+CT31+CY31)>2,0,\"\"))","v":""},null,":",{"$f":"IF(SUM(CB31,CG31,CL31,CQ31,CV31)>2,0,IF((CE31+CJ31+CO31+CT31+CY31)>2,1,\"\"))","v":""},null,{"$f":"OR(BL31>2,BO31>2)","v":true},null,null,null,null,null,null,null,null,null,null,null,null,null,null,null,null,null,null,null,null,null,null,null,null,null,null,null,{"$f":"OR(AND(AM31<=9,AP31=11),AND(AM31>9,OR(AP31=AM31-2,AP31=AM31+2)),AND(AM31=11,AP31<=19))","v":false},null,null,null,null,{"$f":"OR(AND(AR31<=9,AU31=11),AND(AR31>9,OR(AU31=AR31-2,AU31=AR31+2)),AND(AR31=11,AU31<=19))","v":false},null,null,null,null,{"$f":"OR(AND(AW31<=9,AZ31=11),AND(AW31>9,OR(AZ31=AW31-2,AZ31=AW31+2)),AND(AW31=11,AZ31<=19))","v":false},null,null,null,null,{"$f":"OR(AND(BB31<=9,BE31=11),AND(BB31>9,OR(BE31=BB31-2,BE31=BB31+2)),AND(BB31=11,BE31<=19))","v":false},null,null,null,null,{"$f":"OR(AND(BG31<=9,BJ31=11),AND(BG31>9,OR(BJ31=BG31-2,BJ31=BG31+2)),AND(BG31=11,BJ31<=19))","v":false},null,{"$f":"OR(AND(AP31>=0,AM31>=0,$BL31<3,$BO31<3),AND(0<=AM31<=9,AP31=11,$BL31<3,$BO31<3),AND(AM31=11,0<=AP31<=9,$BL31<3,$BO31<3),AND(AP31>9,OR(AM31=AP31-2,AM31=AP31+2),$BL31<3,$BO31<3),AND(AP31=\"\",AM31>=0,AM31<=30,AP31=11,$BL31<3,$BO31<3),AND(AP31=11,0<=AM31<=9,$BL31<3,$BO31<3))","v":false},null,":",{"$f":"OR(AND(AM31>=0,AM31<=9,AP31=11,$BL31<3,$BO31<3),AND(AM31>9,OR(AP31=AM31-2,AP31=AM31+2),$BL31<3,$BO31<3),AND(AM31=11,AP31>=0,AP31<=9,$BL31<3,$BO31<3))","v":false},null,{"$f":"OR(AND(AU31>=0,AR31>=0,$BL31<3,$BO31<3),AND(0<=AR31<=9,AU31=11,$BL31<3,$BO31<3),AND(AR31=11,0<=AU31<=9,$BL31<3,$BO31<3),AND(AU31>9,OR(AR31=AU31-2,AR31=AU31+2),$BL31<3,$BO31<3),AND(AU31=\"\",AR31>=0,AR31<=30,AU31=11,$BL31<3,$BO31<3),AND(AU31=11,0<=AR31<=9,$BL31<3,$BO31<3))","v":false},null,":",{"$f":"OR(AND(AR31>=0,AR31<=9,AU31=11,$BL31<3,$BO31<3),AND(AR31>9,OR(AU31=AR31-2,AU31=AR31+2),$BL31<3,$BO31<3),AND(AR31=11,AU31>=0,AU31<=9,$BL31<3,$BO31<3))","v":false},null,{"$f":"OR(AND(AZ31>=0,AW31>=0,$BL31<3,$BO31<3),AND(0<=AW31<=9,AZ31=11,$BL31<3,$BO31<3),AND(AW31=11,0<=AZ31<=9,$BL31<3,$BO31<3),AND(AZ31>9,OR(AW31=AZ31-2,AW31=AZ31+2),$BL31<3,$BO31<3),AND(AZ31=\"\",AW31>=0,AW31<=30,AZ31=11,$BL31<3,$BO31<3),AND(AZ31=11,0<=AW31<=9,$BL31<3,$BO31<3))","v":false},null,":",{"$f":"OR(AND(AW31>=0,AW31<=9,AZ31=11,$BL31<3,$BO31<3),AND(AW31>9,OR(AZ31=AW31-2,AZ31=AW31+2),$BL31<3,$BO31<3),AND(AW31=11,AZ31>=0,AZ31<=9,$BL31<3,$BO31<3))","v":false},null,{"$f":"OR(AND(BE31>=0,BB31>=0,$BL31<3,$BO31<3),AND(0<=BB31<=9,BE31=11,$BL31<3,$BO31<3),AND(BB31=11,0<=BE31<=9,$BL31<3,$BO31<3),AND(BE31>9,OR(BB31=BE31-2,BB31=BE31+2),$BL31<3,$BO31<3),AND(BE31=\"\",BB31>=0,BB31<=30,BE31=11,$BL31<3,$BO31<3),AND(BE31=11,0<=BB31<=9,$BL31<3,$BO31<3))","v":false},null,":",{"$f":"OR(AND(BB31>=0,BB31<=9,BE31=11,$BL31<4,$BO31<4),AND(BB31>9,OR(BE31=BB31-2,BE31=BB31+2),$BL31<4,$BO31<4),AND(BB31=11,BE31>=0,BE31<=9,$BL31<4,$BO31<4))","v":false},null,{"$f":"OR(AND(BJ31>=0,BG31>=0,$BL31<3,$BO31<3),AND(0<=BG31<=9,BJ31=11,$BL31<3,$BO31<3),AND(BG31=11,0<=BJ31<=9,$BL31<3,$BO31<3),AND(BJ31>9,OR(BG31=BJ31-2,BG31=BJ31+2),$BL31<3,$BO31<3),AND(BJ31=\"\",BG31>=0,BG31<=30,BJ31=11,$BL31<3,$BO31<3),AND(BJ31=11,0<=BG31<=9,$BL31<3,$BO31<3))","v":false},null,":",{"$f":"OR(AND(BG31>=0,BG31<=9,BJ31=11,$BL31<4,$BO31<4),AND(BG31>9,OR(BJ31=BG31-2,BJ31=BG31+2),$BL31<4,$BO31<4),AND(BG31=11,BJ31>=0,BJ31<=9,$BL31<4,$BO31<4))","v":false},null,{"$f":"AND(FE31,FH31,FJ31,FM31,FO31,FR31,FT31)","v":false},{"$f":"AND(FE31,FH31,FJ31,FM31,FO31,FR31,FT31)","v":false},{"$f":"AND(GE31,FY31)","v":false},{"$f":"AND(GF31,GB31)","v":false}]
[]
[8,null,"C",null,null,null,null,null,null,null,null,null,null,null,null,null,null,null,null,null,"Z",null,null,null,null,null,null,null,null,null,null,null,null,null,null,null,null,null,null,null,{"$f":"IF(AM33<>\"\",\":\",\"\")","v":""},null,null,null,null,{"$f":"IF(AR33<>\"\",\":\",\"\")","v":""},null,null,null,null,{"$f":"IF(AW33<>\"\",\":\",\"\")","v":""},null,null,null,null,{"$f":"IF(BB33<>\"\",\":\",\"\")","v":""},null,null,null,null,{"$f":"IF(BG33<>\"\",\":\",\"\")","v":""},null,null,{"$f":"IF(AM33<>\"\",(CB33+CG33+CL33+CQ33+CV33),\"\")","v":""},null,{"$f":"IF(BL33<>\"\",\":\",\"\")","v":""},{"$f":"IF(AM33<>\"\",(CE33+CJ33+CO33+CT33+CY33),\"\")","v":""},null,{"$f":"IF(BQ25=\"\",\"\",IF(BW33=TRUE,BX33,\"\"))","v":""},null,{"$f":"IF(BS25=\"\",\"\",IF(BQ33<>\"\",\":\",\"\"))","v":""},{"$f":"IF(BT25=\"\",\"\",IF(BW33=TRUE,BZ33,\"\"))","v":""},null,null,{"$f":"OR(SUM(CB33,CG33,CL33,CQ33,CV33)>2,SUM(CE33,CJ33,CO33,CT33,CY33)>2)","v":false},{"$f":"IF(BW33=TRUE,SUM(DB33,BX25),\"\")","v":""},":",{"$f":"IF(BW33=TRUE,SUM(DE33,BZ25),\"\")","v":""},null,{"$f":"IF((AM33+AP33)=0,0,IF(AND(AM33<>\"\",AP33<>\"\",AM33>AP33)=TRUE,1,0))","v":0},null,":",{"$f":"IF((AM33+AP33)=0,0,IF(AND(AM33<>\"\",AP33<>\"\",AM33<AP33)=TRUE,1,0))","v":0},null,{"$f":"IF((AR33+AU33)=0,0,IF(AND(AR33<>\"\",AU33<>\"\",AR33>AU33)=TRUE,1,0))","v":0},null,":",{"$f":"IF((AR33+AU33)=0,0,IF(AND(AR33<>\"\",AU33<>\"\",AR33<AU33)=TRUE,1,0))","v":0},null,{"$f":"IF((AW33+AZ33)=0,0,IF(AND(AW33<>\"\",AZ33<>\"\",AW33>AZ33)=TRUE,1,0))","v":0},null,":",{"$f":"IF((AW33+AZ33)=0,0,IF(AND(AW33<>\"\",AZ33<>\"\",AW33<AZ33)=TRUE,1,0))","v":0},null,{"$f":"IF((BB33+BE33)=0,0,IF(AND(BB33<>\"\",BE33<>\"\",BB33>BE33)=TRUE,1,0))","v":0},null,":",{"$f":"IF((BB33+BE33)=0,0,IF(AND(BB33<>\"\",BE33<>\"\",BB33<BE33)=TRUE,1,0))","v":0},null,{"$f":"IF((BG33+BJ33)=0,0,IF(AND(BG33<>\"\",BJ33<>\"\",BG33>BJ33)=TRUE,1,0))","v":0},null,":",{"$f":"IF((BG33+BJ33)=0,0,IF(AND(BG33<>\"\",BJ33<>\"\",BG33<BJ33)=TRUE,1,0))","v":0},null,null,{"$f":"IF(SUM(CB33,CG33,CL33,CQ33,CV33)>2,1,IF((CE33+CJ33+CO33+CT33+CY33)>2,0,\"\"))","v":""},null,":",{"$f":"IF(SUM(CB33,CG33,CL33,CQ33,CV33)>2,0,IF((CE33+CJ33+CO33+CT33+CY33)>2,1,\"\"))","v":""},null,{"$f":"OR(BL33>2,BO33>2)","v":true},null,null,null,null,null,null,null,null,null,null,null,null,null,null,null,null,null,null,null,null,null,null,null,null,null,null,null,{"$f":"OR(AND(AM33<=9,AP33=11),AND(AM33>9,OR(AP33=AM33-2,AP33=AM33+2)),AND(AM33=11,AP33<=19))","v":false},null,null,null,null,{"$f":"OR(AND(AR33<=9,AU33=11),AND(AR33>9,OR(AU33=AR33-2,AU33=AR33+2)),AND(AR33=11,AU33<=19))","v":false},null,null,null,null,{"$f":"OR(AND(AW33<=9,AZ33=11),AND(AW33>9,OR(AZ33=AW33-2,AZ33=AW33+2)),AND(AW33=11,AZ33<=19))","v":false},null,null,null,null,{"$f":"OR(AND(BB33<=9,BE33=11),AND(BB33>9,OR(BE33=BB33-2,BE33=BB33+2)),AND(BB33=11,BE33<=19))","v":false},null,null,null,null,{"$f":"OR(AND(BG33<=9,BJ33=11),AND(BG33>9,OR(BJ33=BG33-2,BJ33=BG33+2)),AND(BG33=11,BJ33<=19))","v":false},null,{"$f":"OR(AND(AP33>=0,AM33>=0,$BL33<3,$BO33<3),AND(0<=AM33<=9,AP33=11,$BL33<3,$BO33<3),AND(AM33=11,0<=AP33<=9,$BL33<3,$BO33<3),AND(AP33>9,OR(AM33=AP33-2,AM33=AP33+2),$BL33<3,$BO33<3),AND(AP33=\"\",AM33>=0,AM33<=30,AP33=11,$BL33<3,$BO33<3),AND(AP33=11,0<=AM33<=9,$BL33<3,$BO33<3))","v":false},null,":",{"$f":"OR(AND(AM33>=0,AM33<=9,AP33=11,$BL33<3,$BO33<3),AND(AM33>9,OR(AP33=AM33-2,AP33=AM33+2),$BL33<3,$BO33<3),AND(AM33=11,AP33>=0,AP33<=9,$BL33<3,$BO33<3))","v":false},null,{"$f":"OR(AND(AU33>=0,AR33>=0,$BL33<3,$BO33<3),AND(0<=AR33<=9,AU33=11,$BL33<3,$BO33<3),AND(AR33=11,0<=AU33<=9,$BL33<3,$BO33<3),AND(AU33>9,OR(AR33=AU33-2,AR33=AU33+2),$BL33<3,$BO33<3),AND(AU33=\"\",AR33>=0,AR33<=30,AU33=11,$BL33<3,$BO33<3),AND(AU33=11,0<=AR33<=9,$BL33<3,$BO33<3))","v":false},null,":",{"$f":"OR(AND(AR33>=0,AR33<=9,AU33=11,$BL33<3,$BO33<3),AND(AR33>9,OR(AU33=AR33-2,AU33=AR33+2),$BL33<3,$BO33<3),AND(AR33=11,AU33>=0,AU33<=9,$BL33<3,$BO33<3))","v":false},null,{"$f":"OR(AND(AZ33>=0,AW33>=0,$BL33<3,$BO33<3),AND(0<=AW33<=9,AZ33=11,$BL33<3,$BO33<3),AND(AW33=11,0<=AZ33<=9,$BL33<3,$BO33<3),AND(AZ33>9,OR(AW33=AZ33-2,AW33=AZ33+2),$BL33<3,$BO33<3),AND(AZ33=\"\",AW33>=0,AW33<=30,AZ33=11,$BL33<3,$BO33<3),AND(AZ33=11,0<=AW33<=9,$BL33<3,$BO33<3))","v":false},null,":",{"$f":"OR(AND(AW33>=0,AW33<=9,AZ33=11,$BL33<3,$BO33<3),AND(AW33>9,OR(AZ33=AW33-2,AZ33=AW33+2),$BL33<3,$BO33<3),AND(AW33=11,AZ33>=0,AZ33<=9,$BL33<3,$BO33<3))","v":false},null,{"$f":"OR(AND(BE33>=0,BB33>=0,$BL33<3,$BO33<3),AND(0<=BB33<=9,BE33=11,$BL33<3,$BO33<3),AND(BB33=11,0<=BE33<=9,$BL33<3,$BO33<3),AND(BE33>9,OR(BB33=BE33-2,BB33=BE33+2),$BL33<3,$BO33<3),AND(BE33=\"\",BB33>=0,BB33<=30,BE33=11,$BL33<3,$BO33<3),AND(BE33=11,0<=BB33<=9,$BL33<3,$BO33<3))","v":false},null,":",{"$f":"OR(AND(BB33>=0,BB33<=9,BE33=11,$BL33<4,$BO33<4),AND(BB33>9,OR(BE33=BB33-2,BE33=BB33+2),$BL33<4,$BO33<4),AND(BB33=11,BE33>=0,BE33<=9,$BL33<4,$BO33<4))","v":false},null,{"$f":"OR(AND(BJ33>=0,BG33>=0,$BL33<3,$BO33<3),AND(0<=BG33<=9,BJ33=11,$BL33<3,$BO33<3),AND(BG33=11,0<=BJ33<=9,$BL33<3,$BO33<3),AND(BJ33>9,OR(BG33=BJ33-2,BG33=BJ33+2),$BL33<3,$BO33<3),AND(BJ33=\"\",BG33>=0,BG33<=30,BJ33=11,$BL33<3,$BO33<3),AND(BJ33=11,0<=BG33<=9,$BL33<3,$BO33<3))","v":false},null,":",{"$f":"OR(AND(BG33>=0,BG33<=9,BJ33=11,$BL33<4,$BO33<4),AND(BG33>9,OR(BJ33=BG33-2,BJ33=BG33+2),$BL33<4,$BO33<4),AND(BG33=11,BJ33>=0,BJ33<=9,$BL33<4,$BO33<4))","v":false},null,{"$f":"AND(FE33,FH33,FJ33,FM33,FO33,FR33,FT33)","v":false},{"$f":"AND(FE33,FH33,FJ33,FM33,FO33,FR33,FT33)","v":false},{"$f":"AND(GE33,FY33)","v":false},{"$f":"AND(GF33,GB33)","v":false}]
[10,null,"D",null,null,null,null,null,null,null,null,null,null,null,null,null,null,null,null,null,"W",null,null,null,null,null,null,null,null,null,null,null,null,null,null,null,null,null,null,null,{"$f":"IF(AM34<>\"\",\":\",\"\")","v":""},null,null,null,null,{"$f":"IF(AR34<>\"\",\":\",\"\")","v":""},null,null,null,null,{"$f":"IF(AW34<>\"\",\":\",\"\")","v":""},null,null,null,null,{"$f":"IF(BB34<>\"\",\":\",\"\")","v":""},null,null,null,null,{"$f":"IF(BG34<>\"\",\":\",\"\")","v":""},null,null,{"$f":"IF(AM34<>\"\",(CB34+CG34+CL34+CQ34+CV34),\"\")","v":""},null,{"$f":"IF(BL34<>\"\",\":\",\"\")","v":""},{"$f":"IF(AM34<>\"\",(CE34+CJ34+CO34+CT34+CY34),\"\")","v":""},null,{"$f":"IF(BQ26=\"\",\"\",IF(BW34=TRUE,BX34,\"\"))","v":""},null,{"$f":"IF(BS26=\"\",\"\",IF(BQ34<>\"\",\":\",\"\"))","v":""},{"$f":"IF(BT26=\"\",\"\",IF(BW34=TRUE,BZ34,\"\"))","v":""},null,null,{"$f":"OR(SUM(CB34,CG34,CL34,CQ34,CV34)>2,SUM(CE34,CJ34,CO34,CT34,CY34)>2)","v":false},{"$f":"IF(BW34=TRUE,SUM(DB34,BX26),\"\")","v":""},":",{"$f":"IF(BW34=TRUE,SUM(DE34,BZ26),\"\")","v":""},null,{"$f":"IF((AM34+AP34)=0,0,IF(AND(AM34<>\"\",AP34<>\"\",AM34>AP34)=TRUE,1,0))","v":0},null,":",{"$f":"IF((AM34+AP34)=0,0,IF(AND(AM34<>\"\",AP34<>\"\",AM34<AP34)=TRUE,1,0))","v":0},null,{"$f":"IF((AR34+AU34)=0,0,IF(AND(AR34<>\"\",AU34<>\"\",AR34>AU34)=TRUE,1,0))","v":0},null,":",{"$f":"IF((AR34+AU34)=0,0,IF(AND(AR34<>\"\",AU34<>\"\",AR34<AU34)=TRUE,1,0))","v":0},null,{"$f":"IF((AW34+AZ34)=0,0,IF(AND(AW34<>\"\",AZ34<>\"\",AW34>AZ34)=TRUE,1,0))","v":0},null,":",{"$f":"IF((AW34+AZ34)=0,0,IF(AND(AW34<>\"\",AZ34<>\"\",AW34<AZ34)=TRUE,1,0))","v":0},null,{"$f":"IF((BB34+BE34)=0,0,IF(AND(BB34<>\"\",BE34<>\"\",BB34>BE34)=TRUE,1,0))","v":0},null,":",{"$f":"IF((BB34+BE34)=0,0,IF(AND(BB34<>\"\",BE34<>\"\",BB34<BE34)=TRUE,1,0))","v":0},null,{"$f":"IF((BG34+BJ34)=0,0,IF(AND(BG34<>\"\",BJ34<>\"\",BG34>BJ34)=TRUE,1,0))","v":0},null,":",{"$f":"IF((BG34+BJ34)=0,0,IF(AND(BG34<>\"\",BJ34<>\"\",BG34<BJ34)=TRUE,1,0))","v":0},null,null,{"$f":"IF(SUM(CB34,CG34,CL34,CQ34,CV34)>2,1,IF((CE34+CJ34+CO34+CT34+CY34)>2,0,\"\"))","v":""},null,":",{"$f":"IF(SUM(CB34,CG34,CL34,CQ34,CV34)>2,0,IF((CE34+CJ34+CO34+CT34+CY34)>2,1,\"\"))","v":""},null,{"$f":"OR(BL34>2,BO34>2)","v":true},null,null,null,null,null,null,null,null,null,null,null,null,null,null,null,null,null,null,null,null,null,null,null,null,null,null,null,{"$f":"OR(AND(AM34<=9,AP34=11),AND(AM34>9,OR(AP34=AM34-2,AP34=AM34+2)),AND(AM34=11,AP34<=19))","v":false},null,null,null,null,{"$f":"OR(AND(AR34<=9,AU34=11),AND(AR34>9,OR(AU34=AR34-2,AU34=AR34+2)),AND(AR34=11,AU34<=19))","v":false},null,null,null,null,{"$f":"OR(AND(AW34<=9,AZ34=11),AND(AW34>9,OR(AZ34=AW34-2,AZ34=AW34+2)),AND(AW34=11,AZ34<=19))","v":false},null,null,null,null,{"$f":"OR(AND(BB34<=9,BE34=11),AND(BB34>9,OR(BE34=BB34-2,BE34=BB34+2)),AND(BB34=11,BE34<=19))","v":false},null,null,null,null,{"$f":"OR(AND(BG34<=9,BJ34=11),AND(BG34>9,OR(BJ34=BG34-2,BJ34=BG34+2)),AND(BG34=11,BJ34<=19))","v":false},null,{"$f":"OR(AND(AP34>=0,AM34>=0,$BL34<3,$BO34<3),AND(0<=AM34<=9,AP34=11,$BL34<3,$BO34<3),AND(AM34=11,0<=AP34<=9,$BL34<3,$BO34<3),AND(AP34>9,OR(AM34=AP34-2,AM34=AP34+2),$BL34<3,$BO34<3),AND(AP34=\"\",AM34>=0,AM34<=30,AP34=11,$BL34<3,$BO34<3),AND(AP34=11,0<=AM34<=9,$BL34<3,$BO34<3))","v":false},null,":",{"$f":"OR(AND(AM34>=0,AM34<=9,AP34=11,$BL34<3,$BO34<3),AND(AM34>9,OR(AP34=AM34-2,AP34=AM34+2),$BL34<3,$BO34<3),AND(AM34=11,AP34>=0,AP34<=9,$BL34<3,$BO34<3))","v":false},null,{"$f":"OR(AND(AU34>=0,AR34>=0,$BL34<3,$BO34<3),AND(0<=AR34<=9,AU34=11,$BL34<3,$BO34<3),AND(AR34=11,0<=AU34<=9,$BL34<3,$BO34<3),AND(AU34>9,OR(AR34=AU34-2,AR34=AU34+2),$BL34<3,$BO34<3),AND(AU34=\"\",AR34>=0,AR34<=30,AU34=11,$BL34<3,$BO34<3),AND(AU34=11,0<=AR34<=9,$BL34<3,$BO34<3))","v":false},null,":",{"$f":"OR(AND(AR34>=0,AR34<=9,AU34=11,$BL34<3,$BO34<3),AND(AR34>9,OR(AU34=AR34-2,AU34=AR34+2),$BL34<3,$BO34<3),AND(AR34=11,AU34>=0,AU34<=9,$BL34<3,$BO34<3))","v":false},null,{"$f":"OR(AND(AZ34>=0,AW34>=0,$BL34<3,$BO34<3),AND(0<=AW34<=9,AZ34=11,$BL34<3,$BO34<3),AND(AW34=11,0<=AZ34<=9,$BL34<3,$BO34<3),AND(AZ34>9,OR(AW34=AZ34-2,AW34=AZ34+2),$BL34<3,$BO34<3),AND(AZ34=\"\",AW34>=0,AW34<=30,AZ34=11,$BL34<3,$BO34<3),AND(AZ34=11,0<=AW34<=9,$BL34<3,$BO34<3))","v":false},null,":",{"$f":"OR(AND(AW34>=0,AW34<=9,AZ34=11,$BL34<3,$BO34<3),AND(AW34>9,OR(AZ34=AW34-2,AZ34=AW34+2),$BL34<3,$BO34<3),AND(AW34=11,AZ34>=0,AZ34<=9,$BL34<3,$BO34<3))","v":false},null,{"$f":"OR(AND(BE34>=0,BB34>=0,$BL34<3,$BO34<3),AND(0<=BB34<=9,BE34=11,$BL34<3,$BO34<3),AND(BB34=11,0<=BE34<=9,$BL34<3,$BO34<3),AND(BE34>9,OR(BB34=BE34-2,BB34=BE34+2),$BL34<3,$BO34<3),AND(BE34=\"\",BB34>=0,BB34<=30,BE34=11,$BL34<3,$BO34<3),AND(BE34=11,0<=BB34<=9,$BL34<3,$BO34<3))","v":false},null,":",{"$f":"OR(AND(BB34>=0,BB34<=9,BE34=11,$BL34<4,$BO34<4),AND(BB34>9,OR(BE34=BB34-2,BE34=BB34+2),$BL34<4,$BO34<4),AND(BB34=11,BE34>=0,BE34<=9,$BL34<4,$BO34<4))","v":false},null,{"$f":"OR(AND(BJ34>=0,BG34>=0,$BL34<3,$BO34<3),AND(0<=BG34<=9,BJ34=11,$BL34<3,$BO34<3),AND(BG34=11,0<=BJ34<=9,$BL34<3,$BO34<3),AND(BJ34>9,OR(BG34=BJ34-2,BG34=BJ34+2),$BL34<3,$BO34<3),AND(BJ34=\"\",BG34>=0,BG34<=30,BJ34=11,$BL34<3,$BO34<3),AND(BJ34=11,0<=BG34<=9,$BL34<3,$BO34<3))","v":false},null,":",{"$f":"OR(AND(BG34>=0,BG34<=9,BJ34=11,$BL34<4,$BO34<4),AND(BG34>9,OR(BJ34=BG34-2,BJ34=BG34+2),$BL34<4,$BO34<4),AND(BG34=11,BJ34>=0,BJ34<=9,$BL34<4,$BO34<4))","v":false},null,{"$f":"AND(FE34,FH34,FJ34,FM34,FO34,FR34,FT34)","v":false},{"$f":"AND(FE34,FH34,FJ34,FM34,FO34,FR34,FT34)","v":false},{"$f":"AND(GE34,FY34)","v":false},{"$f":"AND(GF34,GB34)","v":false}]
["ZWYCIĘŻCA:",null,null,null,null,null,null,{"$f":"IF(BV37=1,BX38,IF((SUM(BQ34,BT34)<10),\"\",IF(BW36=BX36,\"REMIS\",IF(BW36>BX36,F11,AQ11))))","v":""},null,null,null,null,null,null,null,null,null,null,null,null,null,null,null,null,null,null,null,null,null,null,null,null,null,null,null,null,null,null,null,null,null,null,null,null,null,null,null,null,"WYNIK KOŃCOWY",null,null,null,null,null,null,null,":","SETY",null,null,null,null,null,{"$f":"IF(BL36=BQ36,BW35,IF(H35<>\"\",MAX(BW35,BX35),BW35))","v":""},null,null,null,{"$f":"IF(SUM(BL35,BQ35)>0,\":\",\"\")","v":""},{"$f":"IF(BL36=BQ36,BX35,IF(H35<>\"\",MIN(BW35,BX35),BX35))","v":""},null,null,null,null,null,{"$f":"IF(BL21<>\"\",SUM(BL21:BM26,BL29:BM34),\"\")","v":""},{"$f":"IF(BO21<>\"\",SUM(BO21:BP26,BO29:BP34),\"\")","v":""}]
[null,null,null,null,null,null,null,null,null,null,null,null,null,null,null,null,null,null,null,null,null,null,null,null,null,null,null,null,null,null,null,null,null,null,null,null,null,null,null,null,null,null,null,null,null,null,null,null,null,null,null,null,null,null,null,null,null,"POJEDYNKI",null,null,null,null,null,{"$f":"IF(BV37=1,BN37,IF(SUM(BW36,BX36)<10,\"\",MAX(BX34,BZ34)))","v":""},null,null,null,{"$f":"IF(SUM(BL36,BQ36:BU36)>0,\":\",\"\")","v":""},{"$f":"IF(BV37=1,BR37,IF(SUM(BW36,BX36)<10,\"\",MIN(BX34,BZ34)))","v":""},null,null,null,null,null,{"$f":"IF(SUM(BQ21:BR26,BT21:BU26,BQ29:BR34,BT29:BU34)>0,SUM(DB21:DC26,DB29:DC34),\"\")","v":""},{"$f":"IF(SUM(BQ21:BR26,BT21:BU26,BQ29:BR34,BT29:BU34)>0,SUM(DE21:DF26,DE29:DF34),\"\")","v":""}]
[null,null,null,null,null,null,null,null,null,null,null,null,null,null,null,null,null,null,null,null,null,null,null,null,null,null,null,null,null,null,null,null,null,null,null,null,null,null,null,null,null,null,null,null,null,null,null,null,null,null,null,null,null,null,null,null,null,null,null,null,null,null,null,null,null,{"$f":"IF(OR(BW36=6,BX36=6)=FALSE,\"\",MAX(BW36,BX36))","v":""},{"$f":"IF(SUM(BW36,BX36)<10,\"\",MAX(BX34,BZ34))","v":""},":",{"$f":"IF(SUM(BW36,BX36)<10,\"\",MIN(BX34,BZ34))","v":""},{"$f":"IF(OR(BW36=6,BX36=6)=FALSE,\"\",MIN(BW36,BX36))","v":""}]
["Wpisanie w protokole meczowym w składzie drużyny zawodniczki lub zawodnika powyżej 23 lat (z wyjątkiem członków kadry narodowej) jest równoznaczne ze złożeniem przez zawodniczkę lub zawodnika oświadczenia o uczestniczeniu w meczu na własną odpowiedzialność. Zawodniczki i zawodnicy do 23 lat oraz członkowie kadry narodowej uczestniczący w rozgrywkach drużynowych muszą bezwzględnie posiadać aktualne orzeczenie o zdolności do uprawiania tenisa stołowego poświadczone w książeczce/karcie zdrowia zawodnika.",null,null,null,null,null,null,null,null,null,null,null,null,null,null,null,null,null,null,null,null,null,null,null,null,null,null,null,null,null,null,null,null,null,null,null,null,null,null,null,null,null,null,null,null,null,null,null,null,null,null,null,null,null,null,null,null,null,null,null,null,null,null,null,null,null,null,null,null,null,null,null,null,null,null,{"$f":"IF(BW36=6,F11,IF(BX36=6,AQ11,\"\"))","v":""}]
[]
[]
[]
[]
["KAPITANOWIE DRUŻYN",null,null,null,null,null,null,null,null,null,null,null,null,null,null,null,null,null,null,null,null,null,null,null,null,null,null,null,null,null,null,null,null,null,null,null,null,null,null,null,null,null,null,null,null,null,null,null,null,null,null,null,null,null,null,null,"Weryfikacja meczu"]
["Druż.",null,null,null,"Nazwisko i Imię",null,null,null,null,null,null,null,null,null,null,null,null,null,null,null,null,null,null,null,null,null,null,null,null,null,null,null,null,null,null,null,null,null,null,{"$f":"IF(DJ3=1,\"Podpis\",\"Podpis / PIN\")","v":"Podpis / PIN"},null,null,null,null,null,null,null,null,null,null,null,null,null,null,null,null,null,null,null,null,null,null,null,null,null,null,null,null,null,null,null,null,null,null,"nic to czcionka Calibri"]
["A",null,null,null,null,null,null,null,null,null,null,null,null,null,null,null,null,null,null,null,null,null,null,null,null,null,null,null,null,null,null,null,null,null,null,null,null,null,null,null,null,null,null,null,null,null,null,null,null,null,null,null,null,null,null,null,null,null,null,null,null,null,null,null,null,null,null,null,null,null,null,null,null,null,{"$f":"CONCATENATE(W45,\" \",E45)","v":" "}]
["X",null,null,null,null,null,null,null,null,null,null,null,null,null,null,null,null,null,null,null,null,null,null,null,null,null,null,null,null,null,null,null,null,null,null,null,null,null,null,null,null,null,null,null,null,null,null,null,null,null,null,null,null,null,null,null,null,null,null,null,null,null,null,null,null,null,null,null,null,null,null,null,null,null,{"$f":"CONCATENATE(W46,\" \",E46)","v":" "}]
[]
["TRENERZY DRUŻYN",null,null,null,null,null,null,null,null,null,null,null,null,null,null,null,null,null,null,null,null,null,null,null,null,null,null,null,null,null,null,null,null,null,null,null,null,null,null,null,null,null,null,null,null,null,null,null,null,null,null,null,null,null,null,null,{"$f":"IF(DJ3>0,\"Protokół elektroniczny - nie wymaga podpisu\",IF(DJ3=1,\"\",IF(BO3=\"\",\"\",IF(#REF!=#REF!,\"Protokół podpisany prawidłowo\",\"Protokół niepodpisany lub ZŁY PIN\"))))","v":"Protokół elektroniczny - nie wymaga podpisu"}]
["Druż.",null,null,null,"Nazwisko",null,null,null,null,null,null,null,null,null,null,null,null,null,null,null,null,null,"Imię",null,null,null,null,null,null,null,null,null,null,null,null,null,null,null,null,{"$f":"IF(DJ3=1,\"Podpis\",\"Podpis / PIN\")","v":"Podpis / PIN"}]
["A",null,null,null,null,null,null,null,null,null,null,null,null,null,null,null,null,null,null,null,null,null,null,null,null,null,null,null,null,null,null,null,null,null,null,null,null,null,null,null,null,null,null,null,null,null,null,null,null,null,null,null,null,null,null,null,null,null,null,null,null,null,null,null,null,null,null,null,null,null,null,null,null,null,{"$f":"CONCATENATE(W50,\" \",E50)","v":" "}]
["X",null,null,null,null,null,null,null,null,null,null,null,null,null,null,null,null,null,null,null,null,null,null,null,null,null,null,null,null,null,null,null,null,null,null,null,null,null,null,null,null,null,null,null,null,null,null,null,null,null,null,null,null,null,null,null,null,null,null,null,null,null,null,null,null,null,null,null,null,null,null,null,null,null,{"$f":"CONCATENATE(W51,\" \",E51)","v":" "}]
[]
["SĘDZIOWIE MECZU"]
["Lp.",null,null,null,"Nazwisko",null,null,null,null,null,null,null,null,null,null,null,null,null,null,null,null,null,"Imię",null,null,null,null,null,null,null,null,null,null,null,null,null,null,null,null,{"$f":"IF(DJ3=1,\"Podpis\",\"Podpis / PIN\")","v":"Podpis / PIN"},null,null,null,null,null,null,null,null,null,null,null,null,null,null,null,null,null,null,null,null,null,null,null,null,null,null,null,null,null,null,null,null,null,null,null,null,null,null,null,null,null,null,null,null,null,null,null,null,null,null,null,null,null,null,null,null,null,null,null,null,null,null,null,null,null,null,null,null,null,null,null,null,null,null,null,null,null,null,null,null,null,null,null,null,null,null,"BATS Stargard\""]
[1,null,null,null,null,null,null,null,null,null,null,null,null,null,null,null,null,null,null,null,null,null,null,null,null,null,null,null,null,null,null,null,null,null,null,null,null,null,null,null,null,null,null,null,null,null,null,null,null,null,null,null,null,null,null,null,null,null,null,null,null,null,null,null,null,null,null,null,null,null,null,null,null,null,{"$f":"CONCATENATE(W55,\" \",E55)","v":" "},null,null,null,null,null,null,null,null,null,null,null,null,null,null,null,null,null,null,null,null,null,null,null,null,null,null,null,null,null,null,null,null,null,null,null,null,null,null,null,null,null,null,null,null,null,null,null,null,null,null,null,{"$f":"CODE(DW54)","v":66}]
[2,null,null,null,null,null,null,null,null,null,null,null,null,null,null,null,null,null,null,null,null,null,null,null,null,null,null,null,null,null,null,null,null,null,null,null,null,null,null,null,null,null,null,null,null,null,null,null,null,null,null,null,null,null,null,null,null,null,null,null,null,null,null,null,null,null,null,null,null,null,null,null,null,null,{"$f":"CONCATENATE(W56,\" \",E56)","v":" "},null,null,null,null,null,null,null,null,null,null,null,null,null,null,null,null,null,null,null,null,null,null,null,null,null,null,null,null,null,null,null,null,null,null,null,null,null,null,null,null,null,null,null,null,null,null,null,null,null,null,null,{"$f":"VALUE(DW54)","v":{"$error":"#VALUE!"}}]
[]
[{"$f":"IF(DJ3>1,\"Uwaga ! GOSPODARZ  MECZU zobowiązany jest  do  niezwłocznego podania wyniku meczu do ZPZTS: \nTelefony: 502 666 356,  e-mail: protokol@zpzts.pl , \", \"Sędzia główny  meczu zobowiązany jest w przeciągu 24 godzin od zakończenia meczu przesłać pocztą elektroniczną na adresy: wielkopolski@pzts.pl  /Tadeusz Nowak/ i\"&\"  tenisistastolowy@poczta.onet.pl /Piotr Ciszak/ protokół  rozegranego spotkania ( nie skanu) , natomiast wynik meczu sędzia główny  powinien  przekazać SMS-em  w dniu zawodów pod numer tel. kom. 601 584828 /\")","v":"Uwaga ! GOSPODARZ  MECZU zobowiązany jest  do  niezwłocznego podania wyniku meczu do ZPZTS: \nTelefony: 502 666 356,  e-mail: protokol@zpzts.pl , "}]
[null,null,null,null,null,null,null,null,null,null,null,null,null,null,null,null,null,null,null,null,null,null,null,null,null,null,null,null,null,null,null,null,null,null,null,null,null,null,null,null,null,null,null,null,null,null,null,null,null,null,null,null,null,null,null,null,null,null,null,null,null,null,null,null,null,null,null,null,null,null,null,null,null,null,null,"Gospodarz",null,null,null,null,null,null,{"$f":"KolejkaRunda1!D159","v":4},null,null,null,null,null,null,null,null,null,null,"Goście",null,null,null,null,null,{"$f":"KolejkaRunda1!E159","v":2}]
[null,null,null,null,null,null,null,null,null,null,null,null,null,null,null,null,null,null,null,null,null,null,null,null,null,null,null,null,null,null,null,null,null,null,null,null,null,null,null,null,null,null,null,null,null,null,null,null,null,null,null,null,null,null,null,null,null,null,null,null,null,null,null,null,null,null,null,null,null,null,null,null,null,null,null,"II ATS Stargard Szczeciński",null,null,null,null,null,null,null,null,null,null,null,null,null,null,null,null,1,"II ATS Stargard Szczeciński",null,null,null,null,null,null,null,null,null,null,null,null,null,null,null,null,1]
[]
[]
[]
[]
[]
[]
[]
[]
[]
[]
[]
[]
[]
[]
[]
[]
[]
[]
[]
[]
[]
[]
[]
[]
[]
[]
[]
[]
[]
[]
[]
[]
[]
[]
[]
[]
[]
[]
[]
[]
[]
[]
[]
[]
[]
[]
[]
[]
[]
[]
[]
[]
[]
[]
[]
[]
[]
[]
[]
[]
[]
[]
[]
[]
[null,null,null,null,null,null,1]

{"sheet":"Ranking","index":1,"n_rows":27,"n_cols":5,"rows_kept":27,"cut":false,"hidden":true,"merged":[]}
["Dane do rankingu"]
["Nr pojedynku","Klub sportowy","Nazwiski i Imię zwycięzcy","Nr licencji","Liczba punktów"]
[1,{"$f":"VLOOKUP(C3,$C$16:$E$27,3,0)","v":{"$error":"#N/A"}},{"$f":"IF(Protokół!BL21=3,Protokół!E21,IF(Protokół!BO21=3,Protokół!W21,\"\"))","v":""},{"$f":"VLOOKUP(C3,$C$16:$E$27,2,0)","v":{"$error":"#N/A"}},{"$f":"IF(C3<>\"\",3,\"\")","v":""}]
[2,{"$f":"VLOOKUP(C4,$C$16:$E$27,3,0)","v":{"$error":"#N/A"}},{"$f":"IF(Protokół!BL29=3,Protokół!E29,IF(Protokół!BO29=3,Protokół!W29,\"\"))","v":""},{"$f":"VLOOKUP(C4,$C$16:$E$27,2,0)","v":{"$error":"#N/A"}},{"$f":"IF(C4<>\"\",2,\"\")","v":""}]
[3,{"$error":"#N/A"},{"$f":"IF(Protokół!BL22=3,Protokół!E22,IF(Protokół!BO22=3,Protokół!W22,\"\"))","v":""},{"$error":"#N/A"},{"$f":"IF(C5<>\"\",3,\"\")","v":""}]
[4,{"$error":"#N/A"},{"$f":"IF(Protokół!BL30=3,Protokół!E30,IF(Protokół!BO30=3,Protokół!W30,\"\"))","v":""},{"$error":"#N/A"},{"$f":"IF(C6<>\"\",2,\"\")","v":""}]
[7,{"$error":"#N/A"},{"$f":"IF(Protokół!BL25=3,Protokół!E25,IF(Protokół!BO25=3,Protokół!W25,\"\"))","v":""},{"$error":"#N/A"},{"$f":"IF(C7<>\"\",3,\"\")","v":""}]
[8,{"$error":"#N/A"},{"$f":"IF(Protokół!BL33=3,Protokół!E33,IF(Protokół!BO33=3,Protokół!W33,\"\"))","v":""},{"$error":"#N/A"},{"$f":"IF(C8<>\"\",2,\"\")","v":""}]
[9,{"$error":"#N/A"},{"$f":"IF(Protokół!BL26=3,Protokół!E26,IF(Protokół!BO26=3,Protokół!W26,\"\"))","v":""},{"$error":"#N/A"},{"$f":"IF(C9<>\"\",3,\"\")","v":""}]
[10,{"$error":"#N/A"},{"$f":"IF(Protokół!BL34=3,Protokół!E34,IF(Protokół!BO34=3,Protokół!W34,\"\"))","v":""},{"$error":"#N/A"},{"$f":"IF(C10<>\"\",2,\"\")","v":""}]
[]
[]
[]
[]
[null,null,1,2,3]
[null,null,{"$f":"Protokół!D13","v":0},{"$f":"Protokół!X13","v":""},{"$f":"Protokół!$F$11","v":"SL Salos Szczecin"}]
[null,null,{"$f":"Protokół!D14","v":0},{"$f":"Protokół!X14","v":""},{"$f":"Protokół!$F$11","v":"SL Salos Szczecin"}]
[null,null,{"$f":"Protokół!D15","v":0},{"$f":"Protokół!X15","v":""},{"$f":"Protokół!$F$11","v":"SL Salos Szczecin"}]
[null,null,{"$f":"Protokół!D16","v":0},{"$f":"Protokół!X16","v":""},{"$f":"Protokół!$F$11","v":"SL Salos Szczecin"}]
[null,null,{"$f":"Protokół!D17","v":0},{"$f":"Protokół!X17","v":""},{"$f":"Protokół!$F$11","v":"SL Salos Szczecin"}]
[null,null,{"$f":"Protokół!D18","v":0},{"$f":"Protokół!X18","v":""},{"$f":"Protokół!$F$11","v":"SL Salos Szczecin"}]
[null,null,{"$f":"Protokół!AO13","v":0},{"$f":"Protokół!BI13","v":""},{"$f":"Protokół!$AQ$11","v":"Flota Świnoujście"}]
[null,null,{"$f":"Protokół!AO14","v":0},{"$f":"Protokół!BI14","v":""},{"$f":"Protokół!$AQ$11","v":"Flota Świnoujście"}]
[null,null,{"$f":"Protokół!AO15","v":0},{"$f":"Protokół!BI15","v":""},{"$f":"Protokół!$AQ$11","v":"Flota Świnoujście"}]
[null,null,{"$f":"Protokół!AO16","v":0},{"$f":"Protokół!BI16","v":""},{"$f":"Protokół!$AQ$11","v":"Flota Świnoujście"}]
[null,null,{"$f":"Protokół!AO17","v":0},{"$f":"Protokół!BI17","v":""},{"$f":"Protokół!$AQ$11","v":"Flota Świnoujście"}]
[null,null,{"$f":"Protokół!AO18","v":0},null,{"$f":"Protokół!$AQ$11","v":"Flota Świnoujście"}]

{"sheet":"Składy","index":2,"n_rows":25,"n_cols":12,"rows_kept":25,"cut":false,"hidden":false,"merged":[[13,0,14,0],[15,0,16,0],[13,2,13,3],[14,2,14,3],[15,2,15,3],[16,2,16,3],[3,1,3,4],[3,8,3,11],[15,7,16,7],[15,9,15,10],[16,9,16,10],[7,9,7,10],[8,9,8,10],[9,9,9,10],[10,9,10,10],[13,7,14,7],[13,9,13,10],[14,9,14,10],[23,2,23,4],[23,9,23,11],[24,2,24,4],[24,9,24,11],[4,2,4,3],[5,2,5,3],[6,2,6,3],[7,2,7,3],[12,1,12,3],[12,8,12,10],[4,9,4,10],[5,9,5,10],[6,9,6,10],[8,2,8,3],[9,2,9,3],[10,2,10,3],[0,0,0,4],[0,7,0,11],[2,1,2,2],[2,8,2,9],[1,0,1,2],[1,3,1,4],[1,10,1,11],[1,7,1,9]]}
[{"$f":"CONCATENATE(\"Mecz o mistrzostwo  \",MID(Protokół!O7,1,3),\" ligi tenisa stołowego\")","v":"Mecz o mistrzostwo  V L ligi tenisa stołowego"},null,null,null,null,null,null,{"$f":"A1","v":"Mecz o mistrzostwo  V L ligi tenisa stołowego"}]
[{"$f":"CONCATENATE(\"rozegrany w \",Protokół!AI9,\" w dniu \")","v":"rozegrany w Szczecinie w dniu "},null,null,{"$f":"Protokół!X9","v":"2020-10-17"},null,null,null,{"$f":"CONCATENATE(\"rozegrany w \",Protokół!AI9,\" w dniu \")","v":"rozegrany w Szczecinie w dniu "},null,null,{"$f":"Protokół!X9","v":"2020-10-17"}]
[null,"skład drużyny",null,null,{"$f":"CONCATENATE(\"Numer meczu: \",IF(Protokół!BO3<>\"\",Protokół!BO3,\"\"))","v":"Numer meczu: 5002"},null,null,null,"skład drużyny",null,null,{"$f":"E3","v":"Numer meczu: 5002"}]
["\"A\" -",{"$f":"Protokół!F11","v":"SL Salos Szczecin"},null,null,null,null,null,"\"X\" -",{"$f":"Protokół!AQ11","v":"Flota Świnoujście"}]
["Gospodarz","Nazwisko","Imię",null,"Nr Lic.\n20/21",null,null,"Goście","Nazwisko","Imię",null,{"$f":"E5","v":"Nr Lic.\n20/21"}]
["A",null,null,null,null,null,null,"X"]
["B",null,null,null,null,null,null,"Y"]
["C",null,null,null,null,null,null,"W"]
["D",null,null,null,null,null,null,"Z"]
["R1",null,null,null,null,null,null,"R1"]
["R2",null,null,null,null,null,null,"R2"]
[]
["Stół","składy debli",null,null,null,null,null,"Stół","składy debli"]
[1,null,null,null,null,null,null,1]
[]
[2,null,null,null,null,null,null,2]
[]
[]
[]
["Trener ………………………………………………………………….",null,null,null,null,null,null,"Trener …………………………………………………………………."]
[]
["Kapitan ……………………………………………………………….",null,null,null,null,null,null,"Kapitan ………………………………………………………………."]
[]
[]
[null,null,"podpis kapitana",null,null,null,null,null,null,"podpis kapitana"]

{"sheet":"wydruk - mecze","index":3,"n_rows":55,"n_cols":24,"rows_kept":55,"cut":false,"hidden":false,"merged":[[0,2,0,3],[0,5,0,7],[0,12,0,13],[0,15,0,17],[8,0,8,2],[8,6,8,7],[8,10,8,12],[8,16,8,17],[9,5,9,7],[9,15,9,17],[11,2,11,3],[11,5,11,7],[11,12,11,13],[11,15,11,17],[19,0,19,2],[19,6,19,7],[19,10,19,12],[19,16,19,17],[20,5,20,7],[20,15,20,17],[23,0,24,0],[23,2,24,2],[23,4,24,4],[23,7,24,7],[23,10,24,10],[31,10,31,12],[31,16,31,17],[32,5,32,7],[32,15,32,17],[22,2,22,3],[22,5,22,7],[22,12,22,13],[22,15,22,17],[23,12,24,12],[23,14,24,14],[23,17,24,17],[34,22,34,23],[42,0,42,2],[42,6,42,7],[42,10,42,12],[42,16,42,17],[34,2,34,3],[34,5,34,7],[34,12,34,13],[34,15,34,17],[34,20,34,21],[53,16,53,17],[54,5,54,7],[54,15,54,17],[43,5,43,7],[43,15,43,17],[45,5,45,7],[45,12,45,13],[45,15,45,17],[43,0,43,1],[43,10,43,11],[54,0,54,1],[54,10,54,11],[9,0,9,1],[9,10,9,11],[20,10,20,11],[20,0,20,1],[32,0,32,1],[32,10,32,11],[53,0,53,2],[53,6,53,7],[53,10,53,12],[45,2,45,3],[31,0,31,2],[31,6,31,7]]}
["Nr meczu",1,{"$f":"U1","v":"SL Salos Szczecin"},null,":",{"$f":"V1","v":"Flota Świnoujście"},null,null,null,null,"Nr meczu",2,{"$f":"U1","v":"SL Salos Szczecin"},null,":",{"$f":"V1","v":"Flota Świnoujście"},null,null,null,"Nazwa \nklubu",{"$f":"Protokół!F11","v":"SL Salos Szczecin"},{"$f":"Protokół!AQ11","v":"Flota Świnoujście"},{"$f":"U1","v":"SL Salos Szczecin"},{"$f":"V1","v":"Flota Świnoujście"}]
["Serw",null,"Nazwisko\n i Imię",{"$f":"Protokół!E21","v":0},":",{"$f":"Protokół!W21","v":0},null,"Serw",null,null,"Serw",null,"Nazwisko\n i Imię",{"$f":"Protokół!E29","v":0},":",{"$f":"Protokół!W29","v":0},null,"Serw",null,"Nazwisko i Imię",{"$f":"CONCATENATE(Protokół!D13,\" \",Protokół!O13)","v":" "},{"$f":"CONCATENATE(Protokół!AO13,\" \",Protokół!AZ13)","v":" "},{"$f":"CONCATENATE(Protokół!D13,\" \",MID(Protokół!O13,1,1),\".\")","v":" ."},{"$f":"CONCATENATE(Protokół!AO13,\" \",MID(Protokół!AZ13,1,1),\".\")","v":" ."}]
["K(Ż;Cz)","TIME","set","p-kty w secie",":","p-kty w secie","TIME","K(Ż;Cz)",null,null,"K(Ż;Cz)","TIME","set","p-kty w secie",":","p-kty w secie","TIME","K(Ż;Cz)",null,"Nazwisko i Imię",{"$f":"CONCATENATE(Protokół!D14,\" \",Protokół!O14)","v":" "},{"$f":"CONCATENATE(Protokół!AO14,\" \",Protokół!AZ14)","v":" "},{"$f":"CONCATENATE(Protokół!D14,\" \",MID(Protokół!O14,1,1),\".\")","v":" ."},{"$f":"CONCATENATE(Protokół!AO14,\" \",MID(Protokół!AZ14,1,1),\".\")","v":" ."}]
[null,null,"1 set",null,":",null,null,null,null,null,null,null,"1 set",null,":",null,null,null,null,"Nazwisko i Imię",{"$f":"CONCATENATE(Protokół!D15,\" \",Protokół!O15)","v":" "},{"$f":"CONCATENATE(Protokół!AO15,\" \",Protokół!AZ15)","v":" "},{"$f":"CONCATENATE(Protokół!D15,\" \",MID(Protokół!O15,1,1),\".\")","v":" ."},{"$f":"CONCATENATE(Protokół!AO15,\" \",MID(Protokół!AZ15,1,1),\".\")","v":" ."}]
[null,null,"2 set",null,":",null,null,null,null,null,null,null,"2 set",null,":",null,null,null,null,"Nazwisko i Imię",{"$f":"CONCATENATE(Protokół!D16,\" \",Protokół!O16)","v":" "},{"$f":"CONCATENATE(Protokół!AO16,\" \",Protokół!AZ16)","v":" "},{"$f":"CONCATENATE(Protokół!D16,\" \",MID(Protokół!O16,1,1),\".\")","v":" ."},{"$f":"CONCATENATE(Protokół!AO16,\" \",MID(Protokół!AZ16,1,1),\".\")","v":" ."}]
[null,null,"3 set",null,":",null,null,null,null,null,null,null,"3 set",null,":",null,null,null,null,"Nazwisko i Imię",{"$f":"CONCATENATE(Protokół!D17,\" \",Protokół!O17)","v":" "},{"$f":"CONCATENATE(Protokół!AO17,\" \",Protokół!AZ17)","v":" "},{"$f":"CONCATENATE(Protokół!D17,\" \",MID(Protokół!O17,1,1),\".\")","v":" ."},{"$f":"CONCATENATE(Protokół!AO17,\" \",MID(Protokół!AZ17,1,1),\".\")","v":" ."}]
[null,null,"4 set",null,":",null,null,null,null,null,null,null,"4 set",null,":",null,null,null,null,"Nazwisko i Imię",{"$f":"CONCATENATE(Protokół!D18,\" \",Protokół!O18)","v":" "},{"$f":"CONCATENATE(Protokół!AO18,\" \",Protokół!AZ18)","v":" "},{"$f":"CONCATENATE(Protokół!D18,\" \",MID(Protokół!O18,1,1),\".\")","v":" ."},{"$f":"CONCATENATE(Protokół!AO18,\" \",MID(Protokół!AZ18,1,1),\".\")","v":" ."}]
[null,null,"5 set",null,":",null,null,null,null,null,null,null,"5 set",null,":"]
["wynik meczu",null,null,null,":",null,null,null,null,null,"wynik meczu",null,null,null,":"]
["Nr meczu",null,{"$f":"IF(Protokół!$BO$3<>\"\",Protokół!$BO$3,\"\")","v":5002},null,null,"podpis sędziego",null,null,null,null,"Nr meczu",null,{"$f":"IF(Protokół!$BO$3<>\"\",Protokół!$BO$3,\"\")","v":5002},null,null,"podpis sędziego"]
[]
["Nr meczu",3,{"$f":"U1","v":"SL Salos Szczecin"},null,":",{"$f":"V1","v":"Flota Świnoujście"},null,null,null,null,"Nr meczu",4,{"$f":"U1","v":"SL Salos Szczecin"},null,":",{"$f":"V1","v":"Flota Świnoujście"}]
["Serw",null,"Nazwisko\n i Imię",{"$f":"Protokół!E22","v":0},":",{"$f":"Protokół!W22","v":0},null,"Serw",null,null,"Serw",null,"Nazwisko\n i Imię",{"$f":"Protokół!E30","v":0},":",{"$f":"Protokół!W30","v":0},null,"Serw"]
["K(Ż;Cz)","TIME","set","p-kty w secie",":","p-kty w secie","TIME","K(Ż;Cz)",null,null,"K(Ż;Cz)","TIME","set","p-kty w secie",":","p-kty w secie","TIME","K(Ż;Cz)"]
[null,null,"1 set",null,":",null,null,null,null,null,null,null,"1 set",null,":"]
[null,null,"2 set",null,":",null,null,null,null,null,null,null,"2 set",null,":"]
[null,null,"3 set",null,":",null,null,null,null,null,null,null,"3 set",null,":"]
[null,null,"4 set",null,":",null,null,null,null,null,null,null,"4 set",null,":"]
[null,null,"5 set",null,":",null,null,null,null,null,null,null,"5 set",null,":"]
["wynik meczu",null,null,null,":",null,null,null,null,null,"wynik meczu",null,null,null,":"]
["Nr meczu",null,{"$f":"IF(Protokół!$BO$3<>\"\",Protokół!$BO$3,\"\")","v":5002},null,null,"podpis sędziego",null,null,null,null,"Nr meczu",null,{"$f":"IF(Protokół!$BO$3<>\"\",Protokół!$BO$3,\"\")","v":5002},null,null,"podpis sędziego"]
[]
["Nr meczu",5,{"$f":"U1","v":"SL Salos Szczecin"},null,":",{"$f":"V1","v":"Flota Świnoujście"},null,null,null,null,"Nr meczu",6,{"$f":"$U$1","v":"SL Salos Szczecin"},null,":",{"$f":"$V$1","v":"Flota Świnoujście"}]
["Serw/ /Odbiór",null,"Nazwisko\n i Imię",{"$f":"Protokół!E23","v":0},":",{"$f":"Protokół!W23","v":0},null,"Serw/ /Odbiór",null,null,"Serw/ /Odbiór",null,"Nazwisko\n i Imię",{"$f":"Protokół!E31","v":0},":",{"$f":"Protokół!W31","v":0},null,"Serw/ /Odbiór",null,null,1,1,4,2]
[null,null,null,{"$f":"Protokół!E24","v":0},null,{"$f":"Protokół!W24","v":0},null,null,null,null,null,null,null,{"$f":"Protokół!E32","v":0},null,{"$f":"Protokół!W32","v":0},null,null,null,null,4,4,1,1]
["K(Ż;Cz)","Time","set","p-kty w secie",":","p-kty w secie","Time","K(Ż;Cz)",null,null,"K(Ż;Cz)","Time","set","p-kty w secie",":","p-kty w secie","Time","K(Ż;Cz)",null,null,null,null,{"$f":"U3","v":" "},{"$f":"V3","v":" "}]
[null,null,"1 set",null,":",null,null,null,null,null,null,null,"1 set",null,":",null,null,null,null,null,null,null,{"$f":"U4","v":" "}," "]
[null,null,"2 set",null,":",null,null,null,null,null,null,null,"2 set",null,":",null,null,null,null,null,null,null," "," "]
[null,null,"3 set",null,":",null,null,null,null,null,null,null,"3 set",null,":",null,null,null,null,null,null,null," "," "]
[null,null,"4 set",null,":",null,null,null,null,null,null,null,"4 set",null,":",null,null,null,null,null,null,null," "," "]
[null,null,"5 set",null,":",null,null,null,null,null,null,null,"5 set",null,":"]
["wynik meczu",null,null,null,":",null,null,null,null,null,"wynik meczu",null,null,null,":"]
["Nr meczu",null,{"$f":"IF(Protokół!$BO$3<>\"\",Protokół!$BO$3,\"\")","v":5002},null,null,"podpis sędziego",null,null,null,null,"Nr meczu",null,{"$f":"IF(Protokół!$BO$3<>\"\",Protokół!$BO$3,\"\")","v":5002},null,null,"podpis sędziego"]
[]
["Nr meczu",7,{"$f":"$U$1","v":"SL Salos Szczecin"},null,":",{"$f":"$V$1","v":"Flota Świnoujście"},null,null,null,null,"Nr meczu",8,{"$f":"$U$1","v":"SL Salos Szczecin"},null,":",{"$f":"$V$1","v":"Flota Świnoujście"},null,null,null,null,"1 STÓŁ (MECZ 7)",null,"2 STÓŁ (MECZ 8)"]
["Serw",null,"Nazwisko\n i Imię",{"$f":"Protokół!E25","v":0},":",{"$f":"Protokół!W25","v":0},null,"Serw",null,null,"Serw",null,"Nazwisko\n i Imię",{"$f":"Protokół!E33","v":0},":",{"$f":"Protokół!W33","v":0},null,"Serw",null,null,2,1,1,1]
["K(Ż;Cz)","TIME","set","p-kty w secie",":","p-kty w secie","TIME","K(Ż;Cz)",null,null,"K(Ż;Cz)","TIME","set","p-kty w secie",":","p-kty w secie","TIME","K(Ż;Cz)"]
[null,null,"1 set",null,":",null,null,null,null,null,null,null,"1 set",null,":",null,null,null,null,null,{"$f":"U2","v":" "},{"$f":"V3","v":" "},{"$f":"U4","v":" "},{"$f":"V5","v":" "}]
[null,null,"2 set",null,":",null,null,null,null,null,null,null,"2 set",null,":",null,null,null,null,null,{"$f":"U6","v":" "},{"$f":"V6","v":" "},{"$f":"U6","v":" "},{"$f":"V6","v":" "}]
[null,null,"3 set",null,":",null,null,null,null,null,null,null,"3 set",null,":",null,null,null,null,null,{"$f":"U7","v":" "},{"$f":"V7","v":" "},{"$f":"U7","v":" "},{"$f":"V7","v":" "}]
[null,null,"4 set",null,":",null,null,null,null,null,null,null,"4 set",null,":"]
[null,null,"5 set",null,":",null,null,null,null,null,null,null,"5 set",null,":"]
["wynik meczu",null,null,null,":",null,null,null,null,null,"wynik meczu",null,null,null,":"]
["Nr meczu",null,{"$f":"IF(Protokół!$BO$3<>\"\",Protokół!$BO$3,\"\")","v":5002},null,null,"podpis sędziego",null,null,null,null,"Nr meczu",null,{"$f":"IF(Protokół!$BO$3<>\"\",Protokół!$BO$3,\"\")","v":5002},null,null,"podpis sędziego"]
[]
["Nr meczu",9,{"$f":"$U$1","v":"SL Salos Szczecin"},null,":",{"$f":"$V$1","v":"Flota Świnoujście"},null,null,null,null,"Nr meczu",10,{"$f":"$U$1","v":"SL Salos Szczecin"},null,":",{"$f":"$V$1","v":"Flota Świnoujście"}]
["Serw",null,"Nazwisko\n i Imię",{"$f":"Protokół!E26","v":0},":",{"$f":"Protokół!W26","v":0},null,"Serw",null,null,"Serw",null,"Nazwisko\n i Imię",{"$f":"Protokół!E34","v":0},":",{"$f":"Protokół!W34","v":0},null,"Serw",null,null,2,1,1,1]
["K(Ż;Cz)","TIME","set","p-kty w secie",":","p-kty w secie","K","T",null,null,"K","T","set","p-kty w secie",":","p-kty w secie","TIME","K(Ż;Cz)"]
[null,null,"1 set",null,":",null,null,null,null,null,null,null,"1 set",null,":",null,null,null,null,null,{"$f":"U3","v":" "},{"$f":"V2","v":" "},{"$f":"U5","v":" "},{"$f":"V4","v":" "}]
[null,null,"2 set",null,":",null,null,null,null,null,null,null,"2 set",null,":",null,null,null,null,null,{"$f":"U39","v":" "}," "," "," "]
[null,null,"3 set",null,":",null,null,null,null,null,null,null,"3 set",null,":",null,null,null,null,null," "," "," "," "]
[null,null,"4 set",null,":",null,null,null,null,null,null,null,"4 set",null,":"]
[null,null,"5 set",null,":",null,null,null,null,null,null,null,"5 set",null,":"]
["wynik meczu",null,null,null,":",null,null,null,null,null,"wynik meczu",null,null,null,":"]
["Nr meczu",null,{"$f":"IF(Protokół!$BO$3<>\"\",Protokół!$BO$3,\"\")","v":5002},null,null,"podpis sędziego",null,null,null,null,"Nr meczu",null,{"$f":"IF(Protokół!$BO$3<>\"\",Protokół!$BO$3,\"\")","v":5002},null,null,"podpis sędziego"]

{"sheet":"2 str. protokołu","index":4,"n_rows":25,"n_cols":94,"rows_kept":25,"cut":false,"hidden":false,"merged":[[0,0,0,11],[1,0,1,11],[7,0,12,1],[13,0,16,1],[17,0,19,1],[3,7,3,8],[3,9,3,10],[9,6,9,7],[9,8,9,9],[9,10,9,11],[10,2,10,5],[10,6,10,7],[10,8,10,9],[10,10,10,11],[14,8,14,9],[14,10,14,11],[22,1,22,11],[23,1,23,11],[4,7,4,8],[4,9,4,10],[6,2,6,5],[6,6,6,9],[6,10,6,11],[7,2,7,5],[7,6,7,7],[7,8,7,9],[7,10,7,11],[8,2,8,5],[8,6,8,7],[8,8,8,9],[8,10,8,11],[9,2,9,5],[11,2,11,5],[11,6,11,7],[11,8,11,9],[11,10,11,11],[12,2,12,5],[12,6,12,7],[12,8,12,9],[12,10,12,11],[18,2,18,5],[16,8,16,9],[16,10,16,11],[13,2,13,5],[13,6,13,7],[13,8,13,9],[13,10,13,11],[14,2,16,3],[14,4,14,5],[14,6,14,7],[15,6,15,7],[15,8,15,9],[15,10,15,11],[16,4,16,5],[16,6,16,7],[21,0,21,11],[19,6,19,9],[19,10,19,11],[24,1,24,11],[2,2,2,10],[3,3,3,6],[4,3,4,6],[17,2,17,5],[17,6,17,7],[17,8,17,9],[17,10,17,11],[18,6,18,7],[18,8,18,9],[18,10,18,11],[19,2,19,5],[15,4,15,5]]}
["Ocena organizacji spotkania"]
["(wypełnia sędzia główny)",null,null,null,null,null,null,null,null,null,null,null,null,null,null,null,null,null,null,null,null,null,null,null,null,null,null,null,null,null,null,null,null,null,null,null,null,null,null,null,null,null,null,null,null,null,null,null,null,null,null,null,null,null,null,null,null,null,null,null,null,null,null,null,null,null,null,null,null,null,null,null,null,null,null,null,null,null,null,null,null,null,null,null,null,null,null,null,null,null,null,null,"BARTKOWIAK Zuzanna","04893"]
[null,null,"OSOBA ODPOWIEDZIALNA ZA BEZPIECZEŃSTWO",null,null,null,null,null,null,null,null,null,null,null,null,null,null,null,null,null,null,null,null,null,null,null,null,null,null,null,null,null,null,null,null,null,null,null,null,null,null,null,null,null,null,null,null,null,null,null,null,null,null,null,null,null,null,null,null,null,null,null,null,null,null,null,null,null,null,null,null,null,null,null,null,null,null,null,null,null,null,null,null,null,null,null,null,null,null,null,null,null,"BOROWIK Dominika","04883"]
[null,null,"Lp.","Nazwisko",null,null,null,"Imię",null,"Podpis",null,null,null,null,null,null,null,null,null,null,null,null,null,null,null,null,null,null,null,null,null,null,null,null,null,null,null,null,null,null,null,null,null,null,null,null,null,null,null,null,null,null,null,null,null,null,null,null,null,null,null,null,null,null,null,null,null,null,null,null,null,null,null,null,null,null,null,null,null,null,null,null,null,null,null,null,null,null,null,null,null,null,"BUŚKO Przemysław","04881"]
[null,null,1,"WOJTAŚ",null,null,null,"JAN",null,null,null,null,null,null,null,null,null,null,null,null,null,null,null,null,null,null,null,null,null,null,null,null,null,null,null,null,null,null,null,null,null,null,null,null,null,null,null,null,null,null,null,null,null,null,null,null,null,null,null,null,null,null,null,null,null,null,null,null,null,null,null,null,null,null,null,null,null,null,null,null,null,null,null,null,null,null,null,null,null,null,null,null,"CEMBROWICZ Jakub","04871"]
[null,null,null,null,null,null,null,null,null,null,null,null,null,null,null,null,null,null,null,null,null,null,null,null,null,null,null,null,null,null,null,null,null,null,null,null,null,null,null,null,null,null,null,null,null,null,null,null,null,null,null,null,null,null,null,null,null,null,null,null,null,null,null,null,null,null,null,null,null,null,null,null,null,null,null,null,null,null,null,null,null,null,null,null,null,null,null,null,null,null,null,null,"CEMBROWICZ Katarzyna","04882"]
[null,null,null,null,null,null,"warunki techniczne",null,null,null,"uwagi",null,null,null,null,null,null,null,null,null,null,null,null,null,null,null,null,null,null,null,null,null,null,null,null,null,null,null,null,null,null,null,null,null,null,null,null,null,null,null,null,null,null,null,null,null,null,null,null,null,null,null,null,null,null,null,null,null,null,null,null,null,null,null,null,null,null,null,null,null,null,null,null,null,null,null,null,null,null,null,null,null,"CEMBROWICZ Tomasz","04870"]
["Organizacja meczu",null,"pole gry",null,null,null,"prawidłowe",null,"nieprawidłowe",null,null,null,null,true,null,null,null,null,null,null,null,null,null,null,null,null,null,null,null,null,null,null,null,null,null,null,null,null,null,null,null,null,null,null,null,null,null,null,null,null,null,null,null,null,null,null,null,null,null,null,null,null,null,null,null,null,null,null,null,null,null,null,null,null,null,null,null,null,null,null,null,null,null,null,null,null,null,null,null,null,null,null,"CHUDA Kornelia","04892"]
[null,null,"podłoga",null,null,null,"prawidłowe",null,"nieprawidłowe",null,null,null,null,null,null,null,null,null,null,null,null,null,null,null,null,null,null,null,null,null,null,null,null,null,null,null,null,null,null,null,null,null,null,null,null,null,null,null,null,null,null,null,null,null,null,null,null,null,null,null,null,null,null,null,null,null,null,null,null,null,null,null,null,null,null,null,null,null,null,null,null,null,null,null,null,null,null,null,null,null,null,null,"CICHACKI Janusz","04872"]
[null,null,"oświetlenie",null,null,null,"prawidłowe",null,"nieprawidłowe",null,null,null,null,null,null,null,null,null,null,null,null,null,null,null,null,null,null,null,null,null,null,null,null,null,null,null,null,null,null,null,null,null,null,null,null,null,null,null,null,null,null,null,null,null,null,null,null,null,null,null,null,null,null,null,null,null,null,null,null,null,null,null,null,null,null,null,null,null,null,null,null,null,null,null,null,null,null,null,null,null,null,null,"JENEK Adrianna","04879"]
[null,null,"wrażenie estetyczne",null,null,null,"prawidłowe",null,"nieprawidłowe",null,null,null,null,null,null,null,null,null,null,null,null,null,null,null,null,null,null,null,null,null,null,null,null,null,null,null,null,null,null,null,null,null,null,null,null,null,null,null,null,null,null,null,null,null,null,null,null,null,null,null,null,null,null,null,null,null,null,null,null,null,null,null,null,null,null,null,null,null,null,null,null,null,null,null,null,null,null,null,null,null,null,null,"KAZIMIRSKI Piotr","04873"]
[null,null,"nagłośnienie",null,null,null,"tak",null,"nie",null,null,null,null,null,null,null,null,null,null,null,null,null,null,null,null,null,null,null,null,null,null,null,null,null,null,null,null,null,null,null,null,null,null,null,null,null,null,null,null,null,null,null,null,null,null,null,null,null,null,null,null,null,null,null,null,null,null,null,null,null,null,null,null,null,null,null,null,null,null,null,null,null,null,null,null,null,null,null,null,null,null,null,"NOWACZYK Natalia","04880"]
[null,null,"spiker",null,null,null,"tak",null,"nie",null,null,null,null,null,null,null,null,null,null,null,null,null,null,null,null,null,null,null,null,null,null,null,null,null,null,null,null,null,null,null,null,null,null,null,null,null,null,null,null,null,null,null,null,null,null,null,null,null,null,null,null,null,null,null,null,null,null,null,null,null,null,null,null,null,null,null,null,null,null,null,null,null,null,null,null,null,null,null,null,null,null,null,"RASZEWSKI Robert","04877"]
["Media",null,"wydzielone miejsce",null,null,null,"tak",null,"nie",null,null,null,null,null,null,null,null,null,null,null,null,null,null,null,null,null,null,null,null,null,null,null,null,null,null,null,null,null,null,null,null,null,null,null,null,null,null,null,null,null,null,null,null,null,null,null,null,null,null,null,null,null,null,null,null,null,null,null,null,null,null,null,null,null,null,null,null,null,null,null,null,null,null,null,null,null,null,null,null,null,null,null,"SŁUPIŃSKA Jagoda","04885"]
[null,null,null,null,"prasa",null,"tak",null,"nie",null,null,null,null,null,null,null,null,null,null,null,null,null,null,null,null,null,null,null,null,null,null,null,null,null,null,null,null,null,null,null,null,null,null,null,null,null,null,null,null,null,null,null,null,null,null,null,null,null,null,null,null,null,null,null,null,null,null,null,null,null,null,null,null,null,null,null,null,null,null,null,null,null,null,null,null,null,null,null,null,null,null,null,"SOBKOWIAK Miłosz","04875"]
[null,null,null,null,"radio",null,"tak",null,"nie",null,null,null,null,null,null,null,null,null,null,null,null,null,null,null,null,null,null,null,null,null,null,null,null,null,null,null,null,null,null,null,null,null,null,null,null,null,null,null,null,null,null,null,null,null,null,null,null,null,null,null,null,null,null,null,null,null,null,null,null,null,null,null,null,null,null,null,null,null,null,null,null,null,null,null,null,null,null,null,null,null,null,null,"STAROSTA Bartosz","04876"]
[null,null,null,null,"telewizja",null,"tak",null,"nie",null,null,null,null,null,null,null,null,null,null,null,null,null,null,null,null,null,null,null,null,null,null,null,null,null,null,null,null,null,null,null,null,null,null,null,null,null,null,null,null,null,null,null,null,null,null,null,null,null,null,null,null,null,null,null,null,null,null,null,null,null,null,null,null,null,null,null,null,null,null,null,null,null,null,null,null,null,null,null,null,null,null,null,"STOKŁOS Jakub","04887"]
["Publiczność",null,"bilety",null,null,null,"tak",null,"nie",null,null,null,null,null,null,null,null,null,null,null,null,null,null,null,null,null,null,null,null,null,null,null,null,null,null,null,null,null,null,null,null,null,null,null,null,null,null,null,null,null,null,null,null,null,null,null,null,null,null,null,null,null,null,null,null,null,null,null,null,null,null,null,null,null,null,null,null,null,null,null,null,null,null,null,null,null,null,null,null,null,null,null,"TALMA Kacper","04891"]
[null,null,"miejsca siedzące",null,null,null,"tak",null,"nie",null,null,null,null,null,null,null,null,null,null,null,null,null,null,null,null,null,null,null,null,null,null,null,null,null,null,null,null,null,null,null,null,null,null,null,null,null,null,null,null,null,null,null,null,null,null,null,null,null,null,null,null,null,null,null,null,null,null,null,null,null,null,null,null,null,null,null,null,null,null,null,null,null,null,null,null,null,null,null,null,null,null,null,"WALD Julia","04884"]
[null,null,"liczba widzów",null,null,null,25,null,null,null,null,null,null,null,null,null,null,null,null,null,null,null,null,null,null,null,null,null,null,null,null,null,null,null,null,null,null,null,null,null,null,null,null,null,null,null,null,null,null,null,null,null,null,null,null,null,null,null,null,null,null,null,null,null,null,null,null,null,null,null,null,null,null,null,null,null,null,null,null,null,null,null,null,null,null,null,null,null,null,null,null,null,"WELKE Daniel","04874"]
[null,null,null,null,null,null,null,null,null,null,null,null,null,null,null,null,null,null,null,null,null,null,null,null,null,null,null,null,null,null,null,null,null,null,null,null,null,null,null,null,null,null,null,null,null,null,null,null,null,null,null,null,null,null,null,null,null,null,null,null,null,null,null,null,null,null,null,null,null,null,null,null,null,null,null,null,null,null,null,null,null,null,null,null,null,null,null,null,null,null,null,null,"WOŹNY Marcin","04888"]
["Inne uwagi (wypełnia:  I - kapitan gości,  II - kapitan gospodarzy,  III - sędzia główny)",null,null,null,null,null,null,null,null,null,null,null,null,null,null,null,null,null,null,null,null,null,null,null,null,null,null,null,null,null,null,null,null,null,null,null,null,null,null,null,null,null,null,null,null,null,null,null,null,null,null,null,null,null,null,null,null,null,null,null,null,null,null,null,null,null,null,null,null,null,null,null,null,null,null,null,null,null,null,null,null,null,null,null,null,null,null,null,null,null,null,null,"WOŹNY Wiktor","04889"]
["I","BRAK UWAG",null,null,null,null,null,null,null,null,null,null,null,null,null,null,null,null,null,null,null,null,null,null,null,null,null,null,null,null,null,null,null,null,null,null,null,null,null,null,null,null,null,null,null,null,null,null,null,null,null,null,null,null,null,null,null,null,null,null,null,null,null,null,null,null,null,null,null,null,null,null,null,null,null,null,null,null,null,null,null,null,null,null,null,null,null,null,null,null,null,null,"WOŹNY Wojciech","04890"]
["II","BRAK UWAG",null,null,null,null,null,null,null,null,null,null,null,null,null,null,null,null,null,null,null,null,null,null,null,null,null,null,null,null,null,null,null,null,null,null,null,null,null,null,null,null,null,null,null,null,null,null,null,null,null,null,null,null,null,null,null,null,null,null,null,null,null,null,null,null,null,null,null,null,null,null,null,null,null,null,null,null,null,null,null,null,null,null,null,null,null,null,null,null,null,null,"ZIELIŃSKA Marta","04886"]
["III","BRAK UWAG",null,null,null,null,null,null,null,null,null,null,null,null,null,null,null,null,null,null,null,null,null,null,null,null,null,null,null,null,null,null,null,null,null,null,null,null,null,null,null,null,null,null,null,null,null,null,null,null,null,null,null,null,null,null,null,null,null,null,null,null,null,null,null,null,null,null,null,null,null,null,null,null,null,null,null,null,null,null,null,null,null,null,null,null,null,null,null,null,null,null,"ZIELIŃSKI Sebastian","04878"]

{"sheet":"KolejkaRunda1","index":5,"n_rows":333,"n_cols":42,"rows_kept":333,"cut":false,"hidden":true,"merged":[[162,16,163,20],[162,24,163,28],[162,32,163,36],[210,9,210,11],[211,9,211,11],[212,9,212,11],[213,9,213,11],[214,9,214,11],[205,9,205,11],[206,9,206,11],[207,9,207,11],[208,9,208,11],[209,9,209,11],[200,9,200,11],[201,9,201,11],[202,9,202,11],[203,9,203,11],[204,9,204,11],[195,9,195,11],[196,9,196,11],[197,9,197,11],[198,9,198,11],[199,9,199,11],[190,9,190,11],[191,9,191,11],[192,9,192,11],[193,9,193,11],[194,9,194,11],[185,9,185,11],[186,9,186,11],[187,9,187,11],[188,9,188,11],[189,9,189,11],[180,9,180,11],[181,9,181,11],[182,9,182,11],[183,9,183,11],[184,9,184,11],[175,9,175,11],[176,9,176,11],[177,9,177,11],[178,9,178,11],[179,9,179,11],[194,33,194,35],[166,33,166,35],[167,33,167,35],[168,33,168,35],[169,33,169,35],[170,33,170,35],[171,33,171,35],[172,33,172,35],[173,33,173,35],[174,33,174,35],[175,33,175,35],[176,33,176,35],[189,33,189,35],[190,33,190,35],[191,33,191,35],[192,33,192,35],[193,33,193,35],[184,33,184,35],[185,33,185,35],[186,33,186,35],[187,33,187,35],[188,33,188,35],[177,33,177,35],[171,25,171,27],[172,25,172,27],[173,25,173,27],[174,25,174,27],[175,25,175,27],[166,25,166,27],[167,25,167,27],[168,25,168,27],[169,25,169,27],[170,25,170,27],[170,17,170,19],[171,17,171,19],[172,17,172,19],[173,17,173,19],[174,17,174,19],[165,9,165,11],[166,9,166,11],[167,9,167,11],[168,9,168,11],[169,9,169,11],[170,9,170,11],[171,9,171,11],[172,9,172,11],[173,9,173,11],[174,9,174,11],[166,17,166,19],[167,17,167,19],[168,17,168,19],[169,17,169,19],[175,17,175,19],[189,17,189,19],[190,17,190,19],[191,17,191,19],[184,25,184,27],[185,25,185,27],[186,25,186,27],[187,25,187,27],[188,25,188,27],[189,25,189,27],[190,25,190,27],[191,25,191,27],[179,17,179,19],[176,17,176,19],[177,17,177,19],[178,17,178,19],[192,17,192,19],[193,17,193,19],[184,17,184,19],[185,17,185,19],[186,17,186,19],[187,17,187,19],[188,17,188,19],[193,25,193,27],[192,25,192,27]]}
["Nr meczu","data","Miejsce meczu","nr drużyny gospodarza","nr drużyny gości","Zespół - gospodarz","Zespół - przyjezdny","godzina","II liga","data","Miejsce meczu\ngdzie: w …","nr drużyny gospodarza","nr drużyny gości","Zespół - gospodarz","Zespół - przyjezdny","godzina","III liga","data","Miejsce meczu","nr drużyny gospodarza","nr drużyny gości","Zespół - gospodarz","Zespół - przyjezdny","godzina","IV liga","data","Miejsce meczu","nr drużyny gospodarza","nr drużyny gości","Zespół - gospodarz","Zespół - przyjezdny","godzina","V liga","data","Miejsce meczu","nr drużyny gospodarza","nr drużyny gości","Zespół - gospodarz","Zespół - przyjezdny","godzina"]
[{"$f":"IF(Protokół!$DJ$3=1,I2,IF(Protokół!$DJ$3=2,Q2,IF(Protokół!$DJ$3=3,Y2,IF(Protokół!$DJ$3=4,AG2,\"\"))))","v":5001},{"$f":"IF(Protokół!$DJ$3=1,J2,IF(Protokół!$DJ$3=2,R2,IF(Protokół!$DJ$3=3,Z2,IF(Protokół!$DJ$3=4,AH2,\"\"))))","v":"2020-10-17"},{"$f":"IF(Protokół!$DJ$3=1,K2,IF(Protokół!$DJ$3=2,S2,IF(Protokół!$DJ$3=3,AA2,IF(Protokół!$DJ$3=4,AI2,\"\"))))","v":"Czaplinku"},{"$f":"IF(Protokół!$DJ$3=1,L2,IF(Protokół!$DJ$3=2,T2,IF(Protokół!$DJ$3=3,AB2,IF(Protokół!$DJ$3=4,AJ2,\"\"))))","v":5},{"$f":"IF(Protokół!$DJ$3=1,M2,IF(Protokół!$DJ$3=2,U2,IF(Protokół!$DJ$3=3,AC2,IF(Protokół!$DJ$3=4,AK2,\"\"))))","v":6},{"$f":"IF(Protokół!$DJ$3=1,N2,IF(Protokół!$DJ$3=2,V2,IF(Protokół!$DJ$3=3,AD2,IF(Protokół!$DJ$3=4,AL2,\"\"))))","v":"STS Czapla Czaplinek"},{"$f":"IF(Protokół!$DJ$3=1,O2,IF(Protokół!$DJ$3=2,W2,IF(Protokół!$DJ$3=3,AE2,IF(Protokół!$DJ$3=4,AM2,\"\"))))","v":"ULKS Tychowo"},{"$f":"IF(Protokół!$DJ$3=1,P2,IF(Protokół!$DJ$3=2,X2,IF(Protokół!$DJ$3=3,AF2,IF(Protokół!$DJ$3=4,AN2,\"\"))))","v":"10:30:00"},1,"2020-09-12",{"$f":"VLOOKUP(L2,$I$166:$M$173,5,FALSE)","v":"Wierzbięcinie"},2,8,{"$f":"VLOOKUP(L2,$I$166:$M$173,2,FALSE)","v":"Visonex LUKS Top Wierzbięcin"},"STLS Szczecinek","10:30:00",3001,"2020-10-17",{"$f":"VLOOKUP(T2,Q167:U180,5,FALSE)","v":"Wierzbięcinie"},1,2,{"$f":"VLOOKUP(T2,$Q$167:$U$180,2,FALSE)","v":"II Visonex LUKS Top Wierzbięcin"},{"$f":"VLOOKUP(U2,$Q$167:$U$180,2,FALSE)","v":"II KS ATS Stargard"},"10:30:00",4001,"2020-10-17",{"$f":"VLOOKUP(AB2,Y167:AC176,5,FALSE)","v":"Stepnicy"},5,6,{"$f":"VLOOKUP(AB2,Y167:AC176,2,FALSE)","v":"I UKS Zalew Stepnica"},{"$f":"VLOOKUP(AC2,Y167:AC176,2,FALSE)","v":"II UKS Zalew Stepnica"},"10:30:00",5001,"2020-10-17",{"$f":"VLOOKUP(AJ2,$AG$167:$AK$178,5,FALSE)","v":"Czaplinku"},5,6,{"$f":"VLOOKUP(AJ2,$AG$167:$AK$178,2,FALSE)","v":"STS Czapla Czaplinek"},{"$f":"VLOOKUP(AK2,$AG$167:$AK$178,2,FALSE)","v":"ULKS Tychowo"},"10:30:00",{"$f":"SUM(AJ2:AK13)","v":84},{"$f":"13*6*2","v":156}]
[{"$f":"IF(Protokół!$DJ$3=1,I3,IF(Protokół!$DJ$3=2,Q3,IF(Protokół!$DJ$3=3,Y3,IF(Protokół!$DJ$3=4,AG3,\"\"))))","v":5002},{"$f":"IF(Protokół!$DJ$3=1,J3,IF(Protokół!$DJ$3=2,R3,IF(Protokół!$DJ$3=3,Z3,IF(Protokół!$DJ$3=4,AH3,\"\"))))","v":"2020-10-17"},{"$f":"IF(Protokół!$DJ$3=1,K3,IF(Protokół!$DJ$3=2,S3,IF(Protokół!$DJ$3=3,AA3,IF(Protokół!$DJ$3=4,AI3,\"\"))))","v":"Szczecinie"},{"$f":"IF(Protokół!$DJ$3=1,L3,IF(Protokół!$DJ$3=2,T3,IF(Protokół!$DJ$3=3,AB3,IF(Protokół!$DJ$3=4,AJ3,\"\"))))","v":4},{"$f":"IF(Protokół!$DJ$3=1,M3,IF(Protokół!$DJ$3=2,U3,IF(Protokół!$DJ$3=3,AC3,IF(Protokół!$DJ$3=4,AK3,\"\"))))","v":2},{"$f":"IF(Protokół!$DJ$3=1,N3,IF(Protokół!$DJ$3=2,V3,IF(Protokół!$DJ$3=3,AD3,IF(Protokół!$DJ$3=4,AL3,\"\"))))","v":"SL Salos Szczecin"},{"$f":"IF(Protokół!$DJ$3=1,O3,IF(Protokół!$DJ$3=2,W3,IF(Protokół!$DJ$3=3,AE3,IF(Protokół!$DJ$3=4,AM3,\"\"))))","v":"Flota Świnoujście"},{"$f":"IF(Protokół!$DJ$3=1,P3,IF(Protokół!$DJ$3=2,X3,IF(Protokół!$DJ$3=3,AF3,IF(Protokół!$DJ$3=4,AN3,\"\"))))","v":"10:30:00"},2,"2020-09-12","Stargardzie",5,3,"KS ATS Stargard","WLKS Łobzonka Wyrzysk","10:30:00",3002,"2020-10-17",{"$f":"VLOOKUP(T3,$Q$167:$U$180,5,FALSE)","v":"Białogardzie"},3,13,{"$f":"VLOOKUP(T3,$Q$167:$U$180,2,FALSE)","v":"UKS Team Tenis 2005 Białogard"},{"$f":"VLOOKUP(U3,$Q$167:$U$180,2,FALSE)","v":"I KTS Koszalinianin Koszalin"},"10:30:00",4002,"2020-10-17",{"$f":"VLOOKUP(AB3,$Y$167:$AC$176,5,FALSE)","v":"Resku"},3,2,{"$f":"VLOOKUP(AB3,$Y$167:$AC$176,2,FALSE)","v":"LKS Mewa Resko"},{"$f":"VLOOKUP(AC3,$Y$167:$AC$176,2,FALSE)","v":"III KS ATS Stargard"},"10:30:00",5002,"2020-10-17",{"$f":"VLOOKUP(AJ3,$AG$167:$AK$178,5,FALSE)","v":"Szczecinie"},4,2,"SL Salos Szczecin","Flota Świnoujście","10:30:00"]
[{"$f":"IF(Protokół!$DJ$3=1,I4,IF(Protokół!$DJ$3=2,Q4,IF(Protokół!$DJ$3=3,Y4,IF(Protokół!$DJ$3=4,AG4,\"\"))))","v":5003},{"$f":"IF(Protokół!$DJ$3=1,J4,IF(Protokół!$DJ$3=2,R4,IF(Protokół!$DJ$3=3,Z4,IF(Protokół!$DJ$3=4,AH4,\"\"))))","v":"2020-10-17"},{"$f":"IF(Protokół!$DJ$3=1,K4,IF(Protokół!$DJ$3=2,S4,IF(Protokół!$DJ$3=3,AA4,IF(Protokół!$DJ$3=4,AI4,\"\"))))","v":"Kołobrzegu"},{"$f":"IF(Protokół!$DJ$3=1,L4,IF(Protokół!$DJ$3=2,T4,IF(Protokół!$DJ$3=3,AB4,IF(Protokół!$DJ$3=4,AJ4,\"\"))))","v":1},{"$f":"IF(Protokół!$DJ$3=1,M4,IF(Protokół!$DJ$3=2,U4,IF(Protokół!$DJ$3=3,AC4,IF(Protokół!$DJ$3=4,AK4,\"\"))))","v":3},{"$f":"IF(Protokół!$DJ$3=1,N4,IF(Protokół!$DJ$3=2,V4,IF(Protokół!$DJ$3=3,AD4,IF(Protokół!$DJ$3=4,AL4,\"\"))))","v":"III KKTS Kołobrzeg"},{"$f":"IF(Protokół!$DJ$3=1,O4,IF(Protokół!$DJ$3=2,W4,IF(Protokół!$DJ$3=3,AE4,IF(Protokół!$DJ$3=4,AM4,\"\"))))","v":"II STS Dębno"},{"$f":"IF(Protokół!$DJ$3=1,P4,IF(Protokół!$DJ$3=2,X4,IF(Protokół!$DJ$3=3,AF4,IF(Protokół!$DJ$3=4,AN4,\"\"))))","v":"10:30:00"},3,"2020-09-12","Dębnie",4,1,"STS Dębno","TOP-SPIN Szczecin","10:30:00",3003,"2020-10-17",{"$f":"VLOOKUP(T4,$Q$167:$U$180,5,FALSE)","v":"Świdwinie"},4,14,{"$f":"VLOOKUP(T4,$Q$167:$U$180,2,FALSE)","v":"MSZS Świdwin"},{"$f":"VLOOKUP(U4,$Q$167:$U$180,2,FALSE)","v":"II KTS Koszalinianin Koszalin"},"10:30:00",4003,"2020-10-17","Świdwinie",4,1,"II MSZS Świdwin","Gryfin S Spin Szczecin","10:30:00",5003,"2020-10-17","Kołobrzegu",1,3,"III KKTS Kołobrzeg","II STS Dębno","10:30:00"]
[{"$f":"IF(Protokół!$DJ$3=1,I5,IF(Protokół!$DJ$3=2,Q5,IF(Protokół!$DJ$3=3,Y5,IF(Protokół!$DJ$3=4,AG5,\"\"))))","v":5004},{"$f":"IF(Protokół!$DJ$3=1,J5,IF(Protokół!$DJ$3=2,R5,IF(Protokół!$DJ$3=3,Z5,IF(Protokół!$DJ$3=4,AH5,\"\"))))","v":"2020-10-24"},{"$f":"IF(Protokół!$DJ$3=1,K5,IF(Protokół!$DJ$3=2,S5,IF(Protokół!$DJ$3=3,AA5,IF(Protokół!$DJ$3=4,AI5,\"\"))))","v":"Tychowie"},{"$f":"IF(Protokół!$DJ$3=1,L5,IF(Protokół!$DJ$3=2,T5,IF(Protokół!$DJ$3=3,AB5,IF(Protokół!$DJ$3=4,AJ5,\"\"))))","v":6},{"$f":"IF(Protokół!$DJ$3=1,M5,IF(Protokół!$DJ$3=2,U5,IF(Protokół!$DJ$3=3,AC5,IF(Protokół!$DJ$3=4,AK5,\"\"))))","v":3},{"$f":"IF(Protokół!$DJ$3=1,N5,IF(Protokół!$DJ$3=2,V5,IF(Protokół!$DJ$3=3,AD5,IF(Protokół!$DJ$3=4,AL5,\"\"))))","v":"ULKS Tychowo"},{"$f":"IF(Protokół!$DJ$3=1,O5,IF(Protokół!$DJ$3=2,W5,IF(Protokół!$DJ$3=3,AE5,IF(Protokół!$DJ$3=4,AM5,\"\"))))","v":"II STS Dębno"},{"$f":"IF(Protokół!$DJ$3=1,P5,IF(Protokół!$DJ$3=2,X5,IF(Protokół!$DJ$3=3,AF5,IF(Protokół!$DJ$3=4,AN5,\"\"))))","v":"10:30:00"},4,"2020-09-12","Ostrorogu",6,7,"UKS Nałęcz Majster Ostroróg","UKS CHAMPIN Police","10:30:00",3004,"2020-10-17","Chojnie",7,12,"UKS-T VICTORIA Chojna","II UKS Champion Police","10:30:00",4004,"2020-10-17","Szczecinku",9,7,"II STLA Szczecinek","I UKS Chrobry Międzyzdroje","10:30:00",5004,"2020-10-24","Tychowie",6,3,"ULKS Tychowo","II STS Dębno","10:30:00"]
[{"$f":"IF(Protokół!$DJ$3=1,I6,IF(Protokół!$DJ$3=2,Q6,IF(Protokół!$DJ$3=3,Y6,IF(Protokół!$DJ$3=4,AG6,\"\"))))","v":5005},{"$f":"IF(Protokół!$DJ$3=1,J6,IF(Protokół!$DJ$3=2,R6,IF(Protokół!$DJ$3=3,Z6,IF(Protokół!$DJ$3=4,AH6,\"\"))))","v":"2020-10-24"},{"$f":"IF(Protokół!$DJ$3=1,K6,IF(Protokół!$DJ$3=2,S6,IF(Protokół!$DJ$3=3,AA6,IF(Protokół!$DJ$3=4,AI6,\"\"))))","v":"Świnoujściu"},{"$f":"IF(Protokół!$DJ$3=1,L6,IF(Protokół!$DJ$3=2,T6,IF(Protokół!$DJ$3=3,AB6,IF(Protokół!$DJ$3=4,AJ6,\"\"))))","v":2},{"$f":"IF(Protokół!$DJ$3=1,M6,IF(Protokół!$DJ$3=2,U6,IF(Protokół!$DJ$3=3,AC6,IF(Protokół!$DJ$3=4,AK6,\"\"))))","v":1},{"$f":"IF(Protokół!$DJ$3=1,N6,IF(Protokół!$DJ$3=2,V6,IF(Protokół!$DJ$3=3,AD6,IF(Protokół!$DJ$3=4,AL6,\"\"))))","v":"Flota Świnoujście"},{"$f":"IF(Protokół!$DJ$3=1,O6,IF(Protokół!$DJ$3=2,W6,IF(Protokół!$DJ$3=3,AE6,IF(Protokół!$DJ$3=4,AM6,\"\"))))","v":"III KKTS Kołobrzeg"},{"$f":"IF(Protokół!$DJ$3=1,P6,IF(Protokół!$DJ$3=2,X6,IF(Protokół!$DJ$3=3,AF6,IF(Protokół!$DJ$3=4,AN6,\"\"))))","v":"10:30:00"},5,"2020-09-12","Wierzbięcinie",2,3,"Visonex LUKS Top Wierzbięcin","WLKS Łobzonka Wyrzysk","15:30:00",3005,"2020-10-17","Pieszczu",5,9,"UKS Czarni Pieszcz","LUKS Gryfice","10:30:00",4005,"2020-10-17","Złocieńcu",10,8,"I ZTTS Złocieniec","II KKTS Kołobrzeg","10:30:00",5005,"2020-10-24","Świnoujściu",2,1,"Flota Świnoujście","III KKTS Kołobrzeg","10:30:00"]
[{"$f":"IF(Protokół!$DJ$3=1,I7,IF(Protokół!$DJ$3=2,Q7,IF(Protokół!$DJ$3=3,Y7,IF(Protokół!$DJ$3=4,AG7,\"\"))))","v":5006},{"$f":"IF(Protokół!$DJ$3=1,J7,IF(Protokół!$DJ$3=2,R7,IF(Protokół!$DJ$3=3,Z7,IF(Protokół!$DJ$3=4,AH7,\"\"))))","v":"2020-10-24"},{"$f":"IF(Protokół!$DJ$3=1,K7,IF(Protokół!$DJ$3=2,S7,IF(Protokół!$DJ$3=3,AA7,IF(Protokół!$DJ$3=4,AI7,\"\"))))","v":"Czaplinku"},{"$f":"IF(Protokół!$DJ$3=1,L7,IF(Protokół!$DJ$3=2,T7,IF(Protokół!$DJ$3=3,AB7,IF(Protokół!$DJ$3=4,AJ7,\"\"))))","v":5},{"$f":"IF(Protokół!$DJ$3=1,M7,IF(Protokół!$DJ$3=2,U7,IF(Protokół!$DJ$3=3,AC7,IF(Protokół!$DJ$3=4,AK7,\"\"))))","v":4},{"$f":"IF(Protokół!$DJ$3=1,N7,IF(Protokół!$DJ$3=2,V7,IF(Protokół!$DJ$3=3,AD7,IF(Protokół!$DJ$3=4,AL7,\"\"))))","v":"STS Czapla Czaplinek"},{"$f":"IF(Protokół!$DJ$3=1,O7,IF(Protokół!$DJ$3=2,W7,IF(Protokół!$DJ$3=3,AE7,IF(Protokół!$DJ$3=4,AM7,\"\"))))","v":"SL Salos Szczecin"},{"$f":"IF(Protokół!$DJ$3=1,P7,IF(Protokół!$DJ$3=2,X7,IF(Protokół!$DJ$3=3,AF7,IF(Protokół!$DJ$3=4,AN7,\"\"))))","v":"14:30:00"},6,"2020-09-12","Stargardzie",5,8,"KS ATS Stargard","STLS Szczecinek","15:30:00",3006,"2020-10-17","Kołobrzegu",6,10,"KKTS Kołobrzeg","LUKS Fala Trzebiatów","14:30:00",4006,"2020-10-17","Resku",3,1,"LKS Mewa Resko","Gryfin S Spin Szczecin","14:30:00",5006,"2020-10-24","Czaplinku",5,4,"STS Czapla Czaplinek","SL Salos Szczecin","14:30:00"]
[{"$f":"IF(Protokół!$DJ$3=1,I8,IF(Protokół!$DJ$3=2,Q8,IF(Protokół!$DJ$3=3,Y8,IF(Protokół!$DJ$3=4,AG8,\"\"))))","v":5007},{"$f":"IF(Protokół!$DJ$3=1,J8,IF(Protokół!$DJ$3=2,R8,IF(Protokół!$DJ$3=3,Z8,IF(Protokół!$DJ$3=4,AH8,\"\"))))","v":"2020-11-14"},{"$f":"IF(Protokół!$DJ$3=1,K8,IF(Protokół!$DJ$3=2,S8,IF(Protokół!$DJ$3=3,AA8,IF(Protokół!$DJ$3=4,AI8,\"\"))))","v":"Szczecinie"},{"$f":"IF(Protokół!$DJ$3=1,L8,IF(Protokół!$DJ$3=2,T8,IF(Protokół!$DJ$3=3,AB8,IF(Protokół!$DJ$3=4,AJ8,\"\"))))","v":4},{"$f":"IF(Protokół!$DJ$3=1,M8,IF(Protokół!$DJ$3=2,U8,IF(Protokół!$DJ$3=3,AC8,IF(Protokół!$DJ$3=4,AK8,\"\"))))","v":6},{"$f":"IF(Protokół!$DJ$3=1,N8,IF(Protokół!$DJ$3=2,V8,IF(Protokół!$DJ$3=3,AD8,IF(Protokół!$DJ$3=4,AL8,\"\"))))","v":"SL Salos Szczecin"},{"$f":"IF(Protokół!$DJ$3=1,O8,IF(Protokół!$DJ$3=2,W8,IF(Protokół!$DJ$3=3,AE8,IF(Protokół!$DJ$3=4,AM8,\"\"))))","v":"ULKS Tychowo"},{"$f":"IF(Protokół!$DJ$3=1,P8,IF(Protokół!$DJ$3=2,X8,IF(Protokół!$DJ$3=3,AF8,IF(Protokół!$DJ$3=4,AN8,\"\"))))","v":"14:30:00"},7,"2020-09-12","Dębnie",4,7,"STS Dębno","UKS CHAMPIN Police","15:00:00",3007,"2020-10-17","Białogardzie",3,14,"UKS Team Tenis 2005 Białogard","II KTS Koszalinianin Koszalin","14:30:00",4007,"2020-10-17","Świdwinie",4,2,"II MSZS Świdwin","III KS ATS Stargard","14:30:00",5007,"2020-11-14","Szczecinie",4,6,"SL Salos Szczecin","ULKS Tychowo","14:30:00"]
[{"$f":"IF(Protokół!$DJ$3=1,I9,IF(Protokół!$DJ$3=2,Q9,IF(Protokół!$DJ$3=3,Y9,IF(Protokół!$DJ$3=4,AG9,\"\"))))","v":5008},{"$f":"IF(Protokół!$DJ$3=1,J9,IF(Protokół!$DJ$3=2,R9,IF(Protokół!$DJ$3=3,Z9,IF(Protokół!$DJ$3=4,AH9,\"\"))))","v":"2020-11-14"},{"$f":"IF(Protokół!$DJ$3=1,K9,IF(Protokół!$DJ$3=2,S9,IF(Protokół!$DJ$3=3,AA9,IF(Protokół!$DJ$3=4,AI9,\"\"))))","v":"Kołobrzegu"},{"$f":"IF(Protokół!$DJ$3=1,L9,IF(Protokół!$DJ$3=2,T9,IF(Protokół!$DJ$3=3,AB9,IF(Protokół!$DJ$3=4,AJ9,\"\"))))","v":1},{"$f":"IF(Protokół!$DJ$3=1,M9,IF(Protokół!$DJ$3=2,U9,IF(Protokół!$DJ$3=3,AC9,IF(Protokół!$DJ$3=4,AK9,\"\"))))","v":5},{"$f":"IF(Protokół!$DJ$3=1,N9,IF(Protokół!$DJ$3=2,V9,IF(Protokół!$DJ$3=3,AD9,IF(Protokół!$DJ$3=4,AL9,\"\"))))","v":"III KKTS Kołobrzeg"},{"$f":"IF(Protokół!$DJ$3=1,O9,IF(Protokół!$DJ$3=2,W9,IF(Protokół!$DJ$3=3,AE9,IF(Protokół!$DJ$3=4,AM9,\"\"))))","v":"STS Czapla Czaplinek"},{"$f":"IF(Protokół!$DJ$3=1,P9,IF(Protokół!$DJ$3=2,X9,IF(Protokół!$DJ$3=3,AF9,IF(Protokół!$DJ$3=4,AN9,\"\"))))","v":"14:30:00"},8,"2020-09-12","Ostrorogu",6,1,"UKS Nałęcz Majster Ostroróg","TOP-SPIN Szczecin","15:00:00",3008,"2020-10-17","Świdwinie",4,13,"MSZS Świdwin","I KTS Koszalinianin Koszalin","14:30:00",4008,"2020-10-17","Szczecinku",9,8,"II STLA Szczecinek","II KKTS Kołobrzeg","14:30:00",5008,"2020-11-14","Kołobrzegu",1,5,"III KKTS Kołobrzeg","STS Czapla Czaplinek","14:30:00"]
[{"$f":"IF(Protokół!$DJ$3=1,I10,IF(Protokół!$DJ$3=2,Q10,IF(Protokół!$DJ$3=3,Y10,IF(Protokół!$DJ$3=4,AG10,\"\"))))","v":5009},{"$f":"IF(Protokół!$DJ$3=1,J10,IF(Protokół!$DJ$3=2,R10,IF(Protokół!$DJ$3=3,Z10,IF(Protokół!$DJ$3=4,AH10,\"\"))))","v":"2020-11-14"},{"$f":"IF(Protokół!$DJ$3=1,K10,IF(Protokół!$DJ$3=2,S10,IF(Protokół!$DJ$3=3,AA10,IF(Protokół!$DJ$3=4,AI10,\"\"))))","v":"Dębnie"},{"$f":"IF(Protokół!$DJ$3=1,L10,IF(Protokół!$DJ$3=2,T10,IF(Protokół!$DJ$3=3,AB10,IF(Protokół!$DJ$3=4,AJ10,\"\"))))","v":3},{"$f":"IF(Protokół!$DJ$3=1,M10,IF(Protokół!$DJ$3=2,U10,IF(Protokół!$DJ$3=3,AC10,IF(Protokół!$DJ$3=4,AK10,\"\"))))","v":2},{"$f":"IF(Protokół!$DJ$3=1,N10,IF(Protokół!$DJ$3=2,V10,IF(Protokół!$DJ$3=3,AD10,IF(Protokół!$DJ$3=4,AL10,\"\"))))","v":"II STS Dębno"},{"$f":"IF(Protokół!$DJ$3=1,O10,IF(Protokół!$DJ$3=2,W10,IF(Protokół!$DJ$3=3,AE10,IF(Protokół!$DJ$3=4,AM10,\"\"))))","v":"Flota Świnoujście"},{"$f":"IF(Protokół!$DJ$3=1,P10,IF(Protokół!$DJ$3=2,X10,IF(Protokół!$DJ$3=3,AF10,IF(Protokół!$DJ$3=4,AN10,\"\"))))","v":"14:30:00"},9,"2020-10-24","Szczecinku",8,4,{"$f":"VLOOKUP(L10,$I$166:$M$173,2,FALSE)","v":"STLS Szczecinek"},{"$f":"VLOOKUP(M10,$I$166:$M$173,2,FALSE)","v":"STS Dębno"},"10:30:00",3009,"2020-10-17","Chojnie",7,11,"UKS-T VICTORIA Chojna","Trzynastka Szczecin","14:30:00",4009,"2020-10-17","Złocieńcu",10,7,"I ZTTS Złocieniec","I UKS Chrobry Międzyzdroje","14:30:00",5009,"2020-11-14","Dębnie",3,2,"II STS Dębno","Flota Świnoujście","14:30:00"]
[{"$f":"IF(Protokół!$DJ$3=1,I11,IF(Protokół!$DJ$3=2,Q11,IF(Protokół!$DJ$3=3,Y11,IF(Protokół!$DJ$3=4,AG11,\"\"))))","v":5010},{"$f":"IF(Protokół!$DJ$3=1,J11,IF(Protokół!$DJ$3=2,R11,IF(Protokół!$DJ$3=3,Z11,IF(Protokół!$DJ$3=4,AH11,\"\"))))","v":"2020-11-28"},{"$f":"IF(Protokół!$DJ$3=1,K11,IF(Protokół!$DJ$3=2,S11,IF(Protokół!$DJ$3=3,AA11,IF(Protokół!$DJ$3=4,AI11,\"\"))))","v":"Tychowie"},{"$f":"IF(Protokół!$DJ$3=1,L11,IF(Protokół!$DJ$3=2,T11,IF(Protokół!$DJ$3=3,AB11,IF(Protokół!$DJ$3=4,AJ11,\"\"))))","v":6},{"$f":"IF(Protokół!$DJ$3=1,M11,IF(Protokół!$DJ$3=2,U11,IF(Protokół!$DJ$3=3,AC11,IF(Protokół!$DJ$3=4,AK11,\"\"))))","v":2},{"$f":"IF(Protokół!$DJ$3=1,N11,IF(Protokół!$DJ$3=2,V11,IF(Protokół!$DJ$3=3,AD11,IF(Protokół!$DJ$3=4,AL11,\"\"))))","v":"ULKS Tychowo"},{"$f":"IF(Protokół!$DJ$3=1,O11,IF(Protokół!$DJ$3=2,W11,IF(Protokół!$DJ$3=3,AE11,IF(Protokół!$DJ$3=4,AM11,\"\"))))","v":"Flota Świnoujście"},{"$f":"IF(Protokół!$DJ$3=1,P11,IF(Protokół!$DJ$3=2,X11,IF(Protokół!$DJ$3=3,AF11,IF(Protokół!$DJ$3=4,AN11,\"\"))))","v":"14:30:00"},10,"2020-10-24","Wyrzysku",3,6,"WLKS Łobzonka Wyrzysk","UKS Nałęcz Majster Ostroróg","10:30:00",3010,"2020-10-17","Pieszczu",5,10,"UKS Czarni Pieszcz","LUKS Fala Trzebiatów","10:30:00",4010,"2020-10-24","Międzyzdrojach",7,8,"I UKS Chrobry Międzyzdroje","II KKTS Kołobrzeg","10:30:00",5010,"2020-11-28","Tychowie",6,2,"ULKS Tychowo","Flota Świnoujście","14:30:00"]
[{"$f":"IF(Protokół!$DJ$3=1,I12,IF(Protokół!$DJ$3=2,Q12,IF(Protokół!$DJ$3=3,Y12,IF(Protokół!$DJ$3=4,AG12,\"\"))))","v":5011},{"$f":"IF(Protokół!$DJ$3=1,J12,IF(Protokół!$DJ$3=2,R12,IF(Protokół!$DJ$3=3,Z12,IF(Protokół!$DJ$3=4,AH12,\"\"))))","v":"2020-11-28"},{"$f":"IF(Protokół!$DJ$3=1,K12,IF(Protokół!$DJ$3=2,S12,IF(Protokół!$DJ$3=3,AA12,IF(Protokół!$DJ$3=4,AI12,\"\"))))","v":"Czaplinku"},{"$f":"IF(Protokół!$DJ$3=1,L12,IF(Protokół!$DJ$3=2,T12,IF(Protokół!$DJ$3=3,AB12,IF(Protokół!$DJ$3=4,AJ12,\"\"))))","v":5},{"$f":"IF(Protokół!$DJ$3=1,M12,IF(Protokół!$DJ$3=2,U12,IF(Protokół!$DJ$3=3,AC12,IF(Protokół!$DJ$3=4,AK12,\"\"))))","v":3},{"$f":"IF(Protokół!$DJ$3=1,N12,IF(Protokół!$DJ$3=2,V12,IF(Protokół!$DJ$3=3,AD12,IF(Protokół!$DJ$3=4,AL12,\"\"))))","v":"STS Czapla Czaplinek"},{"$f":"IF(Protokół!$DJ$3=1,O12,IF(Protokół!$DJ$3=2,W12,IF(Protokół!$DJ$3=3,AE12,IF(Protokół!$DJ$3=4,AM12,\"\"))))","v":"II STS Dębno"},{"$f":"IF(Protokół!$DJ$3=1,P12,IF(Protokół!$DJ$3=2,X12,IF(Protokół!$DJ$3=3,AF12,IF(Protokół!$DJ$3=4,AN12,\"\"))))","v":"10:30:00"},11,"2020-10-24","Szczecinie",1,2,"TOP-SPIN Szczecin","Visonex LUKS Top Wierzbięcin","10:30:00",3011,"2020-10-17","Kołobrzegu",6,9,"KKTS Kołobrzeg","LUKS Gryfice","10:30:00",4011,"2020-10-24","Stargardzie",2,9,"III KS ATS Stargard","II STLA Szczecinek","10:30:00",5011,"2020-11-28","Czaplinku",5,3,"STS Czapla Czaplinek","II STS Dębno","10:30:00"]
[{"$f":"IF(Protokół!$DJ$3=1,I13,IF(Protokół!$DJ$3=2,Q13,IF(Protokół!$DJ$3=3,Y13,IF(Protokół!$DJ$3=4,AG13,\"\"))))","v":5012},{"$f":"IF(Protokół!$DJ$3=1,J13,IF(Protokół!$DJ$3=2,R13,IF(Protokół!$DJ$3=3,Z13,IF(Protokół!$DJ$3=4,AH13,\"\"))))","v":"2020-11-28"},{"$f":"IF(Protokół!$DJ$3=1,K13,IF(Protokół!$DJ$3=2,S13,IF(Protokół!$DJ$3=3,AA13,IF(Protokół!$DJ$3=4,AI13,\"\"))))","v":"Szczecinie"},{"$f":"IF(Protokół!$DJ$3=1,L13,IF(Protokół!$DJ$3=2,T13,IF(Protokół!$DJ$3=3,AB13,IF(Protokół!$DJ$3=4,AJ13,\"\"))))","v":4},{"$f":"IF(Protokół!$DJ$3=1,M13,IF(Protokół!$DJ$3=2,U13,IF(Protokół!$DJ$3=3,AC13,IF(Protokół!$DJ$3=4,AK13,\"\"))))","v":1},{"$f":"IF(Protokół!$DJ$3=1,N13,IF(Protokół!$DJ$3=2,V13,IF(Protokół!$DJ$3=3,AD13,IF(Protokół!$DJ$3=4,AL13,\"\"))))","v":"SL Salos Szczecin"},{"$f":"IF(Protokół!$DJ$3=1,O13,IF(Protokół!$DJ$3=2,W13,IF(Protokół!$DJ$3=3,AE13,IF(Protokół!$DJ$3=4,AM13,\"\"))))","v":"III KKTS Kołobrzeg"},{"$f":"IF(Protokół!$DJ$3=1,P13,IF(Protokół!$DJ$3=2,X13,IF(Protokół!$DJ$3=3,AF13,IF(Protokół!$DJ$3=4,AN13,\"\"))))","v":"10:30:00"},12,"2020-10-24","Policach",7,5,"UKS CHAMPIN Police","KS ATS Stargard","10:30:00",3012,"2020-10-24","Gryficach",9,10,"LUKS Gryfice","LUKS Fala Trzebiatów","10:30:00",4012,"2020-10-24","Szczecinie",1,10,"Gryfin S Spin Szczecin","I ZTTS Złocieniec","10:30:00",5012,"2020-11-28","Szczecinie",4,1,"SL Salos Szczecin","III KKTS Kołobrzeg","10:30:00"]
[{"$f":"IF(Protokół!$DJ$3=1,I14,IF(Protokół!$DJ$3=2,Q14,IF(Protokół!$DJ$3=3,Y14,IF(Protokół!$DJ$3=4,AG14,\"\"))))","v":5013},{"$f":"IF(Protokół!$DJ$3=1,J14,IF(Protokół!$DJ$3=2,R14,IF(Protokół!$DJ$3=3,Z14,IF(Protokół!$DJ$3=4,AH14,\"\"))))","v":"2020-12-05"},{"$f":"IF(Protokół!$DJ$3=1,K14,IF(Protokół!$DJ$3=2,S14,IF(Protokół!$DJ$3=3,AA14,IF(Protokół!$DJ$3=4,AI14,\"\"))))","v":"Kołobrzegu"},{"$f":"IF(Protokół!$DJ$3=1,L14,IF(Protokół!$DJ$3=2,T14,IF(Protokół!$DJ$3=3,AB14,IF(Protokół!$DJ$3=4,AJ14,\"\"))))","v":1},{"$f":"IF(Protokół!$DJ$3=1,M14,IF(Protokół!$DJ$3=2,U14,IF(Protokół!$DJ$3=3,AC14,IF(Protokół!$DJ$3=4,AK14,\"\"))))","v":6},{"$f":"IF(Protokół!$DJ$3=1,N14,IF(Protokół!$DJ$3=2,V14,IF(Protokół!$DJ$3=3,AD14,IF(Protokół!$DJ$3=4,AL14,\"\"))))","v":"III KKTS Kołobrzeg"},{"$f":"IF(Protokół!$DJ$3=1,O14,IF(Protokół!$DJ$3=2,W14,IF(Protokół!$DJ$3=3,AE14,IF(Protokół!$DJ$3=4,AM14,\"\"))))","v":"ULKS Tychowo"},{"$f":"IF(Protokół!$DJ$3=1,P14,IF(Protokół!$DJ$3=2,X14,IF(Protokół!$DJ$3=3,AF14,IF(Protokół!$DJ$3=4,AN14,\"\"))))","v":"10:30:00"},13,"2020-10-24","Szczecinku",8,6,"STLS Szczecinek","UKS Nałęcz Majster Ostroróg","15:30:00",3013,"2020-10-24","Policach",12,5,"II UKS Champion Police","UKS Czarni Pieszcz","10:30:00",4013,"2020-10-24","Stepnicy",5,3,"I UKS Zalew Stepnica","LKS Mewa Resko","10:30:00",5013,"2020-12-05","Kołobrzegu",1,6,"III KKTS Kołobrzeg","ULKS Tychowo","10:30:00",{"$f":"SUM(AJ14:AK25)","v":84}]
[{"$f":"IF(Protokół!$DJ$3=1,I15,IF(Protokół!$DJ$3=2,Q15,IF(Protokół!$DJ$3=3,Y15,IF(Protokół!$DJ$3=4,AG15,\"\"))))","v":5014},{"$f":"IF(Protokół!$DJ$3=1,J15,IF(Protokół!$DJ$3=2,R15,IF(Protokół!$DJ$3=3,Z15,IF(Protokół!$DJ$3=4,AH15,\"\"))))","v":"2020-12-05"},{"$f":"IF(Protokół!$DJ$3=1,K15,IF(Protokół!$DJ$3=2,S15,IF(Protokół!$DJ$3=3,AA15,IF(Protokół!$DJ$3=4,AI15,\"\"))))","v":"Dębnie"},{"$f":"IF(Protokół!$DJ$3=1,L15,IF(Protokół!$DJ$3=2,T15,IF(Protokół!$DJ$3=3,AB15,IF(Protokół!$DJ$3=4,AJ15,\"\"))))","v":3},{"$f":"IF(Protokół!$DJ$3=1,M15,IF(Protokół!$DJ$3=2,U15,IF(Protokół!$DJ$3=3,AC15,IF(Protokół!$DJ$3=4,AK15,\"\"))))","v":4},{"$f":"IF(Protokół!$DJ$3=1,N15,IF(Protokół!$DJ$3=2,V15,IF(Protokół!$DJ$3=3,AD15,IF(Protokół!$DJ$3=4,AL15,\"\"))))","v":"II STS Dębno"},{"$f":"IF(Protokół!$DJ$3=1,O15,IF(Protokół!$DJ$3=2,W15,IF(Protokół!$DJ$3=3,AE15,IF(Protokół!$DJ$3=4,AM15,\"\"))))","v":"SL Salos Szczecin"},{"$f":"IF(Protokół!$DJ$3=1,P15,IF(Protokół!$DJ$3=2,X15,IF(Protokół!$DJ$3=3,AF15,IF(Protokół!$DJ$3=4,AN15,\"\"))))","v":"10:30:00"},14,"2020-10-24","Wyrzysku",3,4,"WLKS Łobzonka Wyrzysk","STS Dębno","15:30:00",3014,"2020-10-24","Szczecinie-Zdunowie",11,6,"Trzynastka Szczecin","KKTS Kołobrzeg","10:30:00",4014,"2020-10-24","Stepnicy",6,4,"II UKS Zalew Stepnica","II MSZS Świdwin","10:30:00",5014,"2020-12-05","Dębnie",3,4,"II STS Dębno","SL Salos Szczecin","10:30:00"]
[{"$f":"IF(Protokół!$DJ$3=1,I16,IF(Protokół!$DJ$3=2,Q16,IF(Protokół!$DJ$3=3,Y16,IF(Protokół!$DJ$3=4,AG16,\"\"))))","v":5015},{"$f":"IF(Protokół!$DJ$3=1,J16,IF(Protokół!$DJ$3=2,R16,IF(Protokół!$DJ$3=3,Z16,IF(Protokół!$DJ$3=4,AH16,\"\"))))","v":"2020-12-05"},{"$f":"IF(Protokół!$DJ$3=1,K16,IF(Protokół!$DJ$3=2,S16,IF(Protokół!$DJ$3=3,AA16,IF(Protokół!$DJ$3=4,AI16,\"\"))))","v":"Świnoujściu"},{"$f":"IF(Protokół!$DJ$3=1,L16,IF(Protokół!$DJ$3=2,T16,IF(Protokół!$DJ$3=3,AB16,IF(Protokół!$DJ$3=4,AJ16,\"\"))))","v":2},{"$f":"IF(Protokół!$DJ$3=1,M16,IF(Protokół!$DJ$3=2,U16,IF(Protokół!$DJ$3=3,AC16,IF(Protokół!$DJ$3=4,AK16,\"\"))))","v":5},{"$f":"IF(Protokół!$DJ$3=1,N16,IF(Protokół!$DJ$3=2,V16,IF(Protokół!$DJ$3=3,AD16,IF(Protokół!$DJ$3=4,AL16,\"\"))))","v":"Flota Świnoujście"},{"$f":"IF(Protokół!$DJ$3=1,O16,IF(Protokół!$DJ$3=2,W16,IF(Protokół!$DJ$3=3,AE16,IF(Protokół!$DJ$3=4,AM16,\"\"))))","v":"STS Czapla Czaplinek"},{"$f":"IF(Protokół!$DJ$3=1,P16,IF(Protokół!$DJ$3=2,X16,IF(Protokół!$DJ$3=3,AF16,IF(Protokół!$DJ$3=4,AN16,\"\"))))","v":"10:30:00"},15,"2020-10-24","Szczecinie",1,5,"TOP-SPIN Szczecin","KS ATS Stargard","15:00:00",3015,"2020-10-24","Koszalinie",13,7,"I KTS Koszalinianin Koszalin","UKS-T VICTORIA Chojna","14:30:00",4015,"2020-10-24","Stargardzie",2,10,"III KS ATS Stargard","I ZTTS Złocieniec","14:30:00",5015,"2020-12-05","Świnoujściu",2,5,"Flota Świnoujście","STS Czapla Czaplinek","10:30:00"]
[{"$f":"IF(Protokół!$DJ$3=1,I17,IF(Protokół!$DJ$3=2,Q17,IF(Protokół!$DJ$3=3,Y17,IF(Protokół!$DJ$3=4,AG17,\"\"))))","v":5016},{"$f":"IF(Protokół!$DJ$3=1,J17,IF(Protokół!$DJ$3=2,R17,IF(Protokół!$DJ$3=3,Z17,IF(Protokół!$DJ$3=4,AH17,\"\"))))","v":"2021-03-06"},{"$f":"IF(Protokół!$DJ$3=1,K17,IF(Protokół!$DJ$3=2,S17,IF(Protokół!$DJ$3=3,AA17,IF(Protokół!$DJ$3=4,AI17,\"\"))))","v":"Tychowie"},{"$f":"IF(Protokół!$DJ$3=1,L17,IF(Protokół!$DJ$3=2,T17,IF(Protokół!$DJ$3=3,AB17,IF(Protokół!$DJ$3=4,AJ17,\"\"))))","v":6},{"$f":"IF(Protokół!$DJ$3=1,M17,IF(Protokół!$DJ$3=2,U17,IF(Protokół!$DJ$3=3,AC17,IF(Protokół!$DJ$3=4,AK17,\"\"))))","v":5},{"$f":"IF(Protokół!$DJ$3=1,N17,IF(Protokół!$DJ$3=2,V17,IF(Protokół!$DJ$3=3,AD17,IF(Protokół!$DJ$3=4,AL17,\"\"))))","v":"ULKS Tychowo"},{"$f":"IF(Protokół!$DJ$3=1,O17,IF(Protokół!$DJ$3=2,W17,IF(Protokół!$DJ$3=3,AE17,IF(Protokół!$DJ$3=4,AM17,\"\"))))","v":"STS Czapla Czaplinek"},{"$f":"IF(Protokół!$DJ$3=1,P17,IF(Protokół!$DJ$3=2,X17,IF(Protokół!$DJ$3=3,AF17,IF(Protokół!$DJ$3=4,AN17,\"\"))))","v":"14:30:00"},16,"2020-10-24","Policach",7,2,"UKS CHAMPIN Police","Visonex LUKS Top Wierzbięcin","15:00:00",3016,"2020-10-24","Wierzbięcinie",1,3,"II Visonex LUKS Top Wierzbięcin","UKS Team Tenis 2005 Białogard","14:30:00",4016,"2020-10-24","Szczecinie",1,9,"Gryfin S Spin Szczecin","II STLA Szczecinek","14:30:00",5016,"2021-03-06","Tychowie",6,5,"ULKS Tychowo","STS Czapla Czaplinek","14:30:00"]
[{"$f":"IF(Protokół!$DJ$3=1,I18,IF(Protokół!$DJ$3=2,Q18,IF(Protokół!$DJ$3=3,Y18,IF(Protokół!$DJ$3=4,AG18,\"\"))))","v":5017},{"$f":"IF(Protokół!$DJ$3=1,J18,IF(Protokół!$DJ$3=2,R18,IF(Protokół!$DJ$3=3,Z18,IF(Protokół!$DJ$3=4,AH18,\"\"))))","v":"2021-03-06"},{"$f":"IF(Protokół!$DJ$3=1,K18,IF(Protokół!$DJ$3=2,S18,IF(Protokół!$DJ$3=3,AA18,IF(Protokół!$DJ$3=4,AI18,\"\"))))","v":"Świnoujściu"},{"$f":"IF(Protokół!$DJ$3=1,L18,IF(Protokół!$DJ$3=2,T18,IF(Protokół!$DJ$3=3,AB18,IF(Protokół!$DJ$3=4,AJ18,\"\"))))","v":2},{"$f":"IF(Protokół!$DJ$3=1,M18,IF(Protokół!$DJ$3=2,U18,IF(Protokół!$DJ$3=3,AC18,IF(Protokół!$DJ$3=4,AK18,\"\"))))","v":4},{"$f":"IF(Protokół!$DJ$3=1,N18,IF(Protokół!$DJ$3=2,V18,IF(Protokół!$DJ$3=3,AD18,IF(Protokół!$DJ$3=4,AL18,\"\"))))","v":"Flota Świnoujście"},{"$f":"IF(Protokół!$DJ$3=1,O18,IF(Protokół!$DJ$3=2,W18,IF(Protokół!$DJ$3=3,AE18,IF(Protokół!$DJ$3=4,AM18,\"\"))))","v":"SL Salos Szczecin"},{"$f":"IF(Protokół!$DJ$3=1,P18,IF(Protokół!$DJ$3=2,X18,IF(Protokół!$DJ$3=3,AF18,IF(Protokół!$DJ$3=4,AN18,\"\"))))","v":"14:30:00"},17,"2020-11-28",{"$f":"VLOOKUP(L18,$I$166:$M$173,5,FALSE)","v":"Wierzbięcinie"},2,4,{"$f":"VLOOKUP(L18,$I$166:$M$173,2,FALSE)","v":"Visonex LUKS Top Wierzbięcin"},"STS Dębno","11:00:00",3017,"2020-10-24","Stargardzie",2,4,"II KS ATS Stargard","MSZS Świdwin","14:30:00",4017,"2020-10-24","Stepnicy",5,4,"I UKS Zalew Stepnica","II MSZS Świdwin","14:30:00",5017,"2021-03-06","Świnoujściu",2,4,"Flota Świnoujście","SL Salos Szczecin","14:30:00"]
[{"$f":"IF(Protokół!$DJ$3=1,I19,IF(Protokół!$DJ$3=2,Q19,IF(Protokół!$DJ$3=3,Y19,IF(Protokół!$DJ$3=4,AG19,\"\"))))","v":5018},{"$f":"IF(Protokół!$DJ$3=1,J19,IF(Protokół!$DJ$3=2,R19,IF(Protokół!$DJ$3=3,Z19,IF(Protokół!$DJ$3=4,AH19,\"\"))))","v":"2021-03-06"},{"$f":"IF(Protokół!$DJ$3=1,K19,IF(Protokół!$DJ$3=2,S19,IF(Protokół!$DJ$3=3,AA19,IF(Protokół!$DJ$3=4,AI19,\"\"))))","v":"Dębnie"},{"$f":"IF(Protokół!$DJ$3=1,L19,IF(Protokół!$DJ$3=2,T19,IF(Protokół!$DJ$3=3,AB19,IF(Protokół!$DJ$3=4,AJ19,\"\"))))","v":3},{"$f":"IF(Protokół!$DJ$3=1,M19,IF(Protokół!$DJ$3=2,U19,IF(Protokół!$DJ$3=3,AC19,IF(Protokół!$DJ$3=4,AK19,\"\"))))","v":1},{"$f":"IF(Protokół!$DJ$3=1,N19,IF(Protokół!$DJ$3=2,V19,IF(Protokół!$DJ$3=3,AD19,IF(Protokół!$DJ$3=4,AL19,\"\"))))","v":"II STS Dębno"},{"$f":"IF(Protokół!$DJ$3=1,O19,IF(Protokół!$DJ$3=2,W19,IF(Protokół!$DJ$3=3,AE19,IF(Protokół!$DJ$3=4,AM19,\"\"))))","v":"III KKTS Kołobrzeg"},{"$f":"IF(Protokół!$DJ$3=1,P19,IF(Protokół!$DJ$3=2,X19,IF(Protokół!$DJ$3=3,AF19,IF(Protokół!$DJ$3=4,AN19,\"\"))))","v":"14:30:00"},18,"2020-11-28","Stargardzie",5,6,"KS ATS Stargard","UKS Nałęcz Majster Ostroróg","11:00:00",3018,"2020-10-24","Policach",12,6,"II UKS Champion Police","KKTS Kołobrzeg","14:30:00",4018,"2020-10-24","Stepnicy",6,3,"II UKS Zalew Stepnica","LKS Mewa Resko","14:30:00",5018,"2021-03-06","Dębnie",3,1,"II STS Dębno","III KKTS Kołobrzeg","14:30:00"]
[{"$f":"IF(Protokół!$DJ$3=1,I20,IF(Protokół!$DJ$3=2,Q20,IF(Protokół!$DJ$3=3,Y20,IF(Protokół!$DJ$3=4,AG20,\"\"))))","v":5019},{"$f":"IF(Protokół!$DJ$3=1,J20,IF(Protokół!$DJ$3=2,R20,IF(Protokół!$DJ$3=3,Z20,IF(Protokół!$DJ$3=4,AH20,\"\"))))","v":"2021-03-13"},{"$f":"IF(Protokół!$DJ$3=1,K20,IF(Protokół!$DJ$3=2,S20,IF(Protokół!$DJ$3=3,AA20,IF(Protokół!$DJ$3=4,AI20,\"\"))))","v":"Dębnie"},{"$f":"IF(Protokół!$DJ$3=1,L20,IF(Protokół!$DJ$3=2,T20,IF(Protokół!$DJ$3=3,AB20,IF(Protokół!$DJ$3=4,AJ20,\"\"))))","v":3},{"$f":"IF(Protokół!$DJ$3=1,M20,IF(Protokół!$DJ$3=2,U20,IF(Protokół!$DJ$3=3,AC20,IF(Protokół!$DJ$3=4,AK20,\"\"))))","v":6},{"$f":"IF(Protokół!$DJ$3=1,N20,IF(Protokół!$DJ$3=2,V20,IF(Protokół!$DJ$3=3,AD20,IF(Protokół!$DJ$3=4,AL20,\"\"))))","v":"II STS Dębno"},{"$f":"IF(Protokół!$DJ$3=1,O20,IF(Protokół!$DJ$3=2,W20,IF(Protokół!$DJ$3=3,AE20,IF(Protokół!$DJ$3=4,AM20,\"\"))))","v":"ULKS Tychowo"},{"$f":"IF(Protokół!$DJ$3=1,P20,IF(Protokół!$DJ$3=2,X20,IF(Protokół!$DJ$3=3,AF20,IF(Protokół!$DJ$3=4,AN20,\"\"))))","v":"14:30:00"},19,"2020-11-28","Szczecinie",1,8,"TOP-SPIN Szczecin","STLS Szczecinek","11:00:00",3019,"2020-10-24","Szczecinie-Zdunowie",11,5,"Trzynastka Szczecin","UKS Czarni Pieszcz","10:30:00",4019,"2020-11-14","Resku",3,4,"LKS Mewa Resko","II MSZS Świdwin","10:30:00",5019,"2021-03-13","Dębnie",3,6,"II STS Dębno","ULKS Tychowo","14:30:00"]
[{"$f":"IF(Protokół!$DJ$3=1,I21,IF(Protokół!$DJ$3=2,Q21,IF(Protokół!$DJ$3=3,Y21,IF(Protokół!$DJ$3=4,AG21,\"\"))))","v":5020},{"$f":"IF(Protokół!$DJ$3=1,J21,IF(Protokół!$DJ$3=2,R21,IF(Protokół!$DJ$3=3,Z21,IF(Protokół!$DJ$3=4,AH21,\"\"))))","v":"2021-03-13"},{"$f":"IF(Protokół!$DJ$3=1,K21,IF(Protokół!$DJ$3=2,S21,IF(Protokół!$DJ$3=3,AA21,IF(Protokół!$DJ$3=4,AI21,\"\"))))","v":"Kołobrzegu"},{"$f":"IF(Protokół!$DJ$3=1,L21,IF(Protokół!$DJ$3=2,T21,IF(Protokół!$DJ$3=3,AB21,IF(Protokół!$DJ$3=4,AJ21,\"\"))))","v":1},{"$f":"IF(Protokół!$DJ$3=1,M21,IF(Protokół!$DJ$3=2,U21,IF(Protokół!$DJ$3=3,AC21,IF(Protokół!$DJ$3=4,AK21,\"\"))))","v":2},{"$f":"IF(Protokół!$DJ$3=1,N21,IF(Protokół!$DJ$3=2,V21,IF(Protokół!$DJ$3=3,AD21,IF(Protokół!$DJ$3=4,AL21,\"\"))))","v":"III KKTS Kołobrzeg"},{"$f":"IF(Protokół!$DJ$3=1,O21,IF(Protokół!$DJ$3=2,W21,IF(Protokół!$DJ$3=3,AE21,IF(Protokół!$DJ$3=4,AM21,\"\"))))","v":"Flota Świnoujście"},{"$f":"IF(Protokół!$DJ$3=1,P21,IF(Protokół!$DJ$3=2,X21,IF(Protokół!$DJ$3=3,AF21,IF(Protokół!$DJ$3=4,AN21,\"\"))))","v":"14:30:00"},20,"2020-11-28","Policach",7,3,"UKS CHAMPIN Police","WLKS Łobzonka Wyrzysk","11:00:00",3020,"2020-10-24","Koszalinie",14,7,"II KTS Koszalinianin Koszalin","UKS-T VICTORIA Chojna","10:30:00",4020,"2020-11-14","Szczecinku",9,5,"II STLA Szczecinek","I UKS Zalew Stepnica","10:30:00",5020,"2021-03-13","Kołobrzegu",1,2,"III KKTS Kołobrzeg","Flota Świnoujście","14:30:00"]
[{"$f":"IF(Protokół!$DJ$3=1,I22,IF(Protokół!$DJ$3=2,Q22,IF(Protokół!$DJ$3=3,Y22,IF(Protokół!$DJ$3=4,AG22,\"\"))))","v":5021},{"$f":"IF(Protokół!$DJ$3=1,J22,IF(Protokół!$DJ$3=2,R22,IF(Protokół!$DJ$3=3,Z22,IF(Protokół!$DJ$3=4,AH22,\"\"))))","v":"2021-03-13"},{"$f":"IF(Protokół!$DJ$3=1,K22,IF(Protokół!$DJ$3=2,S22,IF(Protokół!$DJ$3=3,AA22,IF(Protokół!$DJ$3=4,AI22,\"\"))))","v":"Szczecinie"},{"$f":"IF(Protokół!$DJ$3=1,L22,IF(Protokół!$DJ$3=2,T22,IF(Protokół!$DJ$3=3,AB22,IF(Protokół!$DJ$3=4,AJ22,\"\"))))","v":4},{"$f":"IF(Protokół!$DJ$3=1,M22,IF(Protokół!$DJ$3=2,U22,IF(Protokół!$DJ$3=3,AC22,IF(Protokół!$DJ$3=4,AK22,\"\"))))","v":5},{"$f":"IF(Protokół!$DJ$3=1,N22,IF(Protokół!$DJ$3=2,V22,IF(Protokół!$DJ$3=3,AD22,IF(Protokół!$DJ$3=4,AL22,\"\"))))","v":"SL Salos Szczecin"},{"$f":"IF(Protokół!$DJ$3=1,O22,IF(Protokół!$DJ$3=2,W22,IF(Protokół!$DJ$3=3,AE22,IF(Protokół!$DJ$3=4,AM22,\"\"))))","v":"STS Czapla Czaplinek"},{"$f":"IF(Protokół!$DJ$3=1,P22,IF(Protokół!$DJ$3=2,X22,IF(Protokół!$DJ$3=3,AF22,IF(Protokół!$DJ$3=4,AN22,\"\"))))","v":"10:30:00"},21,"2020-11-28","Wierzbięcinie",2,6,"Visonex LUKS Top Wierzbięcin","UKS Nałęcz Majster Ostroróg","15:00:00",3021,"2020-10-24","Wierzbięcinie",1,4,"II Visonex LUKS Top Wierzbięcin","MSZS Świdwin","10:30:00",4021,"2020-11-14","Złocieńcu",10,6,"I ZTTS Złocieniec","II UKS Zalew Stepnica","10:30:00",5021,"2021-03-13","Szczecinie",4,5,"SL Salos Szczecin","STS Czapla Czaplinek","10:30:00"]
[{"$f":"IF(Protokół!$DJ$3=1,I23,IF(Protokół!$DJ$3=2,Q23,IF(Protokół!$DJ$3=3,Y23,IF(Protokół!$DJ$3=4,AG23,\"\"))))","v":5022},{"$f":"IF(Protokół!$DJ$3=1,J23,IF(Protokół!$DJ$3=2,R23,IF(Protokół!$DJ$3=3,Z23,IF(Protokół!$DJ$3=4,AH23,\"\"))))","v":"2021-05-29"},{"$f":"IF(Protokół!$DJ$3=1,K23,IF(Protokół!$DJ$3=2,S23,IF(Protokół!$DJ$3=3,AA23,IF(Protokół!$DJ$3=4,AI23,\"\"))))","v":"Tychowie"},{"$f":"IF(Protokół!$DJ$3=1,L23,IF(Protokół!$DJ$3=2,T23,IF(Protokół!$DJ$3=3,AB23,IF(Protokół!$DJ$3=4,AJ23,\"\"))))","v":6},{"$f":"IF(Protokół!$DJ$3=1,M23,IF(Protokół!$DJ$3=2,U23,IF(Protokół!$DJ$3=3,AC23,IF(Protokół!$DJ$3=4,AK23,\"\"))))","v":4},{"$f":"IF(Protokół!$DJ$3=1,N23,IF(Protokół!$DJ$3=2,V23,IF(Protokół!$DJ$3=3,AD23,IF(Protokół!$DJ$3=4,AL23,\"\"))))","v":"ULKS Tychowo"},{"$f":"IF(Protokół!$DJ$3=1,O23,IF(Protokół!$DJ$3=2,W23,IF(Protokół!$DJ$3=3,AE23,IF(Protokół!$DJ$3=4,AM23,\"\"))))","v":"SL Salos Szczecin"},{"$f":"IF(Protokół!$DJ$3=1,P23,IF(Protokół!$DJ$3=2,X23,IF(Protokół!$DJ$3=3,AF23,IF(Protokół!$DJ$3=4,AN23,\"\"))))","v":"10:30:00"},22,"2020-11-28","Stargardzie",5,4,"KS ATS Stargard","STS Dębno","15:00:00",3022,"2020-10-24","Stargardzie",2,3,"II KS ATS Stargard","UKS Team Tenis 2005 Białogard","10:30:00",4022,"2020-11-14","Międzyzdrojach",7,2,"I UKS Chrobry Międzyzdroje","III KS ATS Stargard","10:30:00",5022,"2021-05-29","Tychowie",6,4,"ULKS Tychowo","SL Salos Szczecin","10:30:00"]
[{"$f":"IF(Protokół!$DJ$3=1,I24,IF(Protokół!$DJ$3=2,Q24,IF(Protokół!$DJ$3=3,Y24,IF(Protokół!$DJ$3=4,AG24,\"\"))))","v":5023},{"$f":"IF(Protokół!$DJ$3=1,J24,IF(Protokół!$DJ$3=2,R24,IF(Protokół!$DJ$3=3,Z24,IF(Protokół!$DJ$3=4,AH24,\"\"))))","v":"2021-05-29"},{"$f":"IF(Protokół!$DJ$3=1,K24,IF(Protokół!$DJ$3=2,S24,IF(Protokół!$DJ$3=3,AA24,IF(Protokół!$DJ$3=4,AI24,\"\"))))","v":"Czaplinku"},{"$f":"IF(Protokół!$DJ$3=1,L24,IF(Protokół!$DJ$3=2,T24,IF(Protokół!$DJ$3=3,AB24,IF(Protokół!$DJ$3=4,AJ24,\"\"))))","v":5},{"$f":"IF(Protokół!$DJ$3=1,M24,IF(Protokół!$DJ$3=2,U24,IF(Protokół!$DJ$3=3,AC24,IF(Protokół!$DJ$3=4,AK24,\"\"))))","v":1},{"$f":"IF(Protokół!$DJ$3=1,N24,IF(Protokół!$DJ$3=2,V24,IF(Protokół!$DJ$3=3,AD24,IF(Protokół!$DJ$3=4,AL24,\"\"))))","v":"STS Czapla Czaplinek"},{"$f":"IF(Protokół!$DJ$3=1,O24,IF(Protokół!$DJ$3=2,W24,IF(Protokół!$DJ$3=3,AE24,IF(Protokół!$DJ$3=4,AM24,\"\"))))","v":"III KKTS Kołobrzeg"},{"$f":"IF(Protokół!$DJ$3=1,P24,IF(Protokół!$DJ$3=2,X24,IF(Protokół!$DJ$3=3,AF24,IF(Protokół!$DJ$3=4,AN24,\"\"))))","v":"10:30:00"},23,"2020-11-28","Szczecinie",1,3,"TOP-SPIN Szczecin","WLKS Łobzonka Wyrzysk","15:00:00",3023,"2020-11-14","Białogardzie",3,4,"UKS Team Tenis 2005 Białogard","MSZS Świdwin","10:30:00",4023,"2020-11-14","Kołobrzegu",8,1,"II KKTS Kołobrzeg","Gryfin S Spin Szczecin","10:30:00",5023,"2021-05-29","Czaplinku",5,1,"STS Czapla Czaplinek","III KKTS Kołobrzeg","10:30:00"]
[{"$f":"IF(Protokół!$DJ$3=1,I25,IF(Protokół!$DJ$3=2,Q25,IF(Protokół!$DJ$3=3,Y25,IF(Protokół!$DJ$3=4,AG25,\"\"))))","v":5024},{"$f":"IF(Protokół!$DJ$3=1,J25,IF(Protokół!$DJ$3=2,R25,IF(Protokół!$DJ$3=3,Z25,IF(Protokół!$DJ$3=4,AH25,\"\"))))","v":"2021-05-29"},{"$f":"IF(Protokół!$DJ$3=1,K25,IF(Protokół!$DJ$3=2,S25,IF(Protokół!$DJ$3=3,AA25,IF(Protokół!$DJ$3=4,AI25,\"\"))))","v":"Świnoujściu"},{"$f":"IF(Protokół!$DJ$3=1,L25,IF(Protokół!$DJ$3=2,T25,IF(Protokół!$DJ$3=3,AB25,IF(Protokół!$DJ$3=4,AJ25,\"\"))))","v":2},{"$f":"IF(Protokół!$DJ$3=1,M25,IF(Protokół!$DJ$3=2,U25,IF(Protokół!$DJ$3=3,AC25,IF(Protokół!$DJ$3=4,AK25,\"\"))))","v":3},{"$f":"IF(Protokół!$DJ$3=1,N25,IF(Protokół!$DJ$3=2,V25,IF(Protokół!$DJ$3=3,AD25,IF(Protokół!$DJ$3=4,AL25,\"\"))))","v":"Flota Świnoujście"},{"$f":"IF(Protokół!$DJ$3=1,O25,IF(Protokół!$DJ$3=2,W25,IF(Protokół!$DJ$3=3,AE25,IF(Protokół!$DJ$3=4,AM25,\"\"))))","v":"II STS Dębno"},{"$f":"IF(Protokół!$DJ$3=1,P25,IF(Protokół!$DJ$3=2,X25,IF(Protokół!$DJ$3=3,AF25,IF(Protokół!$DJ$3=4,AN25,\"\"))))","v":"10:30:00"},24,"2020-11-28","Policach",7,8,"UKS CHAMPIN Police","STLS Szczecinek","15:00:00",3024,"2020-11-14","Chojnie",7,1,"UKS-T VICTORIA Chojna","II Visonex LUKS Top Wierzbięcin","14:30:00",4024,"2020-11-14","Szczecinku",9,6,"II STLA Szczecinek","II UKS Zalew Stepnica","14:30:00",5024,"2021-05-29","Świnoujściu",2,3,"Flota Świnoujście","II STS Dębno","10:30:00"]
[{"$f":"IF(Protokół!$DJ$3=1,I26,IF(Protokół!$DJ$3=2,Q26,IF(Protokół!$DJ$3=3,Y26,IF(Protokół!$DJ$3=4,AG26,\"\"))))","v":5025},{"$f":"IF(Protokół!$DJ$3=1,J26,IF(Protokół!$DJ$3=2,R26,IF(Protokół!$DJ$3=3,Z26,IF(Protokół!$DJ$3=4,AH26,\"\"))))","v":"2021-06-05"},{"$f":"IF(Protokół!$DJ$3=1,K26,IF(Protokół!$DJ$3=2,S26,IF(Protokół!$DJ$3=3,AA26,IF(Protokół!$DJ$3=4,AI26,\"\"))))","v":"Świnoujściu"},{"$f":"IF(Protokół!$DJ$3=1,L26,IF(Protokół!$DJ$3=2,T26,IF(Protokół!$DJ$3=3,AB26,IF(Protokół!$DJ$3=4,AJ26,\"\"))))","v":2},{"$f":"IF(Protokół!$DJ$3=1,M26,IF(Protokół!$DJ$3=2,U26,IF(Protokół!$DJ$3=3,AC26,IF(Protokół!$DJ$3=4,AK26,\"\"))))","v":6},{"$f":"IF(Protokół!$DJ$3=1,N26,IF(Protokół!$DJ$3=2,V26,IF(Protokół!$DJ$3=3,AD26,IF(Protokół!$DJ$3=4,AL26,\"\"))))","v":"Flota Świnoujście"},{"$f":"IF(Protokół!$DJ$3=1,O26,IF(Protokół!$DJ$3=2,W26,IF(Protokół!$DJ$3=3,AE26,IF(Protokół!$DJ$3=4,AM26,\"\"))))","v":"ULKS Tychowo"},{"$f":"IF(Protokół!$DJ$3=1,P26,IF(Protokół!$DJ$3=2,X26,IF(Protokół!$DJ$3=3,AF26,IF(Protokół!$DJ$3=4,AN26,\"\"))))","v":"10:30:00"},25,"2020-12-05","Wierzbięcinie",2,5,"Visonex LUKS Top Wierzbięcin","KS ATS Stargard",null,3025,"2020-11-14","Pieszczu",5,13,"UKS Czarni Pieszcz","I KTS Koszalinianin Koszalin","14:30:00",4025,"2020-11-14","Złocieńcu",10,5,"I ZTTS Złocieniec","I UKS Zalew Stepnica","14:30:00",5025,"2021-06-05","Świnoujściu",2,6,"Flota Świnoujście","ULKS Tychowo","10:30:00",{"$f":"SUM(AJ26:AK37)","v":42}]
[{"$f":"IF(Protokół!$DJ$3=1,I27,IF(Protokół!$DJ$3=2,Q27,IF(Protokół!$DJ$3=3,Y27,IF(Protokół!$DJ$3=4,AG27,\"\"))))","v":5026},{"$f":"IF(Protokół!$DJ$3=1,J27,IF(Protokół!$DJ$3=2,R27,IF(Protokół!$DJ$3=3,Z27,IF(Protokół!$DJ$3=4,AH27,\"\"))))","v":"2021-06-05"},{"$f":"IF(Protokół!$DJ$3=1,K27,IF(Protokół!$DJ$3=2,S27,IF(Protokół!$DJ$3=3,AA27,IF(Protokół!$DJ$3=4,AI27,\"\"))))","v":"Dębnie"},{"$f":"IF(Protokół!$DJ$3=1,L27,IF(Protokół!$DJ$3=2,T27,IF(Protokół!$DJ$3=3,AB27,IF(Protokół!$DJ$3=4,AJ27,\"\"))))","v":3},{"$f":"IF(Protokół!$DJ$3=1,M27,IF(Protokół!$DJ$3=2,U27,IF(Protokół!$DJ$3=3,AC27,IF(Protokół!$DJ$3=4,AK27,\"\"))))","v":5},{"$f":"IF(Protokół!$DJ$3=1,N27,IF(Protokół!$DJ$3=2,V27,IF(Protokół!$DJ$3=3,AD27,IF(Protokół!$DJ$3=4,AL27,\"\"))))","v":"II STS Dębno"},{"$f":"IF(Protokół!$DJ$3=1,O27,IF(Protokół!$DJ$3=2,W27,IF(Protokół!$DJ$3=3,AE27,IF(Protokół!$DJ$3=4,AM27,\"\"))))","v":"STS Czapla Czaplinek"},{"$f":"IF(Protokół!$DJ$3=1,P27,IF(Protokół!$DJ$3=2,X27,IF(Protokół!$DJ$3=3,AF27,IF(Protokół!$DJ$3=4,AN27,\"\"))))","v":"14:30:00"},26,"2020-12-05","Ostrorogu",6,4,"UKS Nałęcz Majster Ostroróg","STS Dębno",null,3026,"2020-11-14","Kołobrzegu",6,14,"KKTS Kołobrzeg","II KTS Koszalinianin Koszalin","14:30:00",4026,"2020-11-14","Międzyzdrojach",7,1,"I UKS Chrobry Międzyzdroje","Gryfin S Spin Szczecin","14:30:00",5026,"2021-06-05","Dębnie",3,5,"II STS Dębno","STS Czapla Czaplinek","14:30:00"]
[{"$f":"IF(Protokół!$DJ$3=1,I28,IF(Protokół!$DJ$3=2,Q28,IF(Protokół!$DJ$3=3,Y28,IF(Protokół!$DJ$3=4,AG28,\"\"))))","v":5027},{"$f":"IF(Protokół!$DJ$3=1,J28,IF(Protokół!$DJ$3=2,R28,IF(Protokół!$DJ$3=3,Z28,IF(Protokół!$DJ$3=4,AH28,\"\"))))","v":"2021-06-05"},{"$f":"IF(Protokół!$DJ$3=1,K28,IF(Protokół!$DJ$3=2,S28,IF(Protokół!$DJ$3=3,AA28,IF(Protokół!$DJ$3=4,AI28,\"\"))))","v":"Kołobrzegu"},{"$f":"IF(Protokół!$DJ$3=1,L28,IF(Protokół!$DJ$3=2,T28,IF(Protokół!$DJ$3=3,AB28,IF(Protokół!$DJ$3=4,AJ28,\"\"))))","v":1},{"$f":"IF(Protokół!$DJ$3=1,M28,IF(Protokół!$DJ$3=2,U28,IF(Protokół!$DJ$3=3,AC28,IF(Protokół!$DJ$3=4,AK28,\"\"))))","v":4},{"$f":"IF(Protokół!$DJ$3=1,N28,IF(Protokół!$DJ$3=2,V28,IF(Protokół!$DJ$3=3,AD28,IF(Protokół!$DJ$3=4,AL28,\"\"))))","v":"III KKTS Kołobrzeg"},{"$f":"IF(Protokół!$DJ$3=1,O28,IF(Protokół!$DJ$3=2,W28,IF(Protokół!$DJ$3=3,AE28,IF(Protokół!$DJ$3=4,AM28,\"\"))))","v":"SL Salos Szczecin"},{"$f":"IF(Protokół!$DJ$3=1,P28,IF(Protokół!$DJ$3=2,X28,IF(Protokół!$DJ$3=3,AF28,IF(Protokół!$DJ$3=4,AN28,\"\"))))","v":"14:30:00"},27,"2020-12-05","Szczecinie",1,7,"TOP-SPIN Szczecin","UKS CHAMPIN Police",null,3027,"2020-11-14","Gryficach",9,12,"LUKS Gryfice","II UKS Champion Police","14:30:00",4027,"2020-11-14","Kołobrzegu",8,2,"II KKTS Kołobrzeg","III KS ATS Stargard","14:30:00",5027,"2021-06-05","Kołobrzegu",1,4,"III KKTS Kołobrzeg","SL Salos Szczecin","14:30:00"]
[{"$f":"IF(Protokół!$DJ$3=1,I29,IF(Protokół!$DJ$3=2,Q29,IF(Protokół!$DJ$3=3,Y29,IF(Protokół!$DJ$3=4,AG29,\"\"))))","v":5028},{"$f":"IF(Protokół!$DJ$3=1,J29,IF(Protokół!$DJ$3=2,R29,IF(Protokół!$DJ$3=3,Z29,IF(Protokół!$DJ$3=4,AH29,\"\"))))","v":"2021-06-12"},{"$f":"IF(Protokół!$DJ$3=1,K29,IF(Protokół!$DJ$3=2,S29,IF(Protokół!$DJ$3=3,AA29,IF(Protokół!$DJ$3=4,AI29,\"\"))))","v":"Tychowie"},{"$f":"IF(Protokół!$DJ$3=1,L29,IF(Protokół!$DJ$3=2,T29,IF(Protokół!$DJ$3=3,AB29,IF(Protokół!$DJ$3=4,AJ29,\"\"))))","v":6},{"$f":"IF(Protokół!$DJ$3=1,M29,IF(Protokół!$DJ$3=2,U29,IF(Protokół!$DJ$3=3,AC29,IF(Protokół!$DJ$3=4,AK29,\"\"))))","v":1},{"$f":"IF(Protokół!$DJ$3=1,N29,IF(Protokół!$DJ$3=2,V29,IF(Protokół!$DJ$3=3,AD29,IF(Protokół!$DJ$3=4,AL29,\"\"))))","v":"ULKS Tychowo"},{"$f":"IF(Protokół!$DJ$3=1,O29,IF(Protokół!$DJ$3=2,W29,IF(Protokół!$DJ$3=3,AE29,IF(Protokół!$DJ$3=4,AM29,\"\"))))","v":"III KKTS Kołobrzeg"},{"$f":"IF(Protokół!$DJ$3=1,P29,IF(Protokół!$DJ$3=2,X29,IF(Protokół!$DJ$3=3,AF29,IF(Protokół!$DJ$3=4,AN29,\"\"))))","v":"14:30:00"},28,"2020-12-05","Szczecinku",8,3,"STLS Szczecinek","WLKS Łobzonka Wyrzysk",null,3028,"2020-11-14","Trzebiatowie",10,11,"LUKS Fala Trzebiatów","Trzynastka Szczecin","10:30:00",4028,"2020-11-28","Stargardzie",2,1,"III KS ATS Stargard","Gryfin S Spin Szczecin","10:30:00",5028,"2021-06-12","Tychowie",6,1,"ULKS Tychowo","III KKTS Kołobrzeg","14:30:00"]
[{"$f":"IF(Protokół!$DJ$3=1,I30,IF(Protokół!$DJ$3=2,Q30,IF(Protokół!$DJ$3=3,Y30,IF(Protokół!$DJ$3=4,AG30,\"\"))))","v":5029},{"$f":"IF(Protokół!$DJ$3=1,J30,IF(Protokół!$DJ$3=2,R30,IF(Protokół!$DJ$3=3,Z30,IF(Protokół!$DJ$3=4,AH30,\"\"))))","v":"2021-06-12"},{"$f":"IF(Protokół!$DJ$3=1,K30,IF(Protokół!$DJ$3=2,S30,IF(Protokół!$DJ$3=3,AA30,IF(Protokół!$DJ$3=4,AI30,\"\"))))","v":"Szczecinie"},{"$f":"IF(Protokół!$DJ$3=1,L30,IF(Protokół!$DJ$3=2,T30,IF(Protokół!$DJ$3=3,AB30,IF(Protokół!$DJ$3=4,AJ30,\"\"))))","v":4},{"$f":"IF(Protokół!$DJ$3=1,M30,IF(Protokół!$DJ$3=2,U30,IF(Protokół!$DJ$3=3,AC30,IF(Protokół!$DJ$3=4,AK30,\"\"))))","v":3},{"$f":"IF(Protokół!$DJ$3=1,N30,IF(Protokół!$DJ$3=2,V30,IF(Protokół!$DJ$3=3,AD30,IF(Protokół!$DJ$3=4,AL30,\"\"))))","v":"SL Salos Szczecin"},{"$f":"IF(Protokół!$DJ$3=1,O30,IF(Protokół!$DJ$3=2,W30,IF(Protokół!$DJ$3=3,AE30,IF(Protokół!$DJ$3=4,AM30,\"\"))))","v":"II STS Dębno"},{"$f":"IF(Protokół!$DJ$3=1,P30,IF(Protokół!$DJ$3=2,X30,IF(Protokół!$DJ$3=3,AF30,IF(Protokół!$DJ$3=4,AN30,\"\"))))","v":"14:30:00"},29,"2020-12-19","Stargardzie",5,2,"KS ATS Stargard","Visonex LUKS Top Wierzbięcin",null,3029,"2020-11-14","Chojnie",7,2,"UKS-T VICTORIA Chojna","II KS ATS Stargard","10:30:00",4029,"2020-11-28","Stepnicy",5,7,"I UKS Zalew Stepnica","I UKS Chrobry Międzyzdroje","10:30:00",5029,"2021-06-12","Szczecinie",4,3,"SL Salos Szczecin","II STS Dębno","14:30:00"]
[{"$f":"IF(Protokół!$DJ$3=1,I31,IF(Protokół!$DJ$3=2,Q31,IF(Protokół!$DJ$3=3,Y31,IF(Protokół!$DJ$3=4,AG31,\"\"))))","v":5030},{"$f":"IF(Protokół!$DJ$3=1,J31,IF(Protokół!$DJ$3=2,R31,IF(Protokół!$DJ$3=3,Z31,IF(Protokół!$DJ$3=4,AH31,\"\"))))","v":"2021-06-12"},{"$f":"IF(Protokół!$DJ$3=1,K31,IF(Protokół!$DJ$3=2,S31,IF(Protokół!$DJ$3=3,AA31,IF(Protokół!$DJ$3=4,AI31,\"\"))))","v":"Czaplinku"},{"$f":"IF(Protokół!$DJ$3=1,L31,IF(Protokół!$DJ$3=2,T31,IF(Protokół!$DJ$3=3,AB31,IF(Protokół!$DJ$3=4,AJ31,\"\"))))","v":5},{"$f":"IF(Protokół!$DJ$3=1,M31,IF(Protokół!$DJ$3=2,U31,IF(Protokół!$DJ$3=3,AC31,IF(Protokół!$DJ$3=4,AK31,\"\"))))","v":2},{"$f":"IF(Protokół!$DJ$3=1,N31,IF(Protokół!$DJ$3=2,V31,IF(Protokół!$DJ$3=3,AD31,IF(Protokół!$DJ$3=4,AL31,\"\"))))","v":"STS Czapla Czaplinek"},{"$f":"IF(Protokół!$DJ$3=1,O31,IF(Protokół!$DJ$3=2,W31,IF(Protokół!$DJ$3=3,AE31,IF(Protokół!$DJ$3=4,AM31,\"\"))))","v":"Flota Świnoujście"},{"$f":"IF(Protokół!$DJ$3=1,P31,IF(Protokół!$DJ$3=2,X31,IF(Protokół!$DJ$3=3,AF31,IF(Protokół!$DJ$3=4,AN31,\"\"))))","v":"14:30:00"},30,"2020-12-19","Dębnie",4,8,"STS Dębno","STLS Szczecinek",null,3030,"2020-11-14","Pieszczu",5,14,"UKS Czarni Pieszcz","II KTS Koszalinianin Koszalin","10:30:00",4030,"2020-11-28","Stepnicy",6,8,"II UKS Zalew Stepnica","II KKTS Kołobrzeg","10:30:00",5030,"2021-06-12","Czaplinku",5,2,"STS Czapla Czaplinek","Flota Świnoujście","14:30:00"]
[{"$f":"IF(Protokół!$DJ$3=1,I32,IF(Protokół!$DJ$3=2,Q32,IF(Protokół!$DJ$3=3,Y32,IF(Protokół!$DJ$3=4,AG32,\"\"))))","v":0},{"$f":"IF(Protokół!$DJ$3=1,J32,IF(Protokół!$DJ$3=2,R32,IF(Protokół!$DJ$3=3,Z32,IF(Protokół!$DJ$3=4,AH32,\"\"))))","v":"00:00:00"},{"$f":"IF(Protokół!$DJ$3=1,K32,IF(Protokół!$DJ$3=2,S32,IF(Protokół!$DJ$3=3,AA32,IF(Protokół!$DJ$3=4,AI32,\"\"))))","v":{"$error":"#N/A"}},{"$f":"IF(Protokół!$DJ$3=1,L32,IF(Protokół!$DJ$3=2,T32,IF(Protokół!$DJ$3=3,AB32,IF(Protokół!$DJ$3=4,AJ32,\"\"))))","v":0},{"$f":"IF(Protokół!$DJ$3=1,M32,IF(Protokół!$DJ$3=2,U32,IF(Protokół!$DJ$3=3,AC32,IF(Protokół!$DJ$3=4,AK32,\"\"))))","v":0},{"$f":"IF(Protokół!$DJ$3=1,N32,IF(Protokół!$DJ$3=2,V32,IF(Protokół!$DJ$3=3,AD32,IF(Protokół!$DJ$3=4,AL32,\"\"))))","v":{"$error":"#N/A"}},{"$f":"IF(Protokół!$DJ$3=1,O32,IF(Protokół!$DJ$3=2,W32,IF(Protokół!$DJ$3=3,AE32,IF(Protokół!$DJ$3=4,AM32,\"\"))))","v":{"$error":"#N/A"}},{"$f":"IF(Protokół!$DJ$3=1,P32,IF(Protokół!$DJ$3=2,X32,IF(Protokół!$DJ$3=3,AF32,IF(Protokół!$DJ$3=4,AN32,\"\"))))","v":"10:30:00"},31,"2020-12-19","Policach",7,1,"UKS CHAMPIN Police","TOP-SPIN Szczecin",null,3031,"2020-11-14","Kołobrzegu",6,13,"KKTS Kołobrzeg","I KTS Koszalinianin Koszalin","10:30:00",4031,"2020-11-28","Resku",3,9,"LKS Mewa Resko","II STLA Szczecinek","10:30:00",null,null,{"$error":"#N/A"},null,null,{"$error":"#N/A"},{"$error":"#N/A"},"10:30:00"]
[{"$f":"IF(Protokół!$DJ$3=1,I33,IF(Protokół!$DJ$3=2,Q33,IF(Protokół!$DJ$3=3,Y33,IF(Protokół!$DJ$3=4,AG33,\"\"))))","v":0},{"$f":"IF(Protokół!$DJ$3=1,J33,IF(Protokół!$DJ$3=2,R33,IF(Protokół!$DJ$3=3,Z33,IF(Protokół!$DJ$3=4,AH33,\"\"))))","v":"00:00:00"},{"$f":"IF(Protokół!$DJ$3=1,K33,IF(Protokół!$DJ$3=2,S33,IF(Protokół!$DJ$3=3,AA33,IF(Protokół!$DJ$3=4,AI33,\"\"))))","v":{"$error":"#N/A"}},{"$f":"IF(Protokół!$DJ$3=1,L33,IF(Protokół!$DJ$3=2,T33,IF(Protokół!$DJ$3=3,AB33,IF(Protokół!$DJ$3=4,AJ33,\"\"))))","v":0},{"$f":"IF(Protokół!$DJ$3=1,M33,IF(Protokół!$DJ$3=2,U33,IF(Protokół!$DJ$3=3,AC33,IF(Protokół!$DJ$3=4,AK33,\"\"))))","v":0},{"$f":"IF(Protokół!$DJ$3=1,N33,IF(Protokół!$DJ$3=2,V33,IF(Protokół!$DJ$3=3,AD33,IF(Protokół!$DJ$3=4,AL33,\"\"))))","v":{"$error":"#N/A"}},{"$f":"IF(Protokół!$DJ$3=1,O33,IF(Protokół!$DJ$3=2,W33,IF(Protokół!$DJ$3=3,AE33,IF(Protokół!$DJ$3=4,AM33,\"\"))))","v":{"$error":"#N/A"}},{"$f":"IF(Protokół!$DJ$3=1,P33,IF(Protokół!$DJ$3=2,X33,IF(Protokół!$DJ$3=3,AF33,IF(Protokół!$DJ$3=4,AN33,\"\"))))","v":"10:30:00"},32,"2020-12-19","Wyrzysku",3,8,"WLKS Łobzonka Wyrzysk","STLS Szczecinek",null,3032,"2020-11-14","Gryficach",9,11,"LUKS Gryfice","Trzynastka Szczecin","10:30:00",4032,"2020-11-28","Świdwinie",4,10,"II MSZS Świdwin","I ZTTS Złocieniec","10:30:00",null,null,{"$error":"#N/A"},null,null,{"$error":"#N/A"},{"$error":"#N/A"},"10:30:00"]
[{"$f":"IF(Protokół!$DJ$3=1,I34,IF(Protokół!$DJ$3=2,Q34,IF(Protokół!$DJ$3=3,Y34,IF(Protokół!$DJ$3=4,AG34,\"\"))))","v":0},{"$f":"IF(Protokół!$DJ$3=1,J34,IF(Protokół!$DJ$3=2,R34,IF(Protokół!$DJ$3=3,Z34,IF(Protokół!$DJ$3=4,AH34,\"\"))))","v":"00:00:00"},{"$f":"IF(Protokół!$DJ$3=1,K34,IF(Protokół!$DJ$3=2,S34,IF(Protokół!$DJ$3=3,AA34,IF(Protokół!$DJ$3=4,AI34,\"\"))))","v":{"$error":"#N/A"}},{"$f":"IF(Protokół!$DJ$3=1,L34,IF(Protokół!$DJ$3=2,T34,IF(Protokół!$DJ$3=3,AB34,IF(Protokół!$DJ$3=4,AJ34,\"\"))))","v":0},{"$f":"IF(Protokół!$DJ$3=1,M34,IF(Protokół!$DJ$3=2,U34,IF(Protokół!$DJ$3=3,AC34,IF(Protokół!$DJ$3=4,AK34,\"\"))))","v":0},{"$f":"IF(Protokół!$DJ$3=1,N34,IF(Protokół!$DJ$3=2,V34,IF(Protokół!$DJ$3=3,AD34,IF(Protokół!$DJ$3=4,AL34,\"\"))))","v":{"$error":"#N/A"}},{"$f":"IF(Protokół!$DJ$3=1,O34,IF(Protokół!$DJ$3=2,W34,IF(Protokół!$DJ$3=3,AE34,IF(Protokół!$DJ$3=4,AM34,\"\"))))","v":{"$error":"#N/A"}},{"$f":"IF(Protokół!$DJ$3=1,P34,IF(Protokół!$DJ$3=2,X34,IF(Protokół!$DJ$3=3,AF34,IF(Protokół!$DJ$3=4,AN34,\"\"))))","v":"10:30:00"},33,"2021-01-09",{"$f":"VLOOKUP(L34,$I$166:$M$173,5,FALSE)","v":"Szczecinku"},8,2,{"$f":"VLOOKUP(L34,$I$166:$M$173,2,FALSE)","v":"STLS Szczecinek"},"Visonex LUKS Top Wierzbięcin","11:00:00",3033,"2020-11-14","Trzebiatowie",10,12,"LUKS Fala Trzebiatów","II UKS Champion Police","14:30:00",4033,"2020-11-28","Stepnicy",5,8,"I UKS Zalew Stepnica","II KKTS Kołobrzeg","14:30:00",null,null,{"$f":"VLOOKUP(AJ34,$AG$167:$AK$178,5,FALSE)","v":{"$error":"#N/A"}},null,null,{"$f":"VLOOKUP(AJ34,$AG$167:$AK$178,2,FALSE)","v":{"$error":"#N/A"}},{"$f":"VLOOKUP(AK34,$AG$167:$AK$178,2,FALSE)","v":{"$error":"#N/A"}},"10:30:00"]
[{"$f":"IF(Protokół!$DJ$3=1,I35,IF(Protokół!$DJ$3=2,Q35,IF(Protokół!$DJ$3=3,Y35,IF(Protokół!$DJ$3=4,AG35,\"\"))))","v":0},{"$f":"IF(Protokół!$DJ$3=1,J35,IF(Protokół!$DJ$3=2,R35,IF(Protokół!$DJ$3=3,Z35,IF(Protokół!$DJ$3=4,AH35,\"\"))))","v":"00:00:00"},{"$f":"IF(Protokół!$DJ$3=1,K35,IF(Protokół!$DJ$3=2,S35,IF(Protokół!$DJ$3=3,AA35,IF(Protokół!$DJ$3=4,AI35,\"\"))))","v":{"$error":"#N/A"}},{"$f":"IF(Protokół!$DJ$3=1,L35,IF(Protokół!$DJ$3=2,T35,IF(Protokół!$DJ$3=3,AB35,IF(Protokół!$DJ$3=4,AJ35,\"\"))))","v":0},{"$f":"IF(Protokół!$DJ$3=1,M35,IF(Protokół!$DJ$3=2,U35,IF(Protokół!$DJ$3=3,AC35,IF(Protokół!$DJ$3=4,AK35,\"\"))))","v":0},{"$f":"IF(Protokół!$DJ$3=1,N35,IF(Protokół!$DJ$3=2,V35,IF(Protokół!$DJ$3=3,AD35,IF(Protokół!$DJ$3=4,AL35,\"\"))))","v":{"$error":"#N/A"}},{"$f":"IF(Protokół!$DJ$3=1,O35,IF(Protokół!$DJ$3=2,W35,IF(Protokół!$DJ$3=3,AE35,IF(Protokół!$DJ$3=4,AM35,\"\"))))","v":{"$error":"#N/A"}},{"$f":"IF(Protokół!$DJ$3=1,P35,IF(Protokół!$DJ$3=2,X35,IF(Protokół!$DJ$3=3,AF35,IF(Protokół!$DJ$3=4,AN35,\"\"))))","v":"10:30:00"},34,"2021-01-09","Wyrzysku",3,5,"WLKS Łobzonka Wyrzysk","KS ATS Stargard","11:00:00",3034,"2020-11-28","Policach",12,11,"II UKS Champion Police","Trzynastka Szczecin","14:30:00",4034,"2020-11-28",{"$f":"VLOOKUP(AB35,$Y$167:$AC$176,5,FALSE)","v":"Stepnicy"},6,7,{"$f":"VLOOKUP(AB35,$Y$167:$AC$176,2,FALSE)","v":"II UKS Zalew Stepnica"},{"$f":"VLOOKUP(AC35,$Y$167:$AC$176,2,FALSE)","v":"I UKS Chrobry Międzyzdroje"},"14:30:00",null,null,{"$error":"#N/A"},null,null,{"$error":"#N/A"},{"$error":"#N/A"},"10:30:00"]
[{"$f":"IF(Protokół!$DJ$3=1,I36,IF(Protokół!$DJ$3=2,Q36,IF(Protokół!$DJ$3=3,Y36,IF(Protokół!$DJ$3=4,AG36,\"\"))))","v":0},{"$f":"IF(Protokół!$DJ$3=1,J36,IF(Protokół!$DJ$3=2,R36,IF(Protokół!$DJ$3=3,Z36,IF(Protokół!$DJ$3=4,AH36,\"\"))))","v":"00:00:00"},{"$f":"IF(Protokół!$DJ$3=1,K36,IF(Protokół!$DJ$3=2,S36,IF(Protokół!$DJ$3=3,AA36,IF(Protokół!$DJ$3=4,AI36,\"\"))))","v":{"$error":"#N/A"}},{"$f":"IF(Protokół!$DJ$3=1,L36,IF(Protokół!$DJ$3=2,T36,IF(Protokół!$DJ$3=3,AB36,IF(Protokół!$DJ$3=4,AJ36,\"\"))))","v":0},{"$f":"IF(Protokół!$DJ$3=1,M36,IF(Protokół!$DJ$3=2,U36,IF(Protokół!$DJ$3=3,AC36,IF(Protokół!$DJ$3=4,AK36,\"\"))))","v":0},{"$f":"IF(Protokół!$DJ$3=1,N36,IF(Protokół!$DJ$3=2,V36,IF(Protokół!$DJ$3=3,AD36,IF(Protokół!$DJ$3=4,AL36,\"\"))))","v":{"$error":"#N/A"}},{"$f":"IF(Protokół!$DJ$3=1,O36,IF(Protokół!$DJ$3=2,W36,IF(Protokół!$DJ$3=3,AE36,IF(Protokół!$DJ$3=4,AM36,\"\"))))","v":{"$error":"#N/A"}},{"$f":"IF(Protokół!$DJ$3=1,P36,IF(Protokół!$DJ$3=2,X36,IF(Protokół!$DJ$3=3,AF36,IF(Protokół!$DJ$3=4,AN36,\"\"))))","v":"10:30:00"},35,"2021-01-09","Szczecinie",1,4,"TOP-SPIN Szczecin","STS Dębno","11:00:00",3035,"2020-11-28","Koszalinie",13,9,"I KTS Koszalinianin Koszalin","LUKS Gryfice","14:30:00",4035,"2020-11-28","Resku",3,10,"LKS Mewa Resko","I ZTTS Złocieniec","14:30:00",null,null,{"$error":"#N/A"},null,null,{"$error":"#N/A"},{"$error":"#N/A"},"10:30:00"]
[{"$f":"IF(Protokół!$DJ$3=1,I37,IF(Protokół!$DJ$3=2,Q37,IF(Protokół!$DJ$3=3,Y37,IF(Protokół!$DJ$3=4,AG37,\"\"))))","v":0},{"$f":"IF(Protokół!$DJ$3=1,J37,IF(Protokół!$DJ$3=2,R37,IF(Protokół!$DJ$3=3,Z37,IF(Protokół!$DJ$3=4,AH37,\"\"))))","v":"00:00:00"},{"$f":"IF(Protokół!$DJ$3=1,K37,IF(Protokół!$DJ$3=2,S37,IF(Protokół!$DJ$3=3,AA37,IF(Protokół!$DJ$3=4,AI37,\"\"))))","v":{"$error":"#N/A"}},{"$f":"IF(Protokół!$DJ$3=1,L37,IF(Protokół!$DJ$3=2,T37,IF(Protokół!$DJ$3=3,AB37,IF(Protokół!$DJ$3=4,AJ37,\"\"))))","v":0},{"$f":"IF(Protokół!$DJ$3=1,M37,IF(Protokół!$DJ$3=2,U37,IF(Protokół!$DJ$3=3,AC37,IF(Protokół!$DJ$3=4,AK37,\"\"))))","v":0},{"$f":"IF(Protokół!$DJ$3=1,N37,IF(Protokół!$DJ$3=2,V37,IF(Protokół!$DJ$3=3,AD37,IF(Protokół!$DJ$3=4,AL37,\"\"))))","v":{"$error":"#N/A"}},{"$f":"IF(Protokół!$DJ$3=1,O37,IF(Protokół!$DJ$3=2,W37,IF(Protokół!$DJ$3=3,AE37,IF(Protokół!$DJ$3=4,AM37,\"\"))))","v":{"$error":"#N/A"}},{"$f":"IF(Protokół!$DJ$3=1,P37,IF(Protokół!$DJ$3=2,X37,IF(Protokół!$DJ$3=3,AF37,IF(Protokół!$DJ$3=4,AN37,\"\"))))","v":"14:30:00"},36,"2021-01-09","Policach",7,6,"UKS CHAMPIN Police","UKS Nałęcz Majster Ostroróg","11:00:00",3036,"2020-11-28","Koszalinie",14,10,"II KTS Koszalinianin Koszalin","LUKS Fala Trzebiatów","14:30:00",4036,"2020-11-28","Świdwinie",4,9,"II MSZS Świdwin","II STLA Szczecinek","14:30:00",null,null,{"$error":"#N/A"},null,null,{"$error":"#N/A"},{"$error":"#N/A"},"14:30:00"]
[{"$f":"IF(Protokół!$DJ$3=1,I38,IF(Protokół!$DJ$3=2,Q38,IF(Protokół!$DJ$3=3,Y38,IF(Protokół!$DJ$3=4,AG38,\"\"))))","v":0},{"$f":"IF(Protokół!$DJ$3=1,J38,IF(Protokół!$DJ$3=2,R38,IF(Protokół!$DJ$3=3,Z38,IF(Protokół!$DJ$3=4,AH38,\"\"))))","v":"00:00:00"},{"$f":"IF(Protokół!$DJ$3=1,K38,IF(Protokół!$DJ$3=2,S38,IF(Protokół!$DJ$3=3,AA38,IF(Protokół!$DJ$3=4,AI38,\"\"))))","v":{"$error":"#N/A"}},{"$f":"IF(Protokół!$DJ$3=1,L38,IF(Protokół!$DJ$3=2,T38,IF(Protokół!$DJ$3=3,AB38,IF(Protokół!$DJ$3=4,AJ38,\"\"))))","v":0},{"$f":"IF(Protokół!$DJ$3=1,M38,IF(Protokół!$DJ$3=2,U38,IF(Protokół!$DJ$3=3,AC38,IF(Protokół!$DJ$3=4,AK38,\"\"))))","v":0},{"$f":"IF(Protokół!$DJ$3=1,N38,IF(Protokół!$DJ$3=2,V38,IF(Protokół!$DJ$3=3,AD38,IF(Protokół!$DJ$3=4,AL38,\"\"))))","v":{"$error":"#N/A"}},{"$f":"IF(Protokół!$DJ$3=1,O38,IF(Protokół!$DJ$3=2,W38,IF(Protokół!$DJ$3=3,AE38,IF(Protokół!$DJ$3=4,AM38,\"\"))))","v":{"$error":"#N/A"}},{"$f":"IF(Protokół!$DJ$3=1,P38,IF(Protokół!$DJ$3=2,X38,IF(Protokół!$DJ$3=3,AF38,IF(Protokół!$DJ$3=4,AN38,\"\"))))","v":"14:30:00"},37,"2021-01-09","Wyrzysku",3,2,"WLKS Łobzonka Wyrzysk","Visonex LUKS Top Wierzbięcin","15:00:00",3037,"2020-11-28","Wierzbięcinie",1,5,"II Visonex LUKS Top Wierzbięcin","UKS Czarni Pieszcz","10:30:00",4037,"2020-12-05","Szczecinku",9,10,"II STLA Szczecinek","I ZTTS Złocieniec","10:30:00",null,null,{"$error":"#N/A"},null,null,{"$error":"#N/A"},{"$error":"#N/A"},"14:30:00",{"$f":"SUM(AJ38:AK49)","v":0}]
[{"$f":"IF(Protokół!$DJ$3=1,I39,IF(Protokół!$DJ$3=2,Q39,IF(Protokół!$DJ$3=3,Y39,IF(Protokół!$DJ$3=4,AG39,\"\"))))","v":0},{"$f":"IF(Protokół!$DJ$3=1,J39,IF(Protokół!$DJ$3=2,R39,IF(Protokół!$DJ$3=3,Z39,IF(Protokół!$DJ$3=4,AH39,\"\"))))","v":"00:00:00"},{"$f":"IF(Protokół!$DJ$3=1,K39,IF(Protokół!$DJ$3=2,S39,IF(Protokół!$DJ$3=3,AA39,IF(Protokół!$DJ$3=4,AI39,\"\"))))","v":{"$error":"#N/A"}},{"$f":"IF(Protokół!$DJ$3=1,L39,IF(Protokół!$DJ$3=2,T39,IF(Protokół!$DJ$3=3,AB39,IF(Protokół!$DJ$3=4,AJ39,\"\"))))","v":0},{"$f":"IF(Protokół!$DJ$3=1,M39,IF(Protokół!$DJ$3=2,U39,IF(Protokół!$DJ$3=3,AC39,IF(Protokół!$DJ$3=4,AK39,\"\"))))","v":0},{"$f":"IF(Protokół!$DJ$3=1,N39,IF(Protokół!$DJ$3=2,V39,IF(Protokół!$DJ$3=3,AD39,IF(Protokół!$DJ$3=4,AL39,\"\"))))","v":{"$error":"#N/A"}},{"$f":"IF(Protokół!$DJ$3=1,O39,IF(Protokół!$DJ$3=2,W39,IF(Protokół!$DJ$3=3,AE39,IF(Protokół!$DJ$3=4,AM39,\"\"))))","v":{"$error":"#N/A"}},{"$f":"IF(Protokół!$DJ$3=1,P39,IF(Protokół!$DJ$3=2,X39,IF(Protokół!$DJ$3=3,AF39,IF(Protokół!$DJ$3=4,AN39,\"\"))))","v":"14:30:00"},38,"2021-01-09","Szczecinku",8,5,"STLS Szczecinek","KS ATS Stargard","15:00:00",3038,"2020-11-28","Stargardzie",2,6,"II KS ATS Stargard","KKTS Kołobrzeg","10:30:00",4038,"2020-12-05","Międzyzdrojach",7,3,"I UKS Chrobry Międzyzdroje","LKS Mewa Resko","10:30:00",null,null,{"$error":"#N/A"},null,null,{"$error":"#N/A"},{"$error":"#N/A"},"14:30:00",null,{"$f":"10+9+8+7+6+5+4+3+2+1","v":55}]
[{"$f":"IF(Protokół!$DJ$3=1,I40,IF(Protokół!$DJ$3=2,Q40,IF(Protokół!$DJ$3=3,Y40,IF(Protokół!$DJ$3=4,AG40,\"\"))))","v":0},{"$f":"IF(Protokół!$DJ$3=1,J40,IF(Protokół!$DJ$3=2,R40,IF(Protokół!$DJ$3=3,Z40,IF(Protokół!$DJ$3=4,AH40,\"\"))))","v":"00:00:00"},{"$f":"IF(Protokół!$DJ$3=1,K40,IF(Protokół!$DJ$3=2,S40,IF(Protokół!$DJ$3=3,AA40,IF(Protokół!$DJ$3=4,AI40,\"\"))))","v":{"$error":"#N/A"}},{"$f":"IF(Protokół!$DJ$3=1,L40,IF(Protokół!$DJ$3=2,T40,IF(Protokół!$DJ$3=3,AB40,IF(Protokół!$DJ$3=4,AJ40,\"\"))))","v":0},{"$f":"IF(Protokół!$DJ$3=1,M40,IF(Protokół!$DJ$3=2,U40,IF(Protokół!$DJ$3=3,AC40,IF(Protokół!$DJ$3=4,AK40,\"\"))))","v":0},{"$f":"IF(Protokół!$DJ$3=1,N40,IF(Protokół!$DJ$3=2,V40,IF(Protokół!$DJ$3=3,AD40,IF(Protokół!$DJ$3=4,AL40,\"\"))))","v":{"$error":"#N/A"}},{"$f":"IF(Protokół!$DJ$3=1,O40,IF(Protokół!$DJ$3=2,W40,IF(Protokół!$DJ$3=3,AE40,IF(Protokół!$DJ$3=4,AM40,\"\"))))","v":{"$error":"#N/A"}},{"$f":"IF(Protokół!$DJ$3=1,P40,IF(Protokół!$DJ$3=2,X40,IF(Protokół!$DJ$3=3,AF40,IF(Protokół!$DJ$3=4,AN40,\"\"))))","v":"14:30:00"},39,"2021-01-09","Policach",7,4,"UKS CHAMPIN Police","STS Dębno","15:00:00",3039,"2020-11-28","Białogardzie",3,7,"UKS Team Tenis 2005 Białogard","UKS-T VICTORIA Chojna","10:30:00",4039,"2020-12-05","Kołobrzegu",8,4,"II KKTS Kołobrzeg","II MSZS Świdwin","10:30:00",null,null,{"$error":"#N/A"},null,null,{"$error":"#N/A"},{"$error":"#N/A"},"14:30:00"]
[{"$f":"IF(Protokół!$DJ$3=1,I41,IF(Protokół!$DJ$3=2,Q41,IF(Protokół!$DJ$3=3,Y41,IF(Protokół!$DJ$3=4,AG41,\"\"))))","v":0},{"$f":"IF(Protokół!$DJ$3=1,J41,IF(Protokół!$DJ$3=2,R41,IF(Protokół!$DJ$3=3,Z41,IF(Protokół!$DJ$3=4,AH41,\"\"))))","v":"00:00:00"},{"$f":"IF(Protokół!$DJ$3=1,K41,IF(Protokół!$DJ$3=2,S41,IF(Protokół!$DJ$3=3,AA41,IF(Protokół!$DJ$3=4,AI41,\"\"))))","v":{"$error":"#N/A"}},{"$f":"IF(Protokół!$DJ$3=1,L41,IF(Protokół!$DJ$3=2,T41,IF(Protokół!$DJ$3=3,AB41,IF(Protokół!$DJ$3=4,AJ41,\"\"))))","v":0},{"$f":"IF(Protokół!$DJ$3=1,M41,IF(Protokół!$DJ$3=2,U41,IF(Protokół!$DJ$3=3,AC41,IF(Protokół!$DJ$3=4,AK41,\"\"))))","v":0},{"$f":"IF(Protokół!$DJ$3=1,N41,IF(Protokół!$DJ$3=2,V41,IF(Protokół!$DJ$3=3,AD41,IF(Protokół!$DJ$3=4,AL41,\"\"))))","v":{"$error":"#N/A"}},{"$f":"IF(Protokół!$DJ$3=1,O41,IF(Protokół!$DJ$3=2,W41,IF(Protokół!$DJ$3=3,AE41,IF(Protokół!$DJ$3=4,AM41,\"\"))))","v":{"$error":"#N/A"}},{"$f":"IF(Protokół!$DJ$3=1,P41,IF(Protokół!$DJ$3=2,X41,IF(Protokół!$DJ$3=3,AF41,IF(Protokół!$DJ$3=4,AN41,\"\"))))","v":"14:30:00"},40,"2021-01-09","Szczecinie",1,6,"TOP-SPIN Szczecin","UKS Nałęcz Majster Ostroróg","15:00:00",3040,"2020-11-28","Koszalinie",13,10,"I KTS Koszalinianin Koszalin","LUKS Fala Trzebiatów","10:30:00",4040,"2020-12-05","Stargardzie",2,5,"III KS ATS Stargard","I UKS Zalew Stepnica","10:30:00",null,null,{"$error":"#N/A"},null,null,{"$error":"#N/A"},{"$error":"#N/A"},"14:30:00"]
[{"$f":"IF(Protokół!$DJ$3=1,I42,IF(Protokół!$DJ$3=2,Q42,IF(Protokół!$DJ$3=3,Y42,IF(Protokół!$DJ$3=4,AG42,\"\"))))","v":0},{"$f":"IF(Protokół!$DJ$3=1,J42,IF(Protokół!$DJ$3=2,R42,IF(Protokół!$DJ$3=3,Z42,IF(Protokół!$DJ$3=4,AH42,\"\"))))","v":"00:00:00"},{"$f":"IF(Protokół!$DJ$3=1,K42,IF(Protokół!$DJ$3=2,S42,IF(Protokół!$DJ$3=3,AA42,IF(Protokół!$DJ$3=4,AI42,\"\"))))","v":{"$error":"#N/A"}},{"$f":"IF(Protokół!$DJ$3=1,L42,IF(Protokół!$DJ$3=2,T42,IF(Protokół!$DJ$3=3,AB42,IF(Protokół!$DJ$3=4,AJ42,\"\"))))","v":0},{"$f":"IF(Protokół!$DJ$3=1,M42,IF(Protokół!$DJ$3=2,U42,IF(Protokół!$DJ$3=3,AC42,IF(Protokół!$DJ$3=4,AK42,\"\"))))","v":0},{"$f":"IF(Protokół!$DJ$3=1,N42,IF(Protokół!$DJ$3=2,V42,IF(Protokół!$DJ$3=3,AD42,IF(Protokół!$DJ$3=4,AL42,\"\"))))","v":{"$error":"#N/A"}},{"$f":"IF(Protokół!$DJ$3=1,O42,IF(Protokół!$DJ$3=2,W42,IF(Protokół!$DJ$3=3,AE42,IF(Protokół!$DJ$3=4,AM42,\"\"))))","v":{"$error":"#N/A"}},{"$f":"IF(Protokół!$DJ$3=1,P42,IF(Protokół!$DJ$3=2,X42,IF(Protokół!$DJ$3=3,AF42,IF(Protokół!$DJ$3=4,AN42,\"\"))))","v":"10:30:00"},41,"2021-02-06","Dębnie",4,8,{"$f":"VLOOKUP(L42,$I$166:$M$173,2,FALSE)","v":"STS Dębno"},{"$f":"VLOOKUP(M42,$I$166:$M$173,2,FALSE)","v":"STLS Szczecinek"},null,3041,"2020-11-28","Koszalinie",14,9,"II KTS Koszalinianin Koszalin","LUKS Gryfice","10:30:00",4041,"2020-12-05","Szczecinie",1,6,"Gryfin S Spin Szczecin","II UKS Zalew Stepnica","10:30:00",null,null,{"$error":"#N/A"},null,null,{"$error":"#N/A"},{"$error":"#N/A"},"10:30:00"]
[{"$f":"IF(Protokół!$DJ$3=1,I43,IF(Protokół!$DJ$3=2,Q43,IF(Protokół!$DJ$3=3,Y43,IF(Protokół!$DJ$3=4,AG43,\"\"))))","v":0},{"$f":"IF(Protokół!$DJ$3=1,J43,IF(Protokół!$DJ$3=2,R43,IF(Protokół!$DJ$3=3,Z43,IF(Protokół!$DJ$3=4,AH43,\"\"))))","v":"00:00:00"},{"$f":"IF(Protokół!$DJ$3=1,K43,IF(Protokół!$DJ$3=2,S43,IF(Protokół!$DJ$3=3,AA43,IF(Protokół!$DJ$3=4,AI43,\"\"))))","v":{"$error":"#N/A"}},{"$f":"IF(Protokół!$DJ$3=1,L43,IF(Protokół!$DJ$3=2,T43,IF(Protokół!$DJ$3=3,AB43,IF(Protokół!$DJ$3=4,AJ43,\"\"))))","v":0},{"$f":"IF(Protokół!$DJ$3=1,M43,IF(Protokół!$DJ$3=2,U43,IF(Protokół!$DJ$3=3,AC43,IF(Protokół!$DJ$3=4,AK43,\"\"))))","v":0},{"$f":"IF(Protokół!$DJ$3=1,N43,IF(Protokół!$DJ$3=2,V43,IF(Protokół!$DJ$3=3,AD43,IF(Protokół!$DJ$3=4,AL43,\"\"))))","v":{"$error":"#N/A"}},{"$f":"IF(Protokół!$DJ$3=1,O43,IF(Protokół!$DJ$3=2,W43,IF(Protokół!$DJ$3=3,AE43,IF(Protokół!$DJ$3=4,AM43,\"\"))))","v":{"$error":"#N/A"}},{"$f":"IF(Protokół!$DJ$3=1,P43,IF(Protokół!$DJ$3=2,X43,IF(Protokół!$DJ$3=3,AF43,IF(Protokół!$DJ$3=4,AN43,\"\"))))","v":"10:30:00"},42,"2021-02-06","Ostrorogu",6,3,"UKS Nałęcz Majster Ostroróg","WLKS Łobzonka Wyrzysk",null,3042,"2020-11-28","Wierzbięcinie",1,6,"II Visonex LUKS Top Wierzbięcin","KKTS Kołobrzeg","14:30:00",4042,"2020-12-05","Międzyzdrojach",7,4,"I UKS Chrobry Międzyzdroje","II MSZS Świdwin","14:30:00",null,null,{"$error":"#N/A"},null,null,{"$error":"#N/A"},{"$error":"#N/A"},"10:30:00"]
[{"$f":"IF(Protokół!$DJ$3=1,I44,IF(Protokół!$DJ$3=2,Q44,IF(Protokół!$DJ$3=3,Y44,IF(Protokół!$DJ$3=4,AG44,\"\"))))","v":0},{"$f":"IF(Protokół!$DJ$3=1,J44,IF(Protokół!$DJ$3=2,R44,IF(Protokół!$DJ$3=3,Z44,IF(Protokół!$DJ$3=4,AH44,\"\"))))","v":"00:00:00"},{"$f":"IF(Protokół!$DJ$3=1,K44,IF(Protokół!$DJ$3=2,S44,IF(Protokół!$DJ$3=3,AA44,IF(Protokół!$DJ$3=4,AI44,\"\"))))","v":{"$error":"#N/A"}},{"$f":"IF(Protokół!$DJ$3=1,L44,IF(Protokół!$DJ$3=2,T44,IF(Protokół!$DJ$3=3,AB44,IF(Protokół!$DJ$3=4,AJ44,\"\"))))","v":0},{"$f":"IF(Protokół!$DJ$3=1,M44,IF(Protokół!$DJ$3=2,U44,IF(Protokół!$DJ$3=3,AC44,IF(Protokół!$DJ$3=4,AK44,\"\"))))","v":0},{"$f":"IF(Protokół!$DJ$3=1,N44,IF(Protokół!$DJ$3=2,V44,IF(Protokół!$DJ$3=3,AD44,IF(Protokół!$DJ$3=4,AL44,\"\"))))","v":{"$error":"#N/A"}},{"$f":"IF(Protokół!$DJ$3=1,O44,IF(Protokół!$DJ$3=2,W44,IF(Protokół!$DJ$3=3,AE44,IF(Protokół!$DJ$3=4,AM44,\"\"))))","v":{"$error":"#N/A"}},{"$f":"IF(Protokół!$DJ$3=1,P44,IF(Protokół!$DJ$3=2,X44,IF(Protokół!$DJ$3=3,AF44,IF(Protokół!$DJ$3=4,AN44,\"\"))))","v":"10:30:00"},43,"2021-02-06","Wierzbięcinie",2,1,"Visonex LUKS Top Wierzbięcin","TOP-SPIN Szczecin",null,3043,"2020-11-28","Stargardzie",2,5,"II KS ATS Stargard","UKS Czarni Pieszcz","14:30:00",4043,"2020-12-05","Kołobrzegu",8,3,"II KKTS Kołobrzeg","LKS Mewa Resko","14:30:00",null,null,{"$error":"#N/A"},null,null,{"$error":"#N/A"},{"$error":"#N/A"},"10:30:00"]
[{"$f":"IF(Protokół!$DJ$3=1,I45,IF(Protokół!$DJ$3=2,Q45,IF(Protokół!$DJ$3=3,Y45,IF(Protokół!$DJ$3=4,AG45,\"\"))))","v":0},{"$f":"IF(Protokół!$DJ$3=1,J45,IF(Protokół!$DJ$3=2,R45,IF(Protokół!$DJ$3=3,Z45,IF(Protokół!$DJ$3=4,AH45,\"\"))))","v":"00:00:00"},{"$f":"IF(Protokół!$DJ$3=1,K45,IF(Protokół!$DJ$3=2,S45,IF(Protokół!$DJ$3=3,AA45,IF(Protokół!$DJ$3=4,AI45,\"\"))))","v":{"$error":"#N/A"}},{"$f":"IF(Protokół!$DJ$3=1,L45,IF(Protokół!$DJ$3=2,T45,IF(Protokół!$DJ$3=3,AB45,IF(Protokół!$DJ$3=4,AJ45,\"\"))))","v":0},{"$f":"IF(Protokół!$DJ$3=1,M45,IF(Protokół!$DJ$3=2,U45,IF(Protokół!$DJ$3=3,AC45,IF(Protokół!$DJ$3=4,AK45,\"\"))))","v":0},{"$f":"IF(Protokół!$DJ$3=1,N45,IF(Protokół!$DJ$3=2,V45,IF(Protokół!$DJ$3=3,AD45,IF(Protokół!$DJ$3=4,AL45,\"\"))))","v":{"$error":"#N/A"}},{"$f":"IF(Protokół!$DJ$3=1,O45,IF(Protokół!$DJ$3=2,W45,IF(Protokół!$DJ$3=3,AE45,IF(Protokół!$DJ$3=4,AM45,\"\"))))","v":{"$error":"#N/A"}},{"$f":"IF(Protokół!$DJ$3=1,P45,IF(Protokół!$DJ$3=2,X45,IF(Protokół!$DJ$3=3,AF45,IF(Protokół!$DJ$3=4,AN45,\"\"))))","v":"10:30:00"},44,"2021-02-06","Stargardzie",5,7,"KS ATS Stargard","UKS CHAMPIN Police",null,3044,"2020-11-28","Świdwinie",4,7,"MSZS Świdwin","UKS-T VICTORIA Chojna","14:30:00",4044,"2020-12-05","Stargardzie",2,6,"III KS ATS Stargard","II UKS Zalew Stepnica","14:30:00",null,null,{"$error":"#N/A"},null,null,{"$error":"#N/A"},{"$error":"#N/A"},"10:30:00"]
[{"$f":"IF(Protokół!$DJ$3=1,I46,IF(Protokół!$DJ$3=2,Q46,IF(Protokół!$DJ$3=3,Y46,IF(Protokół!$DJ$3=4,AG46,\"\"))))","v":0},{"$f":"IF(Protokół!$DJ$3=1,J46,IF(Protokół!$DJ$3=2,R46,IF(Protokół!$DJ$3=3,Z46,IF(Protokół!$DJ$3=4,AH46,\"\"))))","v":"00:00:00"},{"$f":"IF(Protokół!$DJ$3=1,K46,IF(Protokół!$DJ$3=2,S46,IF(Protokół!$DJ$3=3,AA46,IF(Protokół!$DJ$3=4,AI46,\"\"))))","v":{"$error":"#N/A"}},{"$f":"IF(Protokół!$DJ$3=1,L46,IF(Protokół!$DJ$3=2,T46,IF(Protokół!$DJ$3=3,AB46,IF(Protokół!$DJ$3=4,AJ46,\"\"))))","v":0},{"$f":"IF(Protokół!$DJ$3=1,M46,IF(Protokół!$DJ$3=2,U46,IF(Protokół!$DJ$3=3,AC46,IF(Protokół!$DJ$3=4,AK46,\"\"))))","v":0},{"$f":"IF(Protokół!$DJ$3=1,N46,IF(Protokół!$DJ$3=2,V46,IF(Protokół!$DJ$3=3,AD46,IF(Protokół!$DJ$3=4,AL46,\"\"))))","v":{"$error":"#N/A"}},{"$f":"IF(Protokół!$DJ$3=1,O46,IF(Protokół!$DJ$3=2,W46,IF(Protokół!$DJ$3=3,AE46,IF(Protokół!$DJ$3=4,AM46,\"\"))))","v":{"$error":"#N/A"}},{"$f":"IF(Protokół!$DJ$3=1,P46,IF(Protokół!$DJ$3=2,X46,IF(Protokół!$DJ$3=3,AF46,IF(Protokół!$DJ$3=4,AN46,\"\"))))","v":"10:30:00"},45,"2021-02-06","Dębnie",4,8,"STS Dębno","STLS Szczecinek",null,3045,"2020-12-05","Pieszczu",5,3,"UKS Czarni Pieszcz","UKS Team Tenis 2005 Białogard","14:30:00",4045,"2020-12-05","Szczecinie",1,5,"Gryfin S Spin Szczecin","I UKS Zalew Stepnica","14:30:00",null,null,{"$error":"#N/A"},null,null,{"$error":"#N/A"},{"$error":"#N/A"},"10:30:00"]
[{"$f":"IF(Protokół!$DJ$3=1,I47,IF(Protokół!$DJ$3=2,Q47,IF(Protokół!$DJ$3=3,Y47,IF(Protokół!$DJ$3=4,AG47,\"\"))))","v":0},{"$f":"IF(Protokół!$DJ$3=1,J47,IF(Protokół!$DJ$3=2,R47,IF(Protokół!$DJ$3=3,Z47,IF(Protokół!$DJ$3=4,AH47,\"\"))))","v":"00:00:00"},{"$f":"IF(Protokół!$DJ$3=1,K47,IF(Protokół!$DJ$3=2,S47,IF(Protokół!$DJ$3=3,AA47,IF(Protokół!$DJ$3=4,AI47,\"\"))))","v":{"$error":"#N/A"}},{"$f":"IF(Protokół!$DJ$3=1,L47,IF(Protokół!$DJ$3=2,T47,IF(Protokół!$DJ$3=3,AB47,IF(Protokół!$DJ$3=4,AJ47,\"\"))))","v":0},{"$f":"IF(Protokół!$DJ$3=1,M47,IF(Protokół!$DJ$3=2,U47,IF(Protokół!$DJ$3=3,AC47,IF(Protokół!$DJ$3=4,AK47,\"\"))))","v":0},{"$f":"IF(Protokół!$DJ$3=1,N47,IF(Protokół!$DJ$3=2,V47,IF(Protokół!$DJ$3=3,AD47,IF(Protokół!$DJ$3=4,AL47,\"\"))))","v":{"$error":"#N/A"}},{"$f":"IF(Protokół!$DJ$3=1,O47,IF(Protokół!$DJ$3=2,W47,IF(Protokół!$DJ$3=3,AE47,IF(Protokół!$DJ$3=4,AM47,\"\"))))","v":{"$error":"#N/A"}},{"$f":"IF(Protokół!$DJ$3=1,P47,IF(Protokół!$DJ$3=2,X47,IF(Protokół!$DJ$3=3,AF47,IF(Protokół!$DJ$3=4,AN47,\"\"))))","v":"14:30:00"},46,"2021-02-06","Ostrorogu",6,3,"UKS Nałęcz Majster Ostroróg","WLKS Łobzonka Wyrzysk",null,3046,"2020-12-05","Kołobrzegu",6,4,"KKTS Kołobrzeg","MSZS Świdwin","10:30:00",4046,"2021-03-06","Stepnicy",6,5,"II UKS Zalew Stepnica","I UKS Zalew Stepnica","10:30:00",null,null,{"$error":"#N/A"},null,null,{"$error":"#N/A"},{"$error":"#N/A"},"14:30:00"]
[{"$f":"IF(Protokół!$DJ$3=1,I48,IF(Protokół!$DJ$3=2,Q48,IF(Protokół!$DJ$3=3,Y48,IF(Protokół!$DJ$3=4,AG48,\"\"))))","v":0},{"$f":"IF(Protokół!$DJ$3=1,J48,IF(Protokół!$DJ$3=2,R48,IF(Protokół!$DJ$3=3,Z48,IF(Protokół!$DJ$3=4,AH48,\"\"))))","v":"00:00:00"},{"$f":"IF(Protokół!$DJ$3=1,K48,IF(Protokół!$DJ$3=2,S48,IF(Protokół!$DJ$3=3,AA48,IF(Protokół!$DJ$3=4,AI48,\"\"))))","v":{"$error":"#N/A"}},{"$f":"IF(Protokół!$DJ$3=1,L48,IF(Protokół!$DJ$3=2,T48,IF(Protokół!$DJ$3=3,AB48,IF(Protokół!$DJ$3=4,AJ48,\"\"))))","v":0},{"$f":"IF(Protokół!$DJ$3=1,M48,IF(Protokół!$DJ$3=2,U48,IF(Protokół!$DJ$3=3,AC48,IF(Protokół!$DJ$3=4,AK48,\"\"))))","v":0},{"$f":"IF(Protokół!$DJ$3=1,N48,IF(Protokół!$DJ$3=2,V48,IF(Protokół!$DJ$3=3,AD48,IF(Protokół!$DJ$3=4,AL48,\"\"))))","v":{"$error":"#N/A"}},{"$f":"IF(Protokół!$DJ$3=1,O48,IF(Protokół!$DJ$3=2,W48,IF(Protokół!$DJ$3=3,AE48,IF(Protokół!$DJ$3=4,AM48,\"\"))))","v":{"$error":"#N/A"}},{"$f":"IF(Protokół!$DJ$3=1,P48,IF(Protokół!$DJ$3=2,X48,IF(Protokół!$DJ$3=3,AF48,IF(Protokół!$DJ$3=4,AN48,\"\"))))","v":"14:30:00"},47,"2021-02-06","Stargardzie",5,1,"KS ATS Stargard","TOP-SPIN Szczecin",null,3047,"2020-12-05","Gryficach",9,1,"LUKS Gryfice","II Visonex LUKS Top Wierzbięcin","10:30:00",4047,"2021-03-06","Stargardzie",2,3,"III KS ATS Stargard","LKS Mewa Resko","10:30:00",null,null,{"$error":"#N/A"},null,null,{"$error":"#N/A"},{"$error":"#N/A"},"14:30:00"]
[{"$f":"IF(Protokół!$DJ$3=1,I49,IF(Protokół!$DJ$3=2,Q49,IF(Protokół!$DJ$3=3,Y49,IF(Protokół!$DJ$3=4,AG49,\"\"))))","v":0},{"$f":"IF(Protokół!$DJ$3=1,J49,IF(Protokół!$DJ$3=2,R49,IF(Protokół!$DJ$3=3,Z49,IF(Protokół!$DJ$3=4,AH49,\"\"))))","v":"00:00:00"},{"$f":"IF(Protokół!$DJ$3=1,K49,IF(Protokół!$DJ$3=2,S49,IF(Protokół!$DJ$3=3,AA49,IF(Protokół!$DJ$3=4,AI49,\"\"))))","v":{"$error":"#N/A"}},{"$f":"IF(Protokół!$DJ$3=1,L49,IF(Protokół!$DJ$3=2,T49,IF(Protokół!$DJ$3=3,AB49,IF(Protokół!$DJ$3=4,AJ49,\"\"))))","v":0},{"$f":"IF(Protokół!$DJ$3=1,M49,IF(Protokół!$DJ$3=2,U49,IF(Protokół!$DJ$3=3,AC49,IF(Protokół!$DJ$3=4,AK49,\"\"))))","v":0},{"$f":"IF(Protokół!$DJ$3=1,N49,IF(Protokół!$DJ$3=2,V49,IF(Protokół!$DJ$3=3,AD49,IF(Protokół!$DJ$3=4,AL49,\"\"))))","v":{"$error":"#N/A"}},{"$f":"IF(Protokół!$DJ$3=1,O49,IF(Protokół!$DJ$3=2,W49,IF(Protokół!$DJ$3=3,AE49,IF(Protokół!$DJ$3=4,AM49,\"\"))))","v":{"$error":"#N/A"}},{"$f":"IF(Protokół!$DJ$3=1,P49,IF(Protokół!$DJ$3=2,X49,IF(Protokół!$DJ$3=3,AF49,IF(Protokół!$DJ$3=4,AN49,\"\"))))","v":"14:30:00"},48,"2021-02-06","Wierzbięcinie",2,7,"Visonex LUKS Top Wierzbięcin","UKS CHAMPIN Police",null,3048,"2020-12-05","Trzebiatowie",10,2,"LUKS Fala Trzebiatów","II KS ATS Stargard","10:30:00",4048,"2021-03-06","Szczecinie",1,4,"Gryfin S Spin Szczecin","II MSZS Świdwin","10:30:00",null,null,{"$error":"#N/A"},null,null,{"$error":"#N/A"},{"$error":"#N/A"},"14:30:00"]
[{"$f":"IF(Protokół!$DJ$3=1,I50,IF(Protokół!$DJ$3=2,Q50,IF(Protokół!$DJ$3=3,Y50,IF(Protokół!$DJ$3=4,AG50,\"\"))))","v":0},{"$f":"IF(Protokół!$DJ$3=1,J50,IF(Protokół!$DJ$3=2,R50,IF(Protokół!$DJ$3=3,Z50,IF(Protokół!$DJ$3=4,AH50,\"\"))))","v":"00:00:00"},{"$f":"IF(Protokół!$DJ$3=1,K50,IF(Protokół!$DJ$3=2,S50,IF(Protokół!$DJ$3=3,AA50,IF(Protokół!$DJ$3=4,AI50,\"\"))))","v":{"$error":"#N/A"}},{"$f":"IF(Protokół!$DJ$3=1,L50,IF(Protokół!$DJ$3=2,T50,IF(Protokół!$DJ$3=3,AB50,IF(Protokół!$DJ$3=4,AJ50,\"\"))))","v":0},{"$f":"IF(Protokół!$DJ$3=1,M50,IF(Protokół!$DJ$3=2,U50,IF(Protokół!$DJ$3=3,AC50,IF(Protokół!$DJ$3=4,AK50,\"\"))))","v":0},{"$f":"IF(Protokół!$DJ$3=1,N50,IF(Protokół!$DJ$3=2,V50,IF(Protokół!$DJ$3=3,AD50,IF(Protokół!$DJ$3=4,AL50,\"\"))))","v":{"$error":"#N/A"}},{"$f":"IF(Protokół!$DJ$3=1,O50,IF(Protokół!$DJ$3=2,W50,IF(Protokół!$DJ$3=3,AE50,IF(Protokół!$DJ$3=4,AM50,\"\"))))","v":{"$error":"#N/A"}},{"$f":"IF(Protokół!$DJ$3=1,P50,IF(Protokół!$DJ$3=2,X50,IF(Protokół!$DJ$3=3,AF50,IF(Protokół!$DJ$3=4,AN50,\"\"))))","v":"14:30:00"},49,"2021-03-06",{"$f":"VLOOKUP(L50,$I$166:$M$173,5,FALSE)","v":"Dębnie"},4,2,{"$f":"VLOOKUP(L50,$I$166:$M$173,2,FALSE)","v":"STS Dębno"},"Visonex LUKS Top Wierzbięcin","11:00:00",3049,"2020-12-05","Policach",12,13,"II UKS Champion Police","I KTS Koszalinianin Koszalin","10:30:00",4049,"2021-03-06",{"$error":"#N/A"},null,9,{"$error":"#N/A"},"II STLA Szczecinek","10:30:00",null,null,{"$error":"#N/A"},null,null,{"$error":"#N/A"},{"$error":"#N/A"},"14:30:00",{"$f":"SUM(AJ50:AK61)","v":0}]
[{"$f":"IF(Protokół!$DJ$3=1,I51,IF(Protokół!$DJ$3=2,Q51,IF(Protokół!$DJ$3=3,Y51,IF(Protokół!$DJ$3=4,AG51,\"\"))))","v":0},{"$f":"IF(Protokół!$DJ$3=1,J51,IF(Protokół!$DJ$3=2,R51,IF(Protokół!$DJ$3=3,Z51,IF(Protokół!$DJ$3=4,AH51,\"\"))))","v":"00:00:00"},{"$f":"IF(Protokół!$DJ$3=1,K51,IF(Protokół!$DJ$3=2,S51,IF(Protokół!$DJ$3=3,AA51,IF(Protokół!$DJ$3=4,AI51,\"\"))))","v":{"$error":"#N/A"}},{"$f":"IF(Protokół!$DJ$3=1,L51,IF(Protokół!$DJ$3=2,T51,IF(Protokół!$DJ$3=3,AB51,IF(Protokół!$DJ$3=4,AJ51,\"\"))))","v":0},{"$f":"IF(Protokół!$DJ$3=1,M51,IF(Protokół!$DJ$3=2,U51,IF(Protokół!$DJ$3=3,AC51,IF(Protokół!$DJ$3=4,AK51,\"\"))))","v":0},{"$f":"IF(Protokół!$DJ$3=1,N51,IF(Protokół!$DJ$3=2,V51,IF(Protokół!$DJ$3=3,AD51,IF(Protokół!$DJ$3=4,AL51,\"\"))))","v":{"$error":"#N/A"}},{"$f":"IF(Protokół!$DJ$3=1,O51,IF(Protokół!$DJ$3=2,W51,IF(Protokół!$DJ$3=3,AE51,IF(Protokół!$DJ$3=4,AM51,\"\"))))","v":{"$error":"#N/A"}},{"$f":"IF(Protokół!$DJ$3=1,P51,IF(Protokół!$DJ$3=2,X51,IF(Protokół!$DJ$3=3,AF51,IF(Protokół!$DJ$3=4,AN51,\"\"))))","v":"14:30:00"},50,"2021-03-06",{"$f":"VLOOKUP(L51,$I$166:$M$173,5,FALSE)","v":"Ostrorogu"},6,5,"UKS Nałęcz Majster Ostroróg","KS ATS Stargard","11:00:00",3050,"2020-12-05","Szczecinie-Zdunowie",11,14,"Trzynastka Szczecin","II KTS Koszalinianin Koszalin","10:30:00",4050,"2021-03-06","Kołobrzegu",8,10,"II KKTS Kołobrzeg","I ZTTS Złocieniec","10:30:00",null,null,{"$error":"#N/A"},null,null,{"$error":"#N/A"},{"$error":"#N/A"},"14:30:00"]
[{"$f":"IF(Protokół!$DJ$3=1,I52,IF(Protokół!$DJ$3=2,Q52,IF(Protokół!$DJ$3=3,Y52,IF(Protokół!$DJ$3=4,AG52,\"\"))))","v":0},{"$f":"IF(Protokół!$DJ$3=1,J52,IF(Protokół!$DJ$3=2,R52,IF(Protokół!$DJ$3=3,Z52,IF(Protokół!$DJ$3=4,AH52,\"\"))))","v":"00:00:00"},{"$f":"IF(Protokół!$DJ$3=1,K52,IF(Protokół!$DJ$3=2,S52,IF(Protokół!$DJ$3=3,AA52,IF(Protokół!$DJ$3=4,AI52,\"\"))))","v":{"$error":"#N/A"}},{"$f":"IF(Protokół!$DJ$3=1,L52,IF(Protokół!$DJ$3=2,T52,IF(Protokół!$DJ$3=3,AB52,IF(Protokół!$DJ$3=4,AJ52,\"\"))))","v":0},{"$f":"IF(Protokół!$DJ$3=1,M52,IF(Protokół!$DJ$3=2,U52,IF(Protokół!$DJ$3=3,AC52,IF(Protokół!$DJ$3=4,AK52,\"\"))))","v":0},{"$f":"IF(Protokół!$DJ$3=1,N52,IF(Protokół!$DJ$3=2,V52,IF(Protokół!$DJ$3=3,AD52,IF(Protokół!$DJ$3=4,AL52,\"\"))))","v":{"$error":"#N/A"}},{"$f":"IF(Protokół!$DJ$3=1,O52,IF(Protokół!$DJ$3=2,W52,IF(Protokół!$DJ$3=3,AE52,IF(Protokół!$DJ$3=4,AM52,\"\"))))","v":{"$error":"#N/A"}},{"$f":"IF(Protokół!$DJ$3=1,P52,IF(Protokół!$DJ$3=2,X52,IF(Protokół!$DJ$3=3,AF52,IF(Protokół!$DJ$3=4,AN52,\"\"))))","v":"10:30:00"},51,"2021-03-06",{"$f":"VLOOKUP(L52,$I$166:$M$173,5,FALSE)","v":"Szczecinku"},8,1,"STLS Szczecinek","TOP-SPIN Szczecin","11:00:00",3051,"2020-12-05","Pieszczu",5,4,"UKS Czarni Pieszcz","MSZS Świdwin","14:30:00",4051,"2021-03-06","Stargardzie",2,4,"III KS ATS Stargard","II MSZS Świdwin","14:30:00",null,null,{"$error":"#N/A"},null,null,{"$error":"#N/A"},{"$error":"#N/A"},"10:30:00"]
[{"$f":"IF(Protokół!$DJ$3=1,I53,IF(Protokół!$DJ$3=2,Q53,IF(Protokół!$DJ$3=3,Y53,IF(Protokół!$DJ$3=4,AG53,\"\"))))","v":0},{"$f":"IF(Protokół!$DJ$3=1,J53,IF(Protokół!$DJ$3=2,R53,IF(Protokół!$DJ$3=3,Z53,IF(Protokół!$DJ$3=4,AH53,\"\"))))","v":"00:00:00"},{"$f":"IF(Protokół!$DJ$3=1,K53,IF(Protokół!$DJ$3=2,S53,IF(Protokół!$DJ$3=3,AA53,IF(Protokół!$DJ$3=4,AI53,\"\"))))","v":{"$error":"#N/A"}},{"$f":"IF(Protokół!$DJ$3=1,L53,IF(Protokół!$DJ$3=2,T53,IF(Protokół!$DJ$3=3,AB53,IF(Protokół!$DJ$3=4,AJ53,\"\"))))","v":0},{"$f":"IF(Protokół!$DJ$3=1,M53,IF(Protokół!$DJ$3=2,U53,IF(Protokół!$DJ$3=3,AC53,IF(Protokół!$DJ$3=4,AK53,\"\"))))","v":0},{"$f":"IF(Protokół!$DJ$3=1,N53,IF(Protokół!$DJ$3=2,V53,IF(Protokół!$DJ$3=3,AD53,IF(Protokół!$DJ$3=4,AL53,\"\"))))","v":{"$error":"#N/A"}},{"$f":"IF(Protokół!$DJ$3=1,O53,IF(Protokół!$DJ$3=2,W53,IF(Protokół!$DJ$3=3,AE53,IF(Protokół!$DJ$3=4,AM53,\"\"))))","v":{"$error":"#N/A"}},{"$f":"IF(Protokół!$DJ$3=1,P53,IF(Protokół!$DJ$3=2,X53,IF(Protokół!$DJ$3=3,AF53,IF(Protokół!$DJ$3=4,AN53,\"\"))))","v":"10:30:00"},52,"2021-03-06",{"$f":"VLOOKUP(L53,$I$166:$M$173,5,FALSE)","v":"Wyrzysku"},3,7,"WLKS Łobzonka Wyrzysk","UKS CHAMPIN Police","11:00:00",3052,"2020-12-05","Kołobrzegu",6,3,"KKTS Kołobrzeg","UKS Team Tenis 2005 Białogard","14:30:00",4052,"2021-03-06","Szczecinie",1,3,"Gryfin S Spin Szczecin","LKS Mewa Resko","14:30:00",null,null,{"$error":"#N/A"},null,null,{"$error":"#N/A"},{"$error":"#N/A"},"10:30:00"]
[{"$f":"IF(Protokół!$DJ$3=1,I54,IF(Protokół!$DJ$3=2,Q54,IF(Protokół!$DJ$3=3,Y54,IF(Protokół!$DJ$3=4,AG54,\"\"))))","v":0},{"$f":"IF(Protokół!$DJ$3=1,J54,IF(Protokół!$DJ$3=2,R54,IF(Protokół!$DJ$3=3,Z54,IF(Protokół!$DJ$3=4,AH54,\"\"))))","v":"00:00:00"},{"$f":"IF(Protokół!$DJ$3=1,K54,IF(Protokół!$DJ$3=2,S54,IF(Protokół!$DJ$3=3,AA54,IF(Protokół!$DJ$3=4,AI54,\"\"))))","v":{"$error":"#N/A"}},{"$f":"IF(Protokół!$DJ$3=1,L54,IF(Protokół!$DJ$3=2,T54,IF(Protokół!$DJ$3=3,AB54,IF(Protokół!$DJ$3=4,AJ54,\"\"))))","v":0},{"$f":"IF(Protokół!$DJ$3=1,M54,IF(Protokół!$DJ$3=2,U54,IF(Protokół!$DJ$3=3,AC54,IF(Protokół!$DJ$3=4,AK54,\"\"))))","v":0},{"$f":"IF(Protokół!$DJ$3=1,N54,IF(Protokół!$DJ$3=2,V54,IF(Protokół!$DJ$3=3,AD54,IF(Protokół!$DJ$3=4,AL54,\"\"))))","v":{"$error":"#N/A"}},{"$f":"IF(Protokół!$DJ$3=1,O54,IF(Protokół!$DJ$3=2,W54,IF(Protokół!$DJ$3=3,AE54,IF(Protokół!$DJ$3=4,AM54,\"\"))))","v":{"$error":"#N/A"}},{"$f":"IF(Protokół!$DJ$3=1,P54,IF(Protokół!$DJ$3=2,X54,IF(Protokół!$DJ$3=3,AF54,IF(Protokół!$DJ$3=4,AN54,\"\"))))","v":"10:30:00"},53,"2021-03-06",{"$f":"VLOOKUP(L54,$I$166:$M$173,5,FALSE)","v":"Ostrorogu"},6,2,{"$f":"VLOOKUP(L54,$I$166:$M$173,2,FALSE)","v":"UKS Nałęcz Majster Ostroróg"},{"$f":"VLOOKUP(M54,$I$166:$M$173,2,FALSE)","v":"Visonex LUKS Top Wierzbięcin"},null,3053,"2020-12-05","Gryficach",9,2,"LUKS Gryfice","II KS ATS Stargard","14:30:00",4053,"2021-03-06",{"$error":"#N/A"},null,10,{"$error":"#N/A"},"I ZTTS Złocieniec","14:30:00",null,null,{"$error":"#N/A"},null,null,{"$error":"#N/A"},{"$error":"#N/A"},"10:30:00"]
[{"$f":"IF(Protokół!$DJ$3=1,I55,IF(Protokół!$DJ$3=2,Q55,IF(Protokół!$DJ$3=3,Y55,IF(Protokół!$DJ$3=4,AG55,\"\"))))","v":0},{"$f":"IF(Protokół!$DJ$3=1,J55,IF(Protokół!$DJ$3=2,R55,IF(Protokół!$DJ$3=3,Z55,IF(Protokół!$DJ$3=4,AH55,\"\"))))","v":"00:00:00"},{"$f":"IF(Protokół!$DJ$3=1,K55,IF(Protokół!$DJ$3=2,S55,IF(Protokół!$DJ$3=3,AA55,IF(Protokół!$DJ$3=4,AI55,\"\"))))","v":{"$error":"#N/A"}},{"$f":"IF(Protokół!$DJ$3=1,L55,IF(Protokół!$DJ$3=2,T55,IF(Protokół!$DJ$3=3,AB55,IF(Protokół!$DJ$3=4,AJ55,\"\"))))","v":0},{"$f":"IF(Protokół!$DJ$3=1,M55,IF(Protokół!$DJ$3=2,U55,IF(Protokół!$DJ$3=3,AC55,IF(Protokół!$DJ$3=4,AK55,\"\"))))","v":0},{"$f":"IF(Protokół!$DJ$3=1,N55,IF(Protokół!$DJ$3=2,V55,IF(Protokół!$DJ$3=3,AD55,IF(Protokół!$DJ$3=4,AL55,\"\"))))","v":{"$error":"#N/A"}},{"$f":"IF(Protokół!$DJ$3=1,O55,IF(Protokół!$DJ$3=2,W55,IF(Protokół!$DJ$3=3,AE55,IF(Protokół!$DJ$3=4,AM55,\"\"))))","v":{"$error":"#N/A"}},{"$f":"IF(Protokół!$DJ$3=1,P55,IF(Protokół!$DJ$3=2,X55,IF(Protokół!$DJ$3=3,AF55,IF(Protokół!$DJ$3=4,AN55,\"\"))))","v":"10:30:00"},54,"2021-03-06","Dębnie",4,5,"STS Dębno","KS ATS Stargard",null,3054,"2020-12-05","Trzebiatowie",10,1,"LUKS Fala Trzebiatów","II Visonex LUKS Top Wierzbięcin","14:30:00",4054,"2021-03-06","Kołobrzegu",8,9,"II KKTS Kołobrzeg","II STLA Szczecinek","14:30:00",null,null,{"$error":"#N/A"},null,null,{"$error":"#N/A"},{"$error":"#N/A"},"10:30:00"]
[{"$f":"IF(Protokół!$DJ$3=1,I56,IF(Protokół!$DJ$3=2,Q56,IF(Protokół!$DJ$3=3,Y56,IF(Protokół!$DJ$3=4,AG56,\"\"))))","v":0},{"$f":"IF(Protokół!$DJ$3=1,J56,IF(Protokół!$DJ$3=2,R56,IF(Protokół!$DJ$3=3,Z56,IF(Protokół!$DJ$3=4,AH56,\"\"))))","v":"00:00:00"},{"$f":"IF(Protokół!$DJ$3=1,K56,IF(Protokół!$DJ$3=2,S56,IF(Protokół!$DJ$3=3,AA56,IF(Protokół!$DJ$3=4,AI56,\"\"))))","v":{"$error":"#N/A"}},{"$f":"IF(Protokół!$DJ$3=1,L56,IF(Protokół!$DJ$3=2,T56,IF(Protokół!$DJ$3=3,AB56,IF(Protokół!$DJ$3=4,AJ56,\"\"))))","v":0},{"$f":"IF(Protokół!$DJ$3=1,M56,IF(Protokół!$DJ$3=2,U56,IF(Protokół!$DJ$3=3,AC56,IF(Protokół!$DJ$3=4,AK56,\"\"))))","v":0},{"$f":"IF(Protokół!$DJ$3=1,N56,IF(Protokół!$DJ$3=2,V56,IF(Protokół!$DJ$3=3,AD56,IF(Protokół!$DJ$3=4,AL56,\"\"))))","v":{"$error":"#N/A"}},{"$f":"IF(Protokół!$DJ$3=1,O56,IF(Protokół!$DJ$3=2,W56,IF(Protokół!$DJ$3=3,AE56,IF(Protokół!$DJ$3=4,AM56,\"\"))))","v":{"$error":"#N/A"}},{"$f":"IF(Protokół!$DJ$3=1,P56,IF(Protokół!$DJ$3=2,X56,IF(Protokół!$DJ$3=3,AF56,IF(Protokół!$DJ$3=4,AN56,\"\"))))","v":"10:30:00"},55,"2021-03-06","Wyrzysku",3,1,"WLKS Łobzonka Wyrzysk","TOP-SPIN Szczecin",null,3055,"2020-12-05","Policach",12,14,"II UKS Champion Police","II KTS Koszalinianin Koszalin","10:30:00",4055,"2021-03-13","Kołobrzegu",8,null,"II KKTS Kołobrzeg",{"$error":"#N/A"},"10:30:00",null,null,{"$error":"#N/A"},null,null,{"$error":"#N/A"},{"$error":"#N/A"},"10:30:00"]
[{"$f":"IF(Protokół!$DJ$3=1,I57,IF(Protokół!$DJ$3=2,Q57,IF(Protokół!$DJ$3=3,Y57,IF(Protokół!$DJ$3=4,AG57,\"\"))))","v":0},{"$f":"IF(Protokół!$DJ$3=1,J57,IF(Protokół!$DJ$3=2,R57,IF(Protokół!$DJ$3=3,Z57,IF(Protokół!$DJ$3=4,AH57,\"\"))))","v":"00:00:00"},{"$f":"IF(Protokół!$DJ$3=1,K57,IF(Protokół!$DJ$3=2,S57,IF(Protokół!$DJ$3=3,AA57,IF(Protokół!$DJ$3=4,AI57,\"\"))))","v":{"$error":"#N/A"}},{"$f":"IF(Protokół!$DJ$3=1,L57,IF(Protokół!$DJ$3=2,T57,IF(Protokół!$DJ$3=3,AB57,IF(Protokół!$DJ$3=4,AJ57,\"\"))))","v":0},{"$f":"IF(Protokół!$DJ$3=1,M57,IF(Protokół!$DJ$3=2,U57,IF(Protokół!$DJ$3=3,AC57,IF(Protokół!$DJ$3=4,AK57,\"\"))))","v":0},{"$f":"IF(Protokół!$DJ$3=1,N57,IF(Protokół!$DJ$3=2,V57,IF(Protokół!$DJ$3=3,AD57,IF(Protokół!$DJ$3=4,AL57,\"\"))))","v":{"$error":"#N/A"}},{"$f":"IF(Protokół!$DJ$3=1,O57,IF(Protokół!$DJ$3=2,W57,IF(Protokół!$DJ$3=3,AE57,IF(Protokół!$DJ$3=4,AM57,\"\"))))","v":{"$error":"#N/A"}},{"$f":"IF(Protokół!$DJ$3=1,P57,IF(Protokół!$DJ$3=2,X57,IF(Protokół!$DJ$3=3,AF57,IF(Protokół!$DJ$3=4,AN57,\"\"))))","v":"14:30:00"},56,"2021-03-06","Szczecinku",8,7,"STLS Szczecinek","UKS CHAMPIN Police",null,3056,"2020-12-05","Szczecinie-Zdunowie",11,13,"Trzynastka Szczecin","I KTS Koszalinianin Koszalin","10:30:00",4056,"2021-03-13","Szczecinku",9,2,"II STLA Szczecinek","III KS ATS Stargard","10:30:00",null,null,{"$error":"#N/A"},null,null,{"$error":"#N/A"},{"$error":"#N/A"},"14:30:00"]
[{"$f":"IF(Protokół!$DJ$3=1,I58,IF(Protokół!$DJ$3=2,Q58,IF(Protokół!$DJ$3=3,Y58,IF(Protokół!$DJ$3=4,AG58,\"\"))))","v":0},{"$f":"IF(Protokół!$DJ$3=1,J58,IF(Protokół!$DJ$3=2,R58,IF(Protokół!$DJ$3=3,Z58,IF(Protokół!$DJ$3=4,AH58,\"\"))))","v":"00:00:00"},{"$f":"IF(Protokół!$DJ$3=1,K58,IF(Protokół!$DJ$3=2,S58,IF(Protokół!$DJ$3=3,AA58,IF(Protokół!$DJ$3=4,AI58,\"\"))))","v":{"$error":"#N/A"}},{"$f":"IF(Protokół!$DJ$3=1,L58,IF(Protokół!$DJ$3=2,T58,IF(Protokół!$DJ$3=3,AB58,IF(Protokół!$DJ$3=4,AJ58,\"\"))))","v":0},{"$f":"IF(Protokół!$DJ$3=1,M58,IF(Protokół!$DJ$3=2,U58,IF(Protokół!$DJ$3=3,AC58,IF(Protokół!$DJ$3=4,AK58,\"\"))))","v":0},{"$f":"IF(Protokół!$DJ$3=1,N58,IF(Protokół!$DJ$3=2,V58,IF(Protokół!$DJ$3=3,AD58,IF(Protokół!$DJ$3=4,AL58,\"\"))))","v":{"$error":"#N/A"}},{"$f":"IF(Protokół!$DJ$3=1,O58,IF(Protokół!$DJ$3=2,W58,IF(Protokół!$DJ$3=3,AE58,IF(Protokół!$DJ$3=4,AM58,\"\"))))","v":{"$error":"#N/A"}},{"$f":"IF(Protokół!$DJ$3=1,P58,IF(Protokół!$DJ$3=2,X58,IF(Protokół!$DJ$3=3,AF58,IF(Protokół!$DJ$3=4,AN58,\"\"))))","v":"14:30:00"},57,null,null,null,null,null,null,null,3057,"2020-12-19","Koszalinie",13,14,"I KTS Koszalinianin Koszalin","II KTS Koszalinianin Koszalin","10:30:00",4057,"2021-03-13","Złocieńcu",10,1,"I ZTTS Złocieniec","Gryfin S Spin Szczecin","10:30:00",null,null,{"$error":"#N/A"},null,null,{"$error":"#N/A"},{"$error":"#N/A"},"14:30:00"]
[{"$f":"IF(Protokół!$DJ$3=1,I59,IF(Protokół!$DJ$3=2,Q59,IF(Protokół!$DJ$3=3,Y59,IF(Protokół!$DJ$3=4,AG59,\"\"))))","v":0},{"$f":"IF(Protokół!$DJ$3=1,J59,IF(Protokół!$DJ$3=2,R59,IF(Protokół!$DJ$3=3,Z59,IF(Protokół!$DJ$3=4,AH59,\"\"))))","v":"00:00:00"},{"$f":"IF(Protokół!$DJ$3=1,K59,IF(Protokół!$DJ$3=2,S59,IF(Protokół!$DJ$3=3,AA59,IF(Protokół!$DJ$3=4,AI59,\"\"))))","v":{"$error":"#N/A"}},{"$f":"IF(Protokół!$DJ$3=1,L59,IF(Protokół!$DJ$3=2,T59,IF(Protokół!$DJ$3=3,AB59,IF(Protokół!$DJ$3=4,AJ59,\"\"))))","v":0},{"$f":"IF(Protokół!$DJ$3=1,M59,IF(Protokół!$DJ$3=2,U59,IF(Protokół!$DJ$3=3,AC59,IF(Protokół!$DJ$3=4,AK59,\"\"))))","v":0},{"$f":"IF(Protokół!$DJ$3=1,N59,IF(Protokół!$DJ$3=2,V59,IF(Protokół!$DJ$3=3,AD59,IF(Protokół!$DJ$3=4,AL59,\"\"))))","v":{"$error":"#N/A"}},{"$f":"IF(Protokół!$DJ$3=1,O59,IF(Protokół!$DJ$3=2,W59,IF(Protokół!$DJ$3=3,AE59,IF(Protokół!$DJ$3=4,AM59,\"\"))))","v":{"$error":"#N/A"}},{"$f":"IF(Protokół!$DJ$3=1,P59,IF(Protokół!$DJ$3=2,X59,IF(Protokół!$DJ$3=3,AF59,IF(Protokół!$DJ$3=4,AN59,\"\"))))","v":"14:30:00"},58,null,null,null,null,null,null,null,3058,"2020-12-19","Wierzbięcinie",1,12,"II Visonex LUKS Top Wierzbięcin","II UKS Champion Police","10:30:00",4058,"2021-03-13","Resku",3,5,"LKS Mewa Resko","I UKS Zalew Stepnica","10:30:00",null,null,{"$error":"#N/A"},null,null,{"$error":"#N/A"},{"$error":"#N/A"},"14:30:00"]
[{"$f":"IF(Protokół!$DJ$3=1,I60,IF(Protokół!$DJ$3=2,Q60,IF(Protokół!$DJ$3=3,Y60,IF(Protokół!$DJ$3=4,AG60,\"\"))))","v":0},{"$f":"IF(Protokół!$DJ$3=1,J60,IF(Protokół!$DJ$3=2,R60,IF(Protokół!$DJ$3=3,Z60,IF(Protokół!$DJ$3=4,AH60,\"\"))))","v":"00:00:00"},{"$f":"IF(Protokół!$DJ$3=1,K60,IF(Protokół!$DJ$3=2,S60,IF(Protokół!$DJ$3=3,AA60,IF(Protokół!$DJ$3=4,AI60,\"\"))))","v":{"$error":"#N/A"}},{"$f":"IF(Protokół!$DJ$3=1,L60,IF(Protokół!$DJ$3=2,T60,IF(Protokół!$DJ$3=3,AB60,IF(Protokół!$DJ$3=4,AJ60,\"\"))))","v":0},{"$f":"IF(Protokół!$DJ$3=1,M60,IF(Protokół!$DJ$3=2,U60,IF(Protokół!$DJ$3=3,AC60,IF(Protokół!$DJ$3=4,AK60,\"\"))))","v":0},{"$f":"IF(Protokół!$DJ$3=1,N60,IF(Protokół!$DJ$3=2,V60,IF(Protokół!$DJ$3=3,AD60,IF(Protokół!$DJ$3=4,AL60,\"\"))))","v":{"$error":"#N/A"}},{"$f":"IF(Protokół!$DJ$3=1,O60,IF(Protokół!$DJ$3=2,W60,IF(Protokół!$DJ$3=3,AE60,IF(Protokół!$DJ$3=4,AM60,\"\"))))","v":{"$error":"#N/A"}},{"$f":"IF(Protokół!$DJ$3=1,P60,IF(Protokół!$DJ$3=2,X60,IF(Protokół!$DJ$3=3,AF60,IF(Protokół!$DJ$3=4,AN60,\"\"))))","v":"14:30:00"},59,null,null,null,null,null,null,null,3059,"2020-12-19","Stargardzie",2,11,"II KS ATS Stargard","Trzynastka Szczecin","10:30:00",4059,"2021-03-13","Świdwinie",4,6,"II MSZS Świdwin","II UKS Zalew Stepnica","10:30:00",null,null,{"$error":"#N/A"},null,null,{"$error":"#N/A"},{"$error":"#N/A"},"14:30:00"]
[{"$f":"IF(Protokół!$DJ$3=1,I61,IF(Protokół!$DJ$3=2,Q61,IF(Protokół!$DJ$3=3,Y61,IF(Protokół!$DJ$3=4,AG61,\"\"))))","v":0},{"$f":"IF(Protokół!$DJ$3=1,J61,IF(Protokół!$DJ$3=2,R61,IF(Protokół!$DJ$3=3,Z61,IF(Protokół!$DJ$3=4,AH61,\"\"))))","v":"00:00:00"},{"$f":"IF(Protokół!$DJ$3=1,K61,IF(Protokół!$DJ$3=2,S61,IF(Protokół!$DJ$3=3,AA61,IF(Protokół!$DJ$3=4,AI61,\"\"))))","v":{"$error":"#N/A"}},{"$f":"IF(Protokół!$DJ$3=1,L61,IF(Protokół!$DJ$3=2,T61,IF(Protokół!$DJ$3=3,AB61,IF(Protokół!$DJ$3=4,AJ61,\"\"))))","v":0},{"$f":"IF(Protokół!$DJ$3=1,M61,IF(Protokół!$DJ$3=2,U61,IF(Protokół!$DJ$3=3,AC61,IF(Protokół!$DJ$3=4,AK61,\"\"))))","v":0},{"$f":"IF(Protokół!$DJ$3=1,N61,IF(Protokół!$DJ$3=2,V61,IF(Protokół!$DJ$3=3,AD61,IF(Protokół!$DJ$3=4,AL61,\"\"))))","v":{"$error":"#N/A"}},{"$f":"IF(Protokół!$DJ$3=1,O61,IF(Protokół!$DJ$3=2,W61,IF(Protokół!$DJ$3=3,AE61,IF(Protokół!$DJ$3=4,AM61,\"\"))))","v":{"$error":"#N/A"}},{"$f":"IF(Protokół!$DJ$3=1,P61,IF(Protokół!$DJ$3=2,X61,IF(Protokół!$DJ$3=3,AF61,IF(Protokół!$DJ$3=4,AN61,\"\"))))","v":"14:30:00"},60,null,null,null,null,null,null,null,3060,"2020-12-19","Białogardzie",3,9,"UKS Team Tenis 2005 Białogard","LUKS Gryfice","14:30:00",4060,"2021-03-13","Szczecinku",9,1,"II STLA Szczecinek","Gryfin S Spin Szczecin","14:30:00",null,null,{"$error":"#N/A"},null,null,{"$error":"#N/A"},{"$error":"#N/A"},"14:30:00"]
[{"$f":"IF(Protokół!$DJ$3=1,I62,IF(Protokół!$DJ$3=2,Q62,IF(Protokół!$DJ$3=3,Y62,IF(Protokół!$DJ$3=4,AG62,\"\"))))","v":0},{"$f":"IF(Protokół!$DJ$3=1,J62,IF(Protokół!$DJ$3=2,R62,IF(Protokół!$DJ$3=3,Z62,IF(Protokół!$DJ$3=4,AH62,\"\"))))","v":"00:00:00"},{"$f":"IF(Protokół!$DJ$3=1,K62,IF(Protokół!$DJ$3=2,S62,IF(Protokół!$DJ$3=3,AA62,IF(Protokół!$DJ$3=4,AI62,\"\"))))","v":{"$error":"#N/A"}},{"$f":"IF(Protokół!$DJ$3=1,L62,IF(Protokół!$DJ$3=2,T62,IF(Protokół!$DJ$3=3,AB62,IF(Protokół!$DJ$3=4,AJ62,\"\"))))","v":0},{"$f":"IF(Protokół!$DJ$3=1,M62,IF(Protokół!$DJ$3=2,U62,IF(Protokół!$DJ$3=3,AC62,IF(Protokół!$DJ$3=4,AK62,\"\"))))","v":0},{"$f":"IF(Protokół!$DJ$3=1,N62,IF(Protokół!$DJ$3=2,V62,IF(Protokół!$DJ$3=3,AD62,IF(Protokół!$DJ$3=4,AL62,\"\"))))","v":{"$error":"#N/A"}},{"$f":"IF(Protokół!$DJ$3=1,O62,IF(Protokół!$DJ$3=2,W62,IF(Protokół!$DJ$3=3,AE62,IF(Protokół!$DJ$3=4,AM62,\"\"))))","v":{"$error":"#N/A"}},{"$f":"IF(Protokół!$DJ$3=1,P62,IF(Protokół!$DJ$3=2,X62,IF(Protokół!$DJ$3=3,AF62,IF(Protokół!$DJ$3=4,AN62,\"\"))))","v":"00:00:00"},"1 R",null,{"$f":"VLOOKUP(L62,$I$166:$M$173,5,FALSE)","v":{"$error":"#N/A"}},null,null,{"$f":"VLOOKUP(L62,$I$166:$M$173,2,FALSE)","v":{"$error":"#N/A"}},{"$f":"VLOOKUP(M62,$I$166:$M$173,2,FALSE)","v":{"$error":"#N/A"}},"11:00:00",3061,"2020-12-19","Świdwinie",4,10,"MSZS Świdwin","LUKS Fala Trzebiatów","14:30:00",4061,"2021-03-13","Złocieńcu",10,2,"I ZTTS Złocieniec","III KS ATS Stargard","14:30:00",null,null,{"$error":"#N/A"},null,null,{"$error":"#N/A"},{"$error":"#N/A"}]
[{"$f":"IF(Protokół!$DJ$3=1,I63,IF(Protokół!$DJ$3=2,Q63,IF(Protokół!$DJ$3=3,Y63,IF(Protokół!$DJ$3=4,AG63,\"\"))))","v":0},{"$f":"IF(Protokół!$DJ$3=1,J63,IF(Protokół!$DJ$3=2,R63,IF(Protokół!$DJ$3=3,Z63,IF(Protokół!$DJ$3=4,AH63,\"\"))))","v":"00:00:00"},{"$f":"IF(Protokół!$DJ$3=1,K63,IF(Protokół!$DJ$3=2,S63,IF(Protokół!$DJ$3=3,AA63,IF(Protokół!$DJ$3=4,AI63,\"\"))))","v":{"$error":"#N/A"}},{"$f":"IF(Protokół!$DJ$3=1,L63,IF(Protokół!$DJ$3=2,T63,IF(Protokół!$DJ$3=3,AB63,IF(Protokół!$DJ$3=4,AJ63,\"\"))))","v":0},{"$f":"IF(Protokół!$DJ$3=1,M63,IF(Protokół!$DJ$3=2,U63,IF(Protokół!$DJ$3=3,AC63,IF(Protokół!$DJ$3=4,AK63,\"\"))))","v":0},{"$f":"IF(Protokół!$DJ$3=1,N63,IF(Protokół!$DJ$3=2,V63,IF(Protokół!$DJ$3=3,AD63,IF(Protokół!$DJ$3=4,AL63,\"\"))))","v":{"$error":"#N/A"}},{"$f":"IF(Protokół!$DJ$3=1,O63,IF(Protokół!$DJ$3=2,W63,IF(Protokół!$DJ$3=3,AE63,IF(Protokół!$DJ$3=4,AM63,\"\"))))","v":{"$error":"#N/A"}},{"$f":"IF(Protokół!$DJ$3=1,P63,IF(Protokół!$DJ$3=2,X63,IF(Protokół!$DJ$3=3,AF63,IF(Protokół!$DJ$3=4,AN63,\"\"))))","v":"00:00:00"},"2 R",null,{"$error":"#N/A"},null,null,{"$error":"#N/A"},{"$error":"#N/A"},"11:00:00",3062,"2020-12-19","Chojnie",7,5,"UKS-T VICTORIA Chojna","UKS Czarni Pieszcz","14:30:00",4062,"2021-03-13","Resku",3,6,"LKS Mewa Resko","II UKS Zalew Stepnica","14:30:00",null,null,{"$error":"#N/A"},null,null,{"$error":"#N/A"},{"$error":"#N/A"}]
[{"$f":"IF(Protokół!$DJ$3=1,I64,IF(Protokół!$DJ$3=2,Q64,IF(Protokół!$DJ$3=3,Y64,IF(Protokół!$DJ$3=4,AG64,\"\"))))","v":0},{"$f":"IF(Protokół!$DJ$3=1,J64,IF(Protokół!$DJ$3=2,R64,IF(Protokół!$DJ$3=3,Z64,IF(Protokół!$DJ$3=4,AH64,\"\"))))","v":"00:00:00"},{"$f":"IF(Protokół!$DJ$3=1,K64,IF(Protokół!$DJ$3=2,S64,IF(Protokół!$DJ$3=3,AA64,IF(Protokół!$DJ$3=4,AI64,\"\"))))","v":{"$error":"#N/A"}},{"$f":"IF(Protokół!$DJ$3=1,L64,IF(Protokół!$DJ$3=2,T64,IF(Protokół!$DJ$3=3,AB64,IF(Protokół!$DJ$3=4,AJ64,\"\"))))","v":0},{"$f":"IF(Protokół!$DJ$3=1,M64,IF(Protokół!$DJ$3=2,U64,IF(Protokół!$DJ$3=3,AC64,IF(Protokół!$DJ$3=4,AK64,\"\"))))","v":0},{"$f":"IF(Protokół!$DJ$3=1,N64,IF(Protokół!$DJ$3=2,V64,IF(Protokół!$DJ$3=3,AD64,IF(Protokół!$DJ$3=4,AL64,\"\"))))","v":{"$error":"#N/A"}},{"$f":"IF(Protokół!$DJ$3=1,O64,IF(Protokół!$DJ$3=2,W64,IF(Protokół!$DJ$3=3,AE64,IF(Protokół!$DJ$3=4,AM64,\"\"))))","v":{"$error":"#N/A"}},{"$f":"IF(Protokół!$DJ$3=1,P64,IF(Protokół!$DJ$3=2,X64,IF(Protokół!$DJ$3=3,AF64,IF(Protokół!$DJ$3=4,AN64,\"\"))))","v":"00:00:00"},"3 R",null,{"$error":"#N/A"},null,null,{"$error":"#N/A"},{"$error":"#N/A"},"11:00:00",3063,"2020-12-19","Wierzbięcinie",1,11,"II Visonex LUKS Top Wierzbięcin","Trzynastka Szczecin","14:30:00",4063,"2021-03-13","Świdwinie",4,5,"II MSZS Świdwin","I UKS Zalew Stepnica","14:30:00",null,null,{"$error":"#N/A"},null,null,{"$error":"#N/A"},{"$error":"#N/A"}]
[{"$f":"IF(Protokół!$DJ$3=1,I65,IF(Protokół!$DJ$3=2,Q65,IF(Protokół!$DJ$3=3,Y65,IF(Protokół!$DJ$3=4,AG65,\"\"))))","v":0},{"$f":"IF(Protokół!$DJ$3=1,J65,IF(Protokół!$DJ$3=2,R65,IF(Protokół!$DJ$3=3,Z65,IF(Protokół!$DJ$3=4,AH65,\"\"))))","v":"00:00:00"},{"$f":"IF(Protokół!$DJ$3=1,K65,IF(Protokół!$DJ$3=2,S65,IF(Protokół!$DJ$3=3,AA65,IF(Protokół!$DJ$3=4,AI65,\"\"))))","v":{"$error":"#N/A"}},{"$f":"IF(Protokół!$DJ$3=1,L65,IF(Protokół!$DJ$3=2,T65,IF(Protokół!$DJ$3=3,AB65,IF(Protokół!$DJ$3=4,AJ65,\"\"))))","v":0},{"$f":"IF(Protokół!$DJ$3=1,M65,IF(Protokół!$DJ$3=2,U65,IF(Protokół!$DJ$3=3,AC65,IF(Protokół!$DJ$3=4,AK65,\"\"))))","v":0},{"$f":"IF(Protokół!$DJ$3=1,N65,IF(Protokół!$DJ$3=2,V65,IF(Protokół!$DJ$3=3,AD65,IF(Protokół!$DJ$3=4,AL65,\"\"))))","v":{"$error":"#N/A"}},{"$f":"IF(Protokół!$DJ$3=1,O65,IF(Protokół!$DJ$3=2,W65,IF(Protokół!$DJ$3=3,AE65,IF(Protokół!$DJ$3=4,AM65,\"\"))))","v":{"$error":"#N/A"}},{"$f":"IF(Protokół!$DJ$3=1,P65,IF(Protokół!$DJ$3=2,X65,IF(Protokół!$DJ$3=3,AF65,IF(Protokół!$DJ$3=4,AN65,\"\"))))","v":"00:00:00"},"4 R",null,{"$error":"#N/A"},null,null,{"$error":"#N/A"},{"$error":"#N/A"},"11:00:00",3064,"2020-12-19","Stargardzie",2,12,"II KS ATS Stargard","II UKS Champion Police","10:30:00",4064,"2021-05-29","Świdwinie",4,3,"II MSZS Świdwin","LKS Mewa Resko","10:30:00",null,null,{"$error":"#N/A"},null,null,{"$error":"#N/A"},{"$error":"#N/A"}]
[{"$f":"IF(Protokół!$DJ$3=1,I66,IF(Protokół!$DJ$3=2,Q66,IF(Protokół!$DJ$3=3,Y66,IF(Protokół!$DJ$3=4,AG66,\"\"))))","v":0},{"$f":"IF(Protokół!$DJ$3=1,J66,IF(Protokół!$DJ$3=2,R66,IF(Protokół!$DJ$3=3,Z66,IF(Protokół!$DJ$3=4,AH66,\"\"))))","v":"00:00:00"},{"$f":"IF(Protokół!$DJ$3=1,K66,IF(Protokół!$DJ$3=2,S66,IF(Protokół!$DJ$3=3,AA66,IF(Protokół!$DJ$3=4,AI66,\"\"))))","v":{"$error":"#N/A"}},{"$f":"IF(Protokół!$DJ$3=1,L66,IF(Protokół!$DJ$3=2,T66,IF(Protokół!$DJ$3=3,AB66,IF(Protokół!$DJ$3=4,AJ66,\"\"))))","v":0},{"$f":"IF(Protokół!$DJ$3=1,M66,IF(Protokół!$DJ$3=2,U66,IF(Protokół!$DJ$3=3,AC66,IF(Protokół!$DJ$3=4,AK66,\"\"))))","v":0},{"$f":"IF(Protokół!$DJ$3=1,N66,IF(Protokół!$DJ$3=2,V66,IF(Protokół!$DJ$3=3,AD66,IF(Protokół!$DJ$3=4,AL66,\"\"))))","v":{"$error":"#N/A"}},{"$f":"IF(Protokół!$DJ$3=1,O66,IF(Protokół!$DJ$3=2,W66,IF(Protokół!$DJ$3=3,AE66,IF(Protokół!$DJ$3=4,AM66,\"\"))))","v":{"$error":"#N/A"}},{"$f":"IF(Protokół!$DJ$3=1,P66,IF(Protokół!$DJ$3=2,X66,IF(Protokół!$DJ$3=3,AF66,IF(Protokół!$DJ$3=4,AN66,\"\"))))","v":"00:00:00"},"9 R",null,{"$error":"#N/A"},null,null,{"$error":"#N/A"},{"$error":"#N/A"},"15:30:00",3065,"2020-12-19","Białogardzie",3,10,"UKS Team Tenis 2005 Białogard","LUKS Fala Trzebiatów","10:30:00",4065,"2021-05-29","Stepnicy",5,9,"I UKS Zalew Stepnica","II STLA Szczecinek","10:30:00",null,null,{"$f":"VLOOKUP(AJ66,$AG$167:$AK$178,5,FALSE)","v":{"$error":"#N/A"}},null,null,{"$f":"VLOOKUP(AJ66,$AG$167:$AK$178,2,FALSE)","v":{"$error":"#N/A"}},{"$f":"VLOOKUP(AK66,$AG$167:$AK$178,2,FALSE)","v":{"$error":"#N/A"}}]
[{"$f":"IF(Protokół!$DJ$3=1,I67,IF(Protokół!$DJ$3=2,Q67,IF(Protokół!$DJ$3=3,Y67,IF(Protokół!$DJ$3=4,AG67,\"\"))))","v":0},{"$f":"IF(Protokół!$DJ$3=1,J67,IF(Protokół!$DJ$3=2,R67,IF(Protokół!$DJ$3=3,Z67,IF(Protokół!$DJ$3=4,AH67,\"\"))))","v":"00:00:00"},{"$f":"IF(Protokół!$DJ$3=1,K67,IF(Protokół!$DJ$3=2,S67,IF(Protokół!$DJ$3=3,AA67,IF(Protokół!$DJ$3=4,AI67,\"\"))))","v":{"$error":"#N/A"}},{"$f":"IF(Protokół!$DJ$3=1,L67,IF(Protokół!$DJ$3=2,T67,IF(Protokół!$DJ$3=3,AB67,IF(Protokół!$DJ$3=4,AJ67,\"\"))))","v":0},{"$f":"IF(Protokół!$DJ$3=1,M67,IF(Protokół!$DJ$3=2,U67,IF(Protokół!$DJ$3=3,AC67,IF(Protokół!$DJ$3=4,AK67,\"\"))))","v":0},{"$f":"IF(Protokół!$DJ$3=1,N67,IF(Protokół!$DJ$3=2,V67,IF(Protokół!$DJ$3=3,AD67,IF(Protokół!$DJ$3=4,AL67,\"\"))))","v":{"$error":"#N/A"}},{"$f":"IF(Protokół!$DJ$3=1,O67,IF(Protokół!$DJ$3=2,W67,IF(Protokół!$DJ$3=3,AE67,IF(Protokół!$DJ$3=4,AM67,\"\"))))","v":{"$error":"#N/A"}},{"$f":"IF(Protokół!$DJ$3=1,P67,IF(Protokół!$DJ$3=2,X67,IF(Protokół!$DJ$3=3,AF67,IF(Protokół!$DJ$3=4,AN67,\"\"))))","v":"00:00:00"},"10 R",null,{"$error":"#N/A"},null,null,{"$error":"#N/A"},{"$error":"#N/A"},"15:30:00",3066,"2020-12-19","Świdwinie",4,9,"MSZS Świdwin","LUKS Gryfice","10:30:00",4066,"2021-05-29",{"$f":"VLOOKUP(AB67,$Y$167:$AC$176,5,FALSE)","v":"Stepnicy"},6,10,{"$f":"VLOOKUP(AB67,$Y$167:$AC$176,2,FALSE)","v":"II UKS Zalew Stepnica"},{"$f":"VLOOKUP(AC67,$Y$167:$AC$176,2,FALSE)","v":"I ZTTS Złocieniec"},"10:30:00",null,null,{"$error":"#N/A"},null,null,{"$error":"#N/A"},{"$error":"#N/A"}]
[{"$f":"IF(Protokół!$DJ$3=1,I68,IF(Protokół!$DJ$3=2,Q68,IF(Protokół!$DJ$3=3,Y68,IF(Protokół!$DJ$3=4,AG68,\"\"))))","v":0},{"$f":"IF(Protokół!$DJ$3=1,J68,IF(Protokół!$DJ$3=2,R68,IF(Protokół!$DJ$3=3,Z68,IF(Protokół!$DJ$3=4,AH68,\"\"))))","v":"00:00:00"},{"$f":"IF(Protokół!$DJ$3=1,K68,IF(Protokół!$DJ$3=2,S68,IF(Protokół!$DJ$3=3,AA68,IF(Protokół!$DJ$3=4,AI68,\"\"))))","v":{"$error":"#N/A"}},{"$f":"IF(Protokół!$DJ$3=1,L68,IF(Protokół!$DJ$3=2,T68,IF(Protokół!$DJ$3=3,AB68,IF(Protokół!$DJ$3=4,AJ68,\"\"))))","v":0},{"$f":"IF(Protokół!$DJ$3=1,M68,IF(Protokół!$DJ$3=2,U68,IF(Protokół!$DJ$3=3,AC68,IF(Protokół!$DJ$3=4,AK68,\"\"))))","v":0},{"$f":"IF(Protokół!$DJ$3=1,N68,IF(Protokół!$DJ$3=2,V68,IF(Protokół!$DJ$3=3,AD68,IF(Protokół!$DJ$3=4,AL68,\"\"))))","v":{"$error":"#N/A"}},{"$f":"IF(Protokół!$DJ$3=1,O68,IF(Protokół!$DJ$3=2,W68,IF(Protokół!$DJ$3=3,AE68,IF(Protokół!$DJ$3=4,AM68,\"\"))))","v":{"$error":"#N/A"}},{"$f":"IF(Protokół!$DJ$3=1,P68,IF(Protokół!$DJ$3=2,X68,IF(Protokół!$DJ$3=3,AF68,IF(Protokół!$DJ$3=4,AN68,\"\"))))","v":"00:00:00"},"11 R",null,{"$error":"#N/A"},null,null,{"$error":"#N/A"},{"$error":"#N/A"},"15:30:00",3067,"2020-12-19",{"$f":"VLOOKUP(T68,$Q$167:$U$180,5,FALSE)","v":"Chojnie"},7,6,{"$f":"VLOOKUP(T68,$Q$167:$U$180,2,FALSE)","v":"UKS-T VICTORIA Chojna"},{"$f":"VLOOKUP(U68,$Q$167:$U$180,2,FALSE)","v":"KKTS Kołobrzeg"},"10:30:00",4067,"2021-05-29","Stargardzie",2,null,"III KS ATS Stargard",{"$error":"#N/A"},"10:30:00",null,null,{"$error":"#N/A"},null,null,{"$error":"#N/A"},{"$error":"#N/A"},null,{"$f":"SUM(AJ68:AK73)","v":0}]
[{"$f":"IF(Protokół!$DJ$3=1,I69,IF(Protokół!$DJ$3=2,Q69,IF(Protokół!$DJ$3=3,Y69,IF(Protokół!$DJ$3=4,AG69,\"\"))))","v":0},{"$f":"IF(Protokół!$DJ$3=1,J69,IF(Protokół!$DJ$3=2,R69,IF(Protokół!$DJ$3=3,Z69,IF(Protokół!$DJ$3=4,AH69,\"\"))))","v":"00:00:00"},{"$f":"IF(Protokół!$DJ$3=1,K69,IF(Protokół!$DJ$3=2,S69,IF(Protokół!$DJ$3=3,AA69,IF(Protokół!$DJ$3=4,AI69,\"\"))))","v":{"$error":"#N/A"}},{"$f":"IF(Protokół!$DJ$3=1,L69,IF(Protokół!$DJ$3=2,T69,IF(Protokół!$DJ$3=3,AB69,IF(Protokół!$DJ$3=4,AJ69,\"\"))))","v":0},{"$f":"IF(Protokół!$DJ$3=1,M69,IF(Protokół!$DJ$3=2,U69,IF(Protokół!$DJ$3=3,AC69,IF(Protokół!$DJ$3=4,AK69,\"\"))))","v":0},{"$f":"IF(Protokół!$DJ$3=1,N69,IF(Protokół!$DJ$3=2,V69,IF(Protokół!$DJ$3=3,AD69,IF(Protokół!$DJ$3=4,AL69,\"\"))))","v":{"$error":"#N/A"}},{"$f":"IF(Protokół!$DJ$3=1,O69,IF(Protokół!$DJ$3=2,W69,IF(Protokół!$DJ$3=3,AE69,IF(Protokół!$DJ$3=4,AM69,\"\"))))","v":{"$error":"#N/A"}},{"$f":"IF(Protokół!$DJ$3=1,P69,IF(Protokół!$DJ$3=2,X69,IF(Protokół!$DJ$3=3,AF69,IF(Protokół!$DJ$3=4,AN69,\"\"))))","v":"00:00:00"},"12 R",null,{"$error":"#N/A"},null,null,{"$error":"#N/A"},{"$error":"#N/A"},"15:30:00",3068,"2021-01-11","Pieszczu",5,6,"UKS Czarni Pieszcz","KKTS Kołobrzeg","10:30:00",4068,"2021-05-29","Szczecinie",1,8,"Gryfin S Spin Szczecin","II KKTS Kołobrzeg","10:30:00",null,null,{"$error":"#N/A"},null,null,{"$error":"#N/A"},{"$error":"#N/A"}]
[{"$f":"IF(Protokół!$DJ$3=1,I70,IF(Protokół!$DJ$3=2,Q70,IF(Protokół!$DJ$3=3,Y70,IF(Protokół!$DJ$3=4,AG70,\"\"))))","v":0},{"$f":"IF(Protokół!$DJ$3=1,J70,IF(Protokół!$DJ$3=2,R70,IF(Protokół!$DJ$3=3,Z70,IF(Protokół!$DJ$3=4,AH70,\"\"))))","v":"00:00:00"},{"$f":"IF(Protokół!$DJ$3=1,K70,IF(Protokół!$DJ$3=2,S70,IF(Protokół!$DJ$3=3,AA70,IF(Protokół!$DJ$3=4,AI70,\"\"))))","v":{"$error":"#N/A"}},{"$f":"IF(Protokół!$DJ$3=1,L70,IF(Protokół!$DJ$3=2,T70,IF(Protokół!$DJ$3=3,AB70,IF(Protokół!$DJ$3=4,AJ70,\"\"))))","v":0},{"$f":"IF(Protokół!$DJ$3=1,M70,IF(Protokół!$DJ$3=2,U70,IF(Protokół!$DJ$3=3,AC70,IF(Protokół!$DJ$3=4,AK70,\"\"))))","v":0},{"$f":"IF(Protokół!$DJ$3=1,N70,IF(Protokół!$DJ$3=2,V70,IF(Protokół!$DJ$3=3,AD70,IF(Protokół!$DJ$3=4,AL70,\"\"))))","v":{"$error":"#N/A"}},{"$f":"IF(Protokół!$DJ$3=1,O70,IF(Protokół!$DJ$3=2,W70,IF(Protokół!$DJ$3=3,AE70,IF(Protokół!$DJ$3=4,AM70,\"\"))))","v":{"$error":"#N/A"}},{"$f":"IF(Protokół!$DJ$3=1,P70,IF(Protokół!$DJ$3=2,X70,IF(Protokół!$DJ$3=3,AF70,IF(Protokół!$DJ$3=4,AN70,\"\"))))","v":"00:00:00"},"13 R",null,{"$error":"#N/A"},null,null,{"$error":"#N/A"},{"$error":"#N/A"},"11:00:00",3069,"2021-01-11","Gryficach",9,7,"LUKS Gryfice","UKS-T VICTORIA Chojna","14:30:00",4069,"2021-05-29","Stepnicy",5,10,"I UKS Zalew Stepnica","I ZTTS Złocieniec","14:30:00",null,null,{"$error":"#N/A"},null,null,{"$error":"#N/A"},{"$error":"#N/A"}]
[{"$f":"IF(Protokół!$DJ$3=1,I71,IF(Protokół!$DJ$3=2,Q71,IF(Protokół!$DJ$3=3,Y71,IF(Protokół!$DJ$3=4,AG71,\"\"))))","v":0},{"$f":"IF(Protokół!$DJ$3=1,J71,IF(Protokół!$DJ$3=2,R71,IF(Protokół!$DJ$3=3,Z71,IF(Protokół!$DJ$3=4,AH71,\"\"))))","v":"00:00:00"},{"$f":"IF(Protokół!$DJ$3=1,K71,IF(Protokół!$DJ$3=2,S71,IF(Protokół!$DJ$3=3,AA71,IF(Protokół!$DJ$3=4,AI71,\"\"))))","v":{"$error":"#N/A"}},{"$f":"IF(Protokół!$DJ$3=1,L71,IF(Protokół!$DJ$3=2,T71,IF(Protokół!$DJ$3=3,AB71,IF(Protokół!$DJ$3=4,AJ71,\"\"))))","v":0},{"$f":"IF(Protokół!$DJ$3=1,M71,IF(Protokół!$DJ$3=2,U71,IF(Protokół!$DJ$3=3,AC71,IF(Protokół!$DJ$3=4,AK71,\"\"))))","v":0},{"$f":"IF(Protokół!$DJ$3=1,N71,IF(Protokół!$DJ$3=2,V71,IF(Protokół!$DJ$3=3,AD71,IF(Protokół!$DJ$3=4,AL71,\"\"))))","v":{"$error":"#N/A"}},{"$f":"IF(Protokół!$DJ$3=1,O71,IF(Protokół!$DJ$3=2,W71,IF(Protokół!$DJ$3=3,AE71,IF(Protokół!$DJ$3=4,AM71,\"\"))))","v":{"$error":"#N/A"}},{"$f":"IF(Protokół!$DJ$3=1,P71,IF(Protokół!$DJ$3=2,X71,IF(Protokół!$DJ$3=3,AF71,IF(Protokół!$DJ$3=4,AN71,\"\"))))","v":"00:00:00"},"14 R",null,{"$error":"#N/A"},null,null,{"$error":"#N/A"},{"$error":"#N/A"},"11:00:00",3070,"2021-01-11","Policach",12,3,"II UKS Champion Police","UKS Team Tenis 2005 Białogard","14:30:00",4070,"2021-05-29","Stepnicy",6,9,"II UKS Zalew Stepnica","II STLA Szczecinek","14:30:00",null,null,{"$error":"#N/A"},null,null,{"$error":"#N/A"},{"$error":"#N/A"}]
[{"$f":"IF(Protokół!$DJ$3=1,I72,IF(Protokół!$DJ$3=2,Q72,IF(Protokół!$DJ$3=3,Y72,IF(Protokół!$DJ$3=4,AG72,\"\"))))","v":0},{"$f":"IF(Protokół!$DJ$3=1,J72,IF(Protokół!$DJ$3=2,R72,IF(Protokół!$DJ$3=3,Z72,IF(Protokół!$DJ$3=4,AH72,\"\"))))","v":"00:00:00"},{"$f":"IF(Protokół!$DJ$3=1,K72,IF(Protokół!$DJ$3=2,S72,IF(Protokół!$DJ$3=3,AA72,IF(Protokół!$DJ$3=4,AI72,\"\"))))","v":{"$error":"#N/A"}},{"$f":"IF(Protokół!$DJ$3=1,L72,IF(Protokół!$DJ$3=2,T72,IF(Protokół!$DJ$3=3,AB72,IF(Protokół!$DJ$3=4,AJ72,\"\"))))","v":0},{"$f":"IF(Protokół!$DJ$3=1,M72,IF(Protokół!$DJ$3=2,U72,IF(Protokół!$DJ$3=3,AC72,IF(Protokół!$DJ$3=4,AK72,\"\"))))","v":0},{"$f":"IF(Protokół!$DJ$3=1,N72,IF(Protokół!$DJ$3=2,V72,IF(Protokół!$DJ$3=3,AD72,IF(Protokół!$DJ$3=4,AL72,\"\"))))","v":{"$error":"#N/A"}},{"$f":"IF(Protokół!$DJ$3=1,O72,IF(Protokół!$DJ$3=2,W72,IF(Protokół!$DJ$3=3,AE72,IF(Protokół!$DJ$3=4,AM72,\"\"))))","v":{"$error":"#N/A"}},{"$f":"IF(Protokół!$DJ$3=1,P72,IF(Protokół!$DJ$3=2,X72,IF(Protokół!$DJ$3=3,AF72,IF(Protokół!$DJ$3=4,AN72,\"\"))))","v":"00:00:00"},"15 R",null,{"$error":"#N/A"},null,null,{"$error":"#N/A"},{"$error":"#N/A"},"11:00:00",3071,"2021-01-11","Szczecinie-Zdunowie",11,4,"Trzynastka Szczecin","MSZS Świdwin","14:30:00",4071,"2021-05-29","Stargardzie",2,8,"III KS ATS Stargard","II KKTS Kołobrzeg","14:30:00",null,null,{"$error":"#N/A"},null,null,{"$error":"#N/A"},{"$error":"#N/A"}]
[{"$f":"IF(Protokół!$DJ$3=1,I73,IF(Protokół!$DJ$3=2,Q73,IF(Protokół!$DJ$3=3,Y73,IF(Protokół!$DJ$3=4,AG73,\"\"))))","v":0},{"$f":"IF(Protokół!$DJ$3=1,J73,IF(Protokół!$DJ$3=2,R73,IF(Protokół!$DJ$3=3,Z73,IF(Protokół!$DJ$3=4,AH73,\"\"))))","v":"00:00:00"},{"$f":"IF(Protokół!$DJ$3=1,K73,IF(Protokół!$DJ$3=2,S73,IF(Protokół!$DJ$3=3,AA73,IF(Protokół!$DJ$3=4,AI73,\"\"))))","v":{"$error":"#N/A"}},{"$f":"IF(Protokół!$DJ$3=1,L73,IF(Protokół!$DJ$3=2,T73,IF(Protokół!$DJ$3=3,AB73,IF(Protokół!$DJ$3=4,AJ73,\"\"))))","v":0},{"$f":"IF(Protokół!$DJ$3=1,M73,IF(Protokół!$DJ$3=2,U73,IF(Protokół!$DJ$3=3,AC73,IF(Protokół!$DJ$3=4,AK73,\"\"))))","v":0},{"$f":"IF(Protokół!$DJ$3=1,N73,IF(Protokół!$DJ$3=2,V73,IF(Protokół!$DJ$3=3,AD73,IF(Protokół!$DJ$3=4,AL73,\"\"))))","v":{"$error":"#N/A"}},{"$f":"IF(Protokół!$DJ$3=1,O73,IF(Protokół!$DJ$3=2,W73,IF(Protokół!$DJ$3=3,AE73,IF(Protokół!$DJ$3=4,AM73,\"\"))))","v":{"$error":"#N/A"}},{"$f":"IF(Protokół!$DJ$3=1,P73,IF(Protokół!$DJ$3=2,X73,IF(Protokół!$DJ$3=3,AF73,IF(Protokół!$DJ$3=4,AN73,\"\"))))","v":"00:00:00"},"16 R",null,{"$error":"#N/A"},null,null,{"$error":"#N/A"},{"$error":"#N/A"},"11:00:00",3072,"2021-01-11","Koszalinie",13,1,"I KTS Koszalinianin Koszalin","II Visonex LUKS Top Wierzbięcin","14:30:00",4072,"2021-05-29","Szczecinie",1,null,"Gryfin S Spin Szczecin",{"$error":"#N/A"},"14:30:00",null,null,{"$error":"#N/A"},null,null,{"$error":"#N/A"},{"$error":"#N/A"}]
[{"$f":"IF(Protokół!$DJ$3=1,I74,IF(Protokół!$DJ$3=2,Q74,IF(Protokół!$DJ$3=3,Y74,IF(Protokół!$DJ$3=4,AG74,\"\"))))","v":0},{"$f":"IF(Protokół!$DJ$3=1,J74,IF(Protokół!$DJ$3=2,R74,IF(Protokół!$DJ$3=3,Z74,IF(Protokół!$DJ$3=4,AH74,\"\"))))","v":"00:00:00"},{"$f":"IF(Protokół!$DJ$3=1,K74,IF(Protokół!$DJ$3=2,S74,IF(Protokół!$DJ$3=3,AA74,IF(Protokół!$DJ$3=4,AI74,\"\"))))","v":{"$error":"#N/A"}},{"$f":"IF(Protokół!$DJ$3=1,L74,IF(Protokół!$DJ$3=2,T74,IF(Protokół!$DJ$3=3,AB74,IF(Protokół!$DJ$3=4,AJ74,\"\"))))","v":0},{"$f":"IF(Protokół!$DJ$3=1,M74,IF(Protokół!$DJ$3=2,U74,IF(Protokół!$DJ$3=3,AC74,IF(Protokół!$DJ$3=4,AK74,\"\"))))","v":0},{"$f":"IF(Protokół!$DJ$3=1,N74,IF(Protokół!$DJ$3=2,V74,IF(Protokół!$DJ$3=3,AD74,IF(Protokół!$DJ$3=4,AL74,\"\"))))","v":{"$error":"#N/A"}},{"$f":"IF(Protokół!$DJ$3=1,O74,IF(Protokół!$DJ$3=2,W74,IF(Protokół!$DJ$3=3,AE74,IF(Protokół!$DJ$3=4,AM74,\"\"))))","v":{"$error":"#N/A"}},{"$f":"IF(Protokół!$DJ$3=1,P74,IF(Protokół!$DJ$3=2,X74,IF(Protokół!$DJ$3=3,AF74,IF(Protokół!$DJ$3=4,AN74,\"\"))))","v":"00:00:00"},"25 R",null,{"$error":"#N/A"},null,null,{"$error":"#N/A"},{"$error":"#N/A"},"15:30:00",3073,"2021-01-11","Koszalinie",14,2,"II KTS Koszalinianin Koszalin","II KS ATS Stargard","10:30:00",4073,"2021-06-05","Szczecinie",1,2,"Gryfin S Spin Szczecin","III KS ATS Stargard","10:30:00",null,null,{"$error":"#N/A"},null,null,{"$error":"#N/A"},{"$error":"#N/A"}]
[{"$f":"IF(Protokół!$DJ$3=1,I75,IF(Protokół!$DJ$3=2,Q75,IF(Protokół!$DJ$3=3,Y75,IF(Protokół!$DJ$3=4,AG75,\"\"))))","v":0},{"$f":"IF(Protokół!$DJ$3=1,J75,IF(Protokół!$DJ$3=2,R75,IF(Protokół!$DJ$3=3,Z75,IF(Protokół!$DJ$3=4,AH75,\"\"))))","v":"00:00:00"},{"$f":"IF(Protokół!$DJ$3=1,K75,IF(Protokół!$DJ$3=2,S75,IF(Protokół!$DJ$3=3,AA75,IF(Protokół!$DJ$3=4,AI75,\"\"))))","v":{"$error":"#N/A"}},{"$f":"IF(Protokół!$DJ$3=1,L75,IF(Protokół!$DJ$3=2,T75,IF(Protokół!$DJ$3=3,AB75,IF(Protokół!$DJ$3=4,AJ75,\"\"))))","v":0},{"$f":"IF(Protokół!$DJ$3=1,M75,IF(Protokół!$DJ$3=2,U75,IF(Protokół!$DJ$3=3,AC75,IF(Protokół!$DJ$3=4,AK75,\"\"))))","v":0},{"$f":"IF(Protokół!$DJ$3=1,N75,IF(Protokół!$DJ$3=2,V75,IF(Protokół!$DJ$3=3,AD75,IF(Protokół!$DJ$3=4,AL75,\"\"))))","v":{"$error":"#N/A"}},{"$f":"IF(Protokół!$DJ$3=1,O75,IF(Protokół!$DJ$3=2,W75,IF(Protokół!$DJ$3=3,AE75,IF(Protokół!$DJ$3=4,AM75,\"\"))))","v":{"$error":"#N/A"}},{"$f":"IF(Protokół!$DJ$3=1,P75,IF(Protokół!$DJ$3=2,X75,IF(Protokół!$DJ$3=3,AF75,IF(Protokół!$DJ$3=4,AN75,\"\"))))","v":"00:00:00"},"26 R",null,{"$error":"#N/A"},null,null,{"$error":"#N/A"},{"$error":"#N/A"},"15:30:00",3074,"2021-01-11","Trzebiatowie",10,7,"LUKS Fala Trzebiatów","UKS-T VICTORIA Chojna","10:30:00",4074,"2021-06-05",{"$error":"#N/A"},null,5,{"$error":"#N/A"},"I UKS Zalew Stepnica","10:30:00",null,null,{"$error":"#N/A"},null,null,{"$error":"#N/A"},{"$error":"#N/A"}]
[{"$f":"IF(Protokół!$DJ$3=1,I76,IF(Protokół!$DJ$3=2,Q76,IF(Protokół!$DJ$3=3,Y76,IF(Protokół!$DJ$3=4,AG76,\"\"))))","v":0},{"$f":"IF(Protokół!$DJ$3=1,J76,IF(Protokół!$DJ$3=2,R76,IF(Protokół!$DJ$3=3,Z76,IF(Protokół!$DJ$3=4,AH76,\"\"))))","v":"00:00:00"},{"$f":"IF(Protokół!$DJ$3=1,K76,IF(Protokół!$DJ$3=2,S76,IF(Protokół!$DJ$3=3,AA76,IF(Protokół!$DJ$3=4,AI76,\"\"))))","v":{"$error":"#N/A"}},{"$f":"IF(Protokół!$DJ$3=1,L76,IF(Protokół!$DJ$3=2,T76,IF(Protokół!$DJ$3=3,AB76,IF(Protokół!$DJ$3=4,AJ76,\"\"))))","v":0},{"$f":"IF(Protokół!$DJ$3=1,M76,IF(Protokół!$DJ$3=2,U76,IF(Protokół!$DJ$3=3,AC76,IF(Protokół!$DJ$3=4,AK76,\"\"))))","v":0},{"$f":"IF(Protokół!$DJ$3=1,N76,IF(Protokół!$DJ$3=2,V76,IF(Protokół!$DJ$3=3,AD76,IF(Protokół!$DJ$3=4,AL76,\"\"))))","v":{"$error":"#N/A"}},{"$f":"IF(Protokół!$DJ$3=1,O76,IF(Protokół!$DJ$3=2,W76,IF(Protokół!$DJ$3=3,AE76,IF(Protokół!$DJ$3=4,AM76,\"\"))))","v":{"$error":"#N/A"}},{"$f":"IF(Protokół!$DJ$3=1,P76,IF(Protokół!$DJ$3=2,X76,IF(Protokół!$DJ$3=3,AF76,IF(Protokół!$DJ$3=4,AN76,\"\"))))","v":"00:00:00"},"27 R",null,{"$error":"#N/A"},null,null,{"$error":"#N/A"},{"$error":"#N/A"},"15:30:00",3075,"2021-01-11","Policach",12,4,"II UKS Champion Police","MSZS Świdwin","10:30:00",4075,"2021-06-05","Kołobrzegu",8,6,"II KKTS Kołobrzeg","II UKS Zalew Stepnica","10:30:00",null,null,{"$error":"#N/A"},null,null,{"$error":"#N/A"},{"$error":"#N/A"}]
[{"$f":"IF(Protokół!$DJ$3=1,I77,IF(Protokół!$DJ$3=2,Q77,IF(Protokół!$DJ$3=3,Y77,IF(Protokół!$DJ$3=4,AG77,\"\"))))","v":0},{"$f":"IF(Protokół!$DJ$3=1,J77,IF(Protokół!$DJ$3=2,R77,IF(Protokół!$DJ$3=3,Z77,IF(Protokół!$DJ$3=4,AH77,\"\"))))","v":"00:00:00"},{"$f":"IF(Protokół!$DJ$3=1,K77,IF(Protokół!$DJ$3=2,S77,IF(Protokół!$DJ$3=3,AA77,IF(Protokół!$DJ$3=4,AI77,\"\"))))","v":{"$error":"#N/A"}},{"$f":"IF(Protokół!$DJ$3=1,L77,IF(Protokół!$DJ$3=2,T77,IF(Protokół!$DJ$3=3,AB77,IF(Protokół!$DJ$3=4,AJ77,\"\"))))","v":0},{"$f":"IF(Protokół!$DJ$3=1,M77,IF(Protokół!$DJ$3=2,U77,IF(Protokół!$DJ$3=3,AC77,IF(Protokół!$DJ$3=4,AK77,\"\"))))","v":0},{"$f":"IF(Protokół!$DJ$3=1,N77,IF(Protokół!$DJ$3=2,V77,IF(Protokół!$DJ$3=3,AD77,IF(Protokół!$DJ$3=4,AL77,\"\"))))","v":{"$error":"#N/A"}},{"$f":"IF(Protokół!$DJ$3=1,O77,IF(Protokół!$DJ$3=2,W77,IF(Protokół!$DJ$3=3,AE77,IF(Protokół!$DJ$3=4,AM77,\"\"))))","v":{"$error":"#N/A"}},{"$f":"IF(Protokół!$DJ$3=1,P77,IF(Protokół!$DJ$3=2,X77,IF(Protokół!$DJ$3=3,AF77,IF(Protokół!$DJ$3=4,AN77,\"\"))))","v":"00:00:00"},"28 R",null,{"$error":"#N/A"},null,null,{"$error":"#N/A"},{"$error":"#N/A"},"15:30:00",3076,"2021-01-11","Szczecinie-Zdunowie",11,3,"Trzynastka Szczecin","UKS Team Tenis 2005 Białogard","10:30:00",4076,"2021-06-05","Szczecinku",9,3,"II STLA Szczecinek","LKS Mewa Resko","10:30:00",null,null,{"$error":"#N/A"},null,null,{"$error":"#N/A"},{"$error":"#N/A"}]
[{"$f":"IF(Protokół!$DJ$3=1,I78,IF(Protokół!$DJ$3=2,Q78,IF(Protokół!$DJ$3=3,Y78,IF(Protokół!$DJ$3=4,AG78,\"\"))))","v":0},{"$f":"IF(Protokół!$DJ$3=1,J78,IF(Protokół!$DJ$3=2,R78,IF(Protokół!$DJ$3=3,Z78,IF(Protokół!$DJ$3=4,AH78,\"\"))))","v":"00:00:00"},{"$f":"IF(Protokół!$DJ$3=1,K78,IF(Protokół!$DJ$3=2,S78,IF(Protokół!$DJ$3=3,AA78,IF(Protokół!$DJ$3=4,AI78,\"\"))))","v":{"$error":"#N/A"}},{"$f":"IF(Protokół!$DJ$3=1,L78,IF(Protokół!$DJ$3=2,T78,IF(Protokół!$DJ$3=3,AB78,IF(Protokół!$DJ$3=4,AJ78,\"\"))))","v":0},{"$f":"IF(Protokół!$DJ$3=1,M78,IF(Protokół!$DJ$3=2,U78,IF(Protokół!$DJ$3=3,AC78,IF(Protokół!$DJ$3=4,AK78,\"\"))))","v":0},{"$f":"IF(Protokół!$DJ$3=1,N78,IF(Protokół!$DJ$3=2,V78,IF(Protokół!$DJ$3=3,AD78,IF(Protokół!$DJ$3=4,AL78,\"\"))))","v":{"$error":"#N/A"}},{"$f":"IF(Protokół!$DJ$3=1,O78,IF(Protokół!$DJ$3=2,W78,IF(Protokół!$DJ$3=3,AE78,IF(Protokół!$DJ$3=4,AM78,\"\"))))","v":{"$error":"#N/A"}},{"$f":"IF(Protokół!$DJ$3=1,P78,IF(Protokół!$DJ$3=2,X78,IF(Protokół!$DJ$3=3,AF78,IF(Protokół!$DJ$3=4,AN78,\"\"))))","v":"00:00:00"},"29 R",null,{"$error":"#N/A"},null,null,{"$error":"#N/A"},{"$error":"#N/A"},"11:00:00",3077,"2021-01-11","Koszalinie",13,2,"I KTS Koszalinianin Koszalin","II KS ATS Stargard","10:30:00",4077,"2021-06-05","Złocieńcu",10,4,"I ZTTS Złocieniec","II MSZS Świdwin","10:30:00",null,null,{"$error":"#N/A"},null,null,{"$error":"#N/A"},{"$error":"#N/A"}]
[{"$f":"IF(Protokół!$DJ$3=1,I79,IF(Protokół!$DJ$3=2,Q79,IF(Protokół!$DJ$3=3,Y79,IF(Protokół!$DJ$3=4,AG79,\"\"))))","v":0},{"$f":"IF(Protokół!$DJ$3=1,J79,IF(Protokół!$DJ$3=2,R79,IF(Protokół!$DJ$3=3,Z79,IF(Protokół!$DJ$3=4,AH79,\"\"))))","v":"00:00:00"},{"$f":"IF(Protokół!$DJ$3=1,K79,IF(Protokół!$DJ$3=2,S79,IF(Protokół!$DJ$3=3,AA79,IF(Protokół!$DJ$3=4,AI79,\"\"))))","v":{"$error":"#N/A"}},{"$f":"IF(Protokół!$DJ$3=1,L79,IF(Protokół!$DJ$3=2,T79,IF(Protokół!$DJ$3=3,AB79,IF(Protokół!$DJ$3=4,AJ79,\"\"))))","v":0},{"$f":"IF(Protokół!$DJ$3=1,M79,IF(Protokół!$DJ$3=2,U79,IF(Protokół!$DJ$3=3,AC79,IF(Protokół!$DJ$3=4,AK79,\"\"))))","v":0},{"$f":"IF(Protokół!$DJ$3=1,N79,IF(Protokół!$DJ$3=2,V79,IF(Protokół!$DJ$3=3,AD79,IF(Protokół!$DJ$3=4,AL79,\"\"))))","v":{"$error":"#N/A"}},{"$f":"IF(Protokół!$DJ$3=1,O79,IF(Protokół!$DJ$3=2,W79,IF(Protokół!$DJ$3=3,AE79,IF(Protokół!$DJ$3=4,AM79,\"\"))))","v":{"$error":"#N/A"}},{"$f":"IF(Protokół!$DJ$3=1,P79,IF(Protokół!$DJ$3=2,X79,IF(Protokół!$DJ$3=3,AF79,IF(Protokół!$DJ$3=4,AN79,\"\"))))","v":"00:00:00"},"30 R",null,{"$error":"#N/A"},null,null,{"$error":"#N/A"},{"$error":"#N/A"},"11:00:00",3078,"2021-01-11","Koszalinie",14,1,"II KTS Koszalinianin Koszalin","II Visonex LUKS Top Wierzbięcin","14:30:00",4078,"2021-06-05",{"$error":"#N/A"},null,6,{"$error":"#N/A"},"II UKS Zalew Stepnica","14:30:00",null,null,{"$error":"#N/A"},null,null,{"$error":"#N/A"},{"$error":"#N/A"}]
[{"$f":"IF(Protokół!$DJ$3=1,I80,IF(Protokół!$DJ$3=2,Q80,IF(Protokół!$DJ$3=3,Y80,IF(Protokół!$DJ$3=4,AG80,\"\"))))","v":0},{"$f":"IF(Protokół!$DJ$3=1,J80,IF(Protokół!$DJ$3=2,R80,IF(Protokół!$DJ$3=3,Z80,IF(Protokół!$DJ$3=4,AH80,\"\"))))","v":"00:00:00"},{"$f":"IF(Protokół!$DJ$3=1,K80,IF(Protokół!$DJ$3=2,S80,IF(Protokół!$DJ$3=3,AA80,IF(Protokół!$DJ$3=4,AI80,\"\"))))","v":{"$error":"#N/A"}},{"$f":"IF(Protokół!$DJ$3=1,L80,IF(Protokół!$DJ$3=2,T80,IF(Protokół!$DJ$3=3,AB80,IF(Protokół!$DJ$3=4,AJ80,\"\"))))","v":0},{"$f":"IF(Protokół!$DJ$3=1,M80,IF(Protokół!$DJ$3=2,U80,IF(Protokół!$DJ$3=3,AC80,IF(Protokół!$DJ$3=4,AK80,\"\"))))","v":0},{"$f":"IF(Protokół!$DJ$3=1,N80,IF(Protokół!$DJ$3=2,V80,IF(Protokół!$DJ$3=3,AD80,IF(Protokół!$DJ$3=4,AL80,\"\"))))","v":{"$error":"#N/A"}},{"$f":"IF(Protokół!$DJ$3=1,O80,IF(Protokół!$DJ$3=2,W80,IF(Protokół!$DJ$3=3,AE80,IF(Protokół!$DJ$3=4,AM80,\"\"))))","v":{"$error":"#N/A"}},{"$f":"IF(Protokół!$DJ$3=1,P80,IF(Protokół!$DJ$3=2,X80,IF(Protokół!$DJ$3=3,AF80,IF(Protokół!$DJ$3=4,AN80,\"\"))))","v":"00:00:00"},"31 R",null,{"$error":"#N/A"},null,null,{"$error":"#N/A"},{"$error":"#N/A"},"11:00:00",3079,"2021-03-06","Stargardzie",2,1,"II KS ATS Stargard","II Visonex LUKS Top Wierzbięcin","14:30:00",4079,"2021-06-05","Kołobrzegu",8,5,"II KKTS Kołobrzeg","I UKS Zalew Stepnica","14:30:00",null,null,{"$error":"#N/A"},null,null,{"$error":"#N/A"},{"$error":"#N/A"}]
[{"$f":"IF(Protokół!$DJ$3=1,I81,IF(Protokół!$DJ$3=2,Q81,IF(Protokół!$DJ$3=3,Y81,IF(Protokół!$DJ$3=4,AG81,\"\"))))","v":0},{"$f":"IF(Protokół!$DJ$3=1,J81,IF(Protokół!$DJ$3=2,R81,IF(Protokół!$DJ$3=3,Z81,IF(Protokół!$DJ$3=4,AH81,\"\"))))","v":"00:00:00"},{"$f":"IF(Protokół!$DJ$3=1,K81,IF(Protokół!$DJ$3=2,S81,IF(Protokół!$DJ$3=3,AA81,IF(Protokół!$DJ$3=4,AI81,\"\"))))","v":{"$error":"#N/A"}},{"$f":"IF(Protokół!$DJ$3=1,L81,IF(Protokół!$DJ$3=2,T81,IF(Protokół!$DJ$3=3,AB81,IF(Protokół!$DJ$3=4,AJ81,\"\"))))","v":0},{"$f":"IF(Protokół!$DJ$3=1,M81,IF(Protokół!$DJ$3=2,U81,IF(Protokół!$DJ$3=3,AC81,IF(Protokół!$DJ$3=4,AK81,\"\"))))","v":0},{"$f":"IF(Protokół!$DJ$3=1,N81,IF(Protokół!$DJ$3=2,V81,IF(Protokół!$DJ$3=3,AD81,IF(Protokół!$DJ$3=4,AL81,\"\"))))","v":{"$error":"#N/A"}},{"$f":"IF(Protokół!$DJ$3=1,O81,IF(Protokół!$DJ$3=2,W81,IF(Protokół!$DJ$3=3,AE81,IF(Protokół!$DJ$3=4,AM81,\"\"))))","v":{"$error":"#N/A"}},{"$f":"IF(Protokół!$DJ$3=1,P81,IF(Protokół!$DJ$3=2,X81,IF(Protokół!$DJ$3=3,AF81,IF(Protokół!$DJ$3=4,AN81,\"\"))))","v":"00:00:00"},"32 R",null,{"$error":"#N/A"},null,null,{"$error":"#N/A"},{"$error":"#N/A"},"11:00:00",3080,"2021-03-06","Koszalinie",13,4,"I KTS Koszalinianin Koszalin","MSZS Świdwin","14:30:00",4080,"2021-06-05","Szczecinku",9,4,"II STLA Szczecinek","II MSZS Świdwin","14:30:00",null,null,{"$error":"#N/A"},null,null,{"$error":"#N/A"},{"$error":"#N/A"}]
[{"$f":"IF(Protokół!$DJ$3=1,I82,IF(Protokół!$DJ$3=2,Q82,IF(Protokół!$DJ$3=3,Y82,IF(Protokół!$DJ$3=4,AG82,\"\"))))","v":0},{"$f":"IF(Protokół!$DJ$3=1,J82,IF(Protokół!$DJ$3=2,R82,IF(Protokół!$DJ$3=3,Z82,IF(Protokół!$DJ$3=4,AH82,\"\"))))","v":"00:00:00"},{"$f":"IF(Protokół!$DJ$3=1,K82,IF(Protokół!$DJ$3=2,S82,IF(Protokół!$DJ$3=3,AA82,IF(Protokół!$DJ$3=4,AI82,\"\"))))","v":{"$error":"#N/A"}},{"$f":"IF(Protokół!$DJ$3=1,L82,IF(Protokół!$DJ$3=2,T82,IF(Protokół!$DJ$3=3,AB82,IF(Protokół!$DJ$3=4,AJ82,\"\"))))","v":0},{"$f":"IF(Protokół!$DJ$3=1,M82,IF(Protokół!$DJ$3=2,U82,IF(Protokół!$DJ$3=3,AC82,IF(Protokół!$DJ$3=4,AK82,\"\"))))","v":0},{"$f":"IF(Protokół!$DJ$3=1,N82,IF(Protokół!$DJ$3=2,V82,IF(Protokół!$DJ$3=3,AD82,IF(Protokół!$DJ$3=4,AL82,\"\"))))","v":{"$error":"#N/A"}},{"$f":"IF(Protokół!$DJ$3=1,O82,IF(Protokół!$DJ$3=2,W82,IF(Protokół!$DJ$3=3,AE82,IF(Protokół!$DJ$3=4,AM82,\"\"))))","v":{"$error":"#N/A"}},{"$f":"IF(Protokół!$DJ$3=1,P82,IF(Protokół!$DJ$3=2,X82,IF(Protokół!$DJ$3=3,AF82,IF(Protokół!$DJ$3=4,AN82,\"\"))))","v":"00:00:00"},"41 R",null,{"$error":"#N/A"},null,null,{"$error":"#N/A"},{"$error":"#N/A"},"11:00:00",3081,"2021-03-06","Koszalinie",14,3,"II KTS Koszalinianin Koszalin","UKS Team Tenis 2005 Białogard","14:30:00",4081,"2021-06-05","Złocieńcu",10,3,"I ZTTS Złocieniec","LKS Mewa Resko","14:30:00",null,null,{"$error":"#N/A"},null,null,{"$error":"#N/A"},{"$error":"#N/A"}]
[{"$f":"IF(Protokół!$DJ$3=1,I83,IF(Protokół!$DJ$3=2,Q83,IF(Protokół!$DJ$3=3,Y83,IF(Protokół!$DJ$3=4,AG83,\"\"))))","v":0},{"$f":"IF(Protokół!$DJ$3=1,J83,IF(Protokół!$DJ$3=2,R83,IF(Protokół!$DJ$3=3,Z83,IF(Protokół!$DJ$3=4,AH83,\"\"))))","v":"00:00:00"},{"$f":"IF(Protokół!$DJ$3=1,K83,IF(Protokół!$DJ$3=2,S83,IF(Protokół!$DJ$3=3,AA83,IF(Protokół!$DJ$3=4,AI83,\"\"))))","v":{"$error":"#N/A"}},{"$f":"IF(Protokół!$DJ$3=1,L83,IF(Protokół!$DJ$3=2,T83,IF(Protokół!$DJ$3=3,AB83,IF(Protokół!$DJ$3=4,AJ83,\"\"))))","v":0},{"$f":"IF(Protokół!$DJ$3=1,M83,IF(Protokół!$DJ$3=2,U83,IF(Protokół!$DJ$3=3,AC83,IF(Protokół!$DJ$3=4,AK83,\"\"))))","v":0},{"$f":"IF(Protokół!$DJ$3=1,N83,IF(Protokół!$DJ$3=2,V83,IF(Protokół!$DJ$3=3,AD83,IF(Protokół!$DJ$3=4,AL83,\"\"))))","v":{"$error":"#N/A"}},{"$f":"IF(Protokół!$DJ$3=1,O83,IF(Protokół!$DJ$3=2,W83,IF(Protokół!$DJ$3=3,AE83,IF(Protokół!$DJ$3=4,AM83,\"\"))))","v":{"$error":"#N/A"}},{"$f":"IF(Protokół!$DJ$3=1,P83,IF(Protokół!$DJ$3=2,X83,IF(Protokół!$DJ$3=3,AF83,IF(Protokół!$DJ$3=4,AN83,\"\"))))","v":"00:00:00"},"42 R",null,{"$error":"#N/A"},null,null,{"$error":"#N/A"},{"$error":"#N/A"},"11:00:00",3082,"2021-03-06","Szczecinie-Zdunowie",11,7,"Trzynastka Szczecin","UKS-T VICTORIA Chojna","10:30:00",4082,"2021-06-12","Złocieńcu",10,9,"I ZTTS Złocieniec","II STLA Szczecinek","10:30:00",null,null,{"$error":"#N/A"},null,null,{"$error":"#N/A"},{"$error":"#N/A"}]
[{"$f":"IF(Protokół!$DJ$3=1,I84,IF(Protokół!$DJ$3=2,Q84,IF(Protokół!$DJ$3=3,Y84,IF(Protokół!$DJ$3=4,AG84,\"\"))))","v":0},{"$f":"IF(Protokół!$DJ$3=1,J84,IF(Protokół!$DJ$3=2,R84,IF(Protokół!$DJ$3=3,Z84,IF(Protokół!$DJ$3=4,AH84,\"\"))))","v":"00:00:00"},{"$f":"IF(Protokół!$DJ$3=1,K84,IF(Protokół!$DJ$3=2,S84,IF(Protokół!$DJ$3=3,AA84,IF(Protokół!$DJ$3=4,AI84,\"\"))))","v":{"$error":"#N/A"}},{"$f":"IF(Protokół!$DJ$3=1,L84,IF(Protokół!$DJ$3=2,T84,IF(Protokół!$DJ$3=3,AB84,IF(Protokół!$DJ$3=4,AJ84,\"\"))))","v":0},{"$f":"IF(Protokół!$DJ$3=1,M84,IF(Protokół!$DJ$3=2,U84,IF(Protokół!$DJ$3=3,AC84,IF(Protokół!$DJ$3=4,AK84,\"\"))))","v":0},{"$f":"IF(Protokół!$DJ$3=1,N84,IF(Protokół!$DJ$3=2,V84,IF(Protokół!$DJ$3=3,AD84,IF(Protokół!$DJ$3=4,AL84,\"\"))))","v":{"$error":"#N/A"}},{"$f":"IF(Protokół!$DJ$3=1,O84,IF(Protokół!$DJ$3=2,W84,IF(Protokół!$DJ$3=3,AE84,IF(Protokół!$DJ$3=4,AM84,\"\"))))","v":{"$error":"#N/A"}},{"$f":"IF(Protokół!$DJ$3=1,P84,IF(Protokół!$DJ$3=2,X84,IF(Protokół!$DJ$3=3,AF84,IF(Protokół!$DJ$3=4,AN84,\"\"))))","v":"00:00:00"},"43 R",null,{"$error":"#N/A"},null,null,{"$error":"#N/A"},{"$error":"#N/A"},"11:00:00",3083,"2021-03-06","Gryficach",9,6,"LUKS Gryfice","KKTS Kołobrzeg","10:30:00",4083,"2021-06-12","Resku",3,null,"LKS Mewa Resko",{"$error":"#N/A"},"10:30:00",null,null,{"$error":"#N/A"},null,null,{"$error":"#N/A"},{"$error":"#N/A"}]
[{"$f":"IF(Protokół!$DJ$3=1,I85,IF(Protokół!$DJ$3=2,Q85,IF(Protokół!$DJ$3=3,Y85,IF(Protokół!$DJ$3=4,AG85,\"\"))))","v":0},{"$f":"IF(Protokół!$DJ$3=1,J85,IF(Protokół!$DJ$3=2,R85,IF(Protokół!$DJ$3=3,Z85,IF(Protokół!$DJ$3=4,AH85,\"\"))))","v":"00:00:00"},{"$f":"IF(Protokół!$DJ$3=1,K85,IF(Protokół!$DJ$3=2,S85,IF(Protokół!$DJ$3=3,AA85,IF(Protokół!$DJ$3=4,AI85,\"\"))))","v":{"$error":"#N/A"}},{"$f":"IF(Protokół!$DJ$3=1,L85,IF(Protokół!$DJ$3=2,T85,IF(Protokół!$DJ$3=3,AB85,IF(Protokół!$DJ$3=4,AJ85,\"\"))))","v":0},{"$f":"IF(Protokół!$DJ$3=1,M85,IF(Protokół!$DJ$3=2,U85,IF(Protokół!$DJ$3=3,AC85,IF(Protokół!$DJ$3=4,AK85,\"\"))))","v":0},{"$f":"IF(Protokół!$DJ$3=1,N85,IF(Protokół!$DJ$3=2,V85,IF(Protokół!$DJ$3=3,AD85,IF(Protokół!$DJ$3=4,AL85,\"\"))))","v":{"$error":"#N/A"}},{"$f":"IF(Protokół!$DJ$3=1,O85,IF(Protokół!$DJ$3=2,W85,IF(Protokół!$DJ$3=3,AE85,IF(Protokół!$DJ$3=4,AM85,\"\"))))","v":{"$error":"#N/A"}},{"$f":"IF(Protokół!$DJ$3=1,P85,IF(Protokół!$DJ$3=2,X85,IF(Protokół!$DJ$3=3,AF85,IF(Protokół!$DJ$3=4,AN85,\"\"))))","v":"00:00:00"},"44 R",null,{"$error":"#N/A"},null,null,{"$error":"#N/A"},{"$error":"#N/A"},"11:00:00",3084,"2021-03-06","Trzebiatowie",10,5,"LUKS Fala Trzebiatów","UKS Czarni Pieszcz","10:30:00",4084,"2021-06-12","Świdwinie",4,8,"II MSZS Świdwin","II KKTS Kołobrzeg","10:30:00",null,null,{"$error":"#N/A"},null,null,{"$error":"#N/A"},{"$error":"#N/A"}]
[{"$f":"IF(Protokół!$DJ$3=1,I86,IF(Protokół!$DJ$3=2,Q86,IF(Protokół!$DJ$3=3,Y86,IF(Protokół!$DJ$3=4,AG86,\"\"))))","v":0},{"$f":"IF(Protokół!$DJ$3=1,J86,IF(Protokół!$DJ$3=2,R86,IF(Protokół!$DJ$3=3,Z86,IF(Protokół!$DJ$3=4,AH86,\"\"))))","v":"00:00:00"},{"$f":"IF(Protokół!$DJ$3=1,K86,IF(Protokół!$DJ$3=2,S86,IF(Protokół!$DJ$3=3,AA86,IF(Protokół!$DJ$3=4,AI86,\"\"))))","v":{"$error":"#N/A"}},{"$f":"IF(Protokół!$DJ$3=1,L86,IF(Protokół!$DJ$3=2,T86,IF(Protokół!$DJ$3=3,AB86,IF(Protokół!$DJ$3=4,AJ86,\"\"))))","v":0},{"$f":"IF(Protokół!$DJ$3=1,M86,IF(Protokół!$DJ$3=2,U86,IF(Protokół!$DJ$3=3,AC86,IF(Protokół!$DJ$3=4,AK86,\"\"))))","v":0},{"$f":"IF(Protokół!$DJ$3=1,N86,IF(Protokół!$DJ$3=2,V86,IF(Protokół!$DJ$3=3,AD86,IF(Protokół!$DJ$3=4,AL86,\"\"))))","v":{"$error":"#N/A"}},{"$f":"IF(Protokół!$DJ$3=1,O86,IF(Protokół!$DJ$3=2,W86,IF(Protokół!$DJ$3=3,AE86,IF(Protokół!$DJ$3=4,AM86,\"\"))))","v":{"$error":"#N/A"}},{"$f":"IF(Protokół!$DJ$3=1,P86,IF(Protokół!$DJ$3=2,X86,IF(Protokół!$DJ$3=3,AF86,IF(Protokół!$DJ$3=4,AN86,\"\"))))","v":"00:00:00"},"45 R",null,{"$error":"#N/A"},null,null,{"$error":"#N/A"},{"$error":"#N/A"},"15:30:00",3085,"2021-03-06","Koszalinie",13,3,"I KTS Koszalinianin Koszalin","UKS Team Tenis 2005 Białogard","10:30:00",4085,"2021-06-12","Stepnicy",5,2,"I UKS Zalew Stepnica","III KS ATS Stargard","10:30:00",null,null,{"$error":"#N/A"},null,null,{"$error":"#N/A"},{"$error":"#N/A"},null,{"$f":"SUM(AJ86:AK97)","v":0}]
[{"$f":"IF(Protokół!$DJ$3=1,I87,IF(Protokół!$DJ$3=2,Q87,IF(Protokół!$DJ$3=3,Y87,IF(Protokół!$DJ$3=4,AG87,\"\"))))","v":0},{"$f":"IF(Protokół!$DJ$3=1,J87,IF(Protokół!$DJ$3=2,R87,IF(Protokół!$DJ$3=3,Z87,IF(Protokół!$DJ$3=4,AH87,\"\"))))","v":"00:00:00"},{"$f":"IF(Protokół!$DJ$3=1,K87,IF(Protokół!$DJ$3=2,S87,IF(Protokół!$DJ$3=3,AA87,IF(Protokół!$DJ$3=4,AI87,\"\"))))","v":{"$error":"#N/A"}},{"$f":"IF(Protokół!$DJ$3=1,L87,IF(Protokół!$DJ$3=2,T87,IF(Protokół!$DJ$3=3,AB87,IF(Protokół!$DJ$3=4,AJ87,\"\"))))","v":0},{"$f":"IF(Protokół!$DJ$3=1,M87,IF(Protokół!$DJ$3=2,U87,IF(Protokół!$DJ$3=3,AC87,IF(Protokół!$DJ$3=4,AK87,\"\"))))","v":0},{"$f":"IF(Protokół!$DJ$3=1,N87,IF(Protokół!$DJ$3=2,V87,IF(Protokół!$DJ$3=3,AD87,IF(Protokół!$DJ$3=4,AL87,\"\"))))","v":{"$error":"#N/A"}},{"$f":"IF(Protokół!$DJ$3=1,O87,IF(Protokół!$DJ$3=2,W87,IF(Protokół!$DJ$3=3,AE87,IF(Protokół!$DJ$3=4,AM87,\"\"))))","v":{"$error":"#N/A"}},{"$f":"IF(Protokół!$DJ$3=1,P87,IF(Protokół!$DJ$3=2,X87,IF(Protokół!$DJ$3=3,AF87,IF(Protokół!$DJ$3=4,AN87,\"\"))))","v":"00:00:00"},"46 R",null,{"$error":"#N/A"},null,null,{"$error":"#N/A"},{"$error":"#N/A"},"15:30:00",3086,"2021-03-06","Koszalinie",14,4,"II KTS Koszalinianin Koszalin","MSZS Świdwin","10:30:00",4086,"2021-06-12","Stepnicy",6,1,"II UKS Zalew Stepnica","Gryfin S Spin Szczecin","10:30:00",null,null,{"$error":"#N/A"},null,null,{"$error":"#N/A"},{"$error":"#N/A"}]
[{"$f":"IF(Protokół!$DJ$3=1,I88,IF(Protokół!$DJ$3=2,Q88,IF(Protokół!$DJ$3=3,Y88,IF(Protokół!$DJ$3=4,AG88,\"\"))))","v":0},{"$f":"IF(Protokół!$DJ$3=1,J88,IF(Protokół!$DJ$3=2,R88,IF(Protokół!$DJ$3=3,Z88,IF(Protokół!$DJ$3=4,AH88,\"\"))))","v":"00:00:00"},{"$f":"IF(Protokół!$DJ$3=1,K88,IF(Protokół!$DJ$3=2,S88,IF(Protokół!$DJ$3=3,AA88,IF(Protokół!$DJ$3=4,AI88,\"\"))))","v":{"$error":"#N/A"}},{"$f":"IF(Protokół!$DJ$3=1,L88,IF(Protokół!$DJ$3=2,T88,IF(Protokół!$DJ$3=3,AB88,IF(Protokół!$DJ$3=4,AJ88,\"\"))))","v":0},{"$f":"IF(Protokół!$DJ$3=1,M88,IF(Protokół!$DJ$3=2,U88,IF(Protokół!$DJ$3=3,AC88,IF(Protokół!$DJ$3=4,AK88,\"\"))))","v":0},{"$f":"IF(Protokół!$DJ$3=1,N88,IF(Protokół!$DJ$3=2,V88,IF(Protokół!$DJ$3=3,AD88,IF(Protokół!$DJ$3=4,AL88,\"\"))))","v":{"$error":"#N/A"}},{"$f":"IF(Protokół!$DJ$3=1,O88,IF(Protokół!$DJ$3=2,W88,IF(Protokół!$DJ$3=3,AE88,IF(Protokół!$DJ$3=4,AM88,\"\"))))","v":{"$error":"#N/A"}},{"$f":"IF(Protokół!$DJ$3=1,P88,IF(Protokół!$DJ$3=2,X88,IF(Protokół!$DJ$3=3,AF88,IF(Protokół!$DJ$3=4,AN88,\"\"))))","v":"00:00:00"},"47 R",null,{"$error":"#N/A"},null,null,{"$error":"#N/A"},{"$error":"#N/A"},"15:30:00",3087,"2021-03-06","Policach",12,7,"II UKS Champion Police","UKS-T VICTORIA Chojna","14:30:00",4087,"2021-06-12","Resku",3,8,"LKS Mewa Resko","II KKTS Kołobrzeg","14:30:00",null,null,{"$error":"#N/A"},null,null,{"$error":"#N/A"},{"$error":"#N/A"}]
[{"$f":"IF(Protokół!$DJ$3=1,I89,IF(Protokół!$DJ$3=2,Q89,IF(Protokół!$DJ$3=3,Y89,IF(Protokół!$DJ$3=4,AG89,\"\"))))","v":0},{"$f":"IF(Protokół!$DJ$3=1,J89,IF(Protokół!$DJ$3=2,R89,IF(Protokół!$DJ$3=3,Z89,IF(Protokół!$DJ$3=4,AH89,\"\"))))","v":"00:00:00"},{"$f":"IF(Protokół!$DJ$3=1,K89,IF(Protokół!$DJ$3=2,S89,IF(Protokół!$DJ$3=3,AA89,IF(Protokół!$DJ$3=4,AI89,\"\"))))","v":{"$error":"#N/A"}},{"$f":"IF(Protokół!$DJ$3=1,L89,IF(Protokół!$DJ$3=2,T89,IF(Protokół!$DJ$3=3,AB89,IF(Protokół!$DJ$3=4,AJ89,\"\"))))","v":0},{"$f":"IF(Protokół!$DJ$3=1,M89,IF(Protokół!$DJ$3=2,U89,IF(Protokół!$DJ$3=3,AC89,IF(Protokół!$DJ$3=4,AK89,\"\"))))","v":0},{"$f":"IF(Protokół!$DJ$3=1,N89,IF(Protokół!$DJ$3=2,V89,IF(Protokół!$DJ$3=3,AD89,IF(Protokół!$DJ$3=4,AL89,\"\"))))","v":{"$error":"#N/A"}},{"$f":"IF(Protokół!$DJ$3=1,O89,IF(Protokół!$DJ$3=2,W89,IF(Protokół!$DJ$3=3,AE89,IF(Protokół!$DJ$3=4,AM89,\"\"))))","v":{"$error":"#N/A"}},{"$f":"IF(Protokół!$DJ$3=1,P89,IF(Protokół!$DJ$3=2,X89,IF(Protokół!$DJ$3=3,AF89,IF(Protokół!$DJ$3=4,AN89,\"\"))))","v":"00:00:00"},"48 R",null,{"$error":"#N/A"},null,null,{"$error":"#N/A"},{"$error":"#N/A"},"15:30:00",3088,"2021-03-06","Gryficach",9,5,"LUKS Gryfice","UKS Czarni Pieszcz","14:30:00",4088,"2021-06-12","Świdwinie",4,null,"II MSZS Świdwin",{"$error":"#N/A"},"14:30:00",null,null,{"$error":"#N/A"},null,null,{"$error":"#N/A"},{"$error":"#N/A"}]
[{"$f":"IF(Protokół!$DJ$3=1,I90,IF(Protokół!$DJ$3=2,Q90,IF(Protokół!$DJ$3=3,Y90,IF(Protokół!$DJ$3=4,AG90,\"\"))))","v":0},{"$f":"IF(Protokół!$DJ$3=1,J90,IF(Protokół!$DJ$3=2,R90,IF(Protokół!$DJ$3=3,Z90,IF(Protokół!$DJ$3=4,AH90,\"\"))))","v":"00:00:00"},{"$f":"IF(Protokół!$DJ$3=1,K90,IF(Protokół!$DJ$3=2,S90,IF(Protokół!$DJ$3=3,AA90,IF(Protokół!$DJ$3=4,AI90,\"\"))))","v":{"$error":"#N/A"}},{"$f":"IF(Protokół!$DJ$3=1,L90,IF(Protokół!$DJ$3=2,T90,IF(Protokół!$DJ$3=3,AB90,IF(Protokół!$DJ$3=4,AJ90,\"\"))))","v":0},{"$f":"IF(Protokół!$DJ$3=1,M90,IF(Protokół!$DJ$3=2,U90,IF(Protokół!$DJ$3=3,AC90,IF(Protokół!$DJ$3=4,AK90,\"\"))))","v":0},{"$f":"IF(Protokół!$DJ$3=1,N90,IF(Protokół!$DJ$3=2,V90,IF(Protokół!$DJ$3=3,AD90,IF(Protokół!$DJ$3=4,AL90,\"\"))))","v":{"$error":"#N/A"}},{"$f":"IF(Protokół!$DJ$3=1,O90,IF(Protokół!$DJ$3=2,W90,IF(Protokół!$DJ$3=3,AE90,IF(Protokół!$DJ$3=4,AM90,\"\"))))","v":{"$error":"#N/A"}},{"$f":"IF(Protokół!$DJ$3=1,P90,IF(Protokół!$DJ$3=2,X90,IF(Protokół!$DJ$3=3,AF90,IF(Protokół!$DJ$3=4,AN90,\"\"))))","v":"00:00:00"},"7ZP-6WP",null,{"$error":"#N/A"},null,null,{"$f":"VLOOKUP(L90,$I$166:$M$173,2,FALSE)","v":{"$error":"#N/A"}},{"$f":"VLOOKUP(M90,$I$166:$M$174,2,FALSE)","v":{"$error":"#N/A"}},null,3089,"2021-03-06","Trzebiatowie",10,6,"LUKS Fala Trzebiatów","KKTS Kołobrzeg","14:30:00",4089,"2021-06-12","Stepnicy",5,1,"I UKS Zalew Stepnica","Gryfin S Spin Szczecin","14:30:00",null,null,{"$error":"#N/A"},null,null,{"$error":"#N/A"},{"$error":"#N/A"}]
[{"$f":"IF(Protokół!$DJ$3=1,I91,IF(Protokół!$DJ$3=2,Q91,IF(Protokół!$DJ$3=3,Y91,IF(Protokół!$DJ$3=4,AG91,\"\"))))","v":0},{"$f":"IF(Protokół!$DJ$3=1,J91,IF(Protokół!$DJ$3=2,R91,IF(Protokół!$DJ$3=3,Z91,IF(Protokół!$DJ$3=4,AH91,\"\"))))","v":"00:00:00"},{"$f":"IF(Protokół!$DJ$3=1,K91,IF(Protokół!$DJ$3=2,S91,IF(Protokół!$DJ$3=3,AA91,IF(Protokół!$DJ$3=4,AI91,\"\"))))","v":{"$error":"#N/A"}},{"$f":"IF(Protokół!$DJ$3=1,L91,IF(Protokół!$DJ$3=2,T91,IF(Protokół!$DJ$3=3,AB91,IF(Protokół!$DJ$3=4,AJ91,\"\"))))","v":0},{"$f":"IF(Protokół!$DJ$3=1,M91,IF(Protokół!$DJ$3=2,U91,IF(Protokół!$DJ$3=3,AC91,IF(Protokół!$DJ$3=4,AK91,\"\"))))","v":0},{"$f":"IF(Protokół!$DJ$3=1,N91,IF(Protokół!$DJ$3=2,V91,IF(Protokół!$DJ$3=3,AD91,IF(Protokół!$DJ$3=4,AL91,\"\"))))","v":{"$error":"#N/A"}},{"$f":"IF(Protokół!$DJ$3=1,O91,IF(Protokół!$DJ$3=2,W91,IF(Protokół!$DJ$3=3,AE91,IF(Protokół!$DJ$3=4,AM91,\"\"))))","v":{"$error":"#N/A"}},{"$f":"IF(Protokół!$DJ$3=1,P91,IF(Protokół!$DJ$3=2,X91,IF(Protokół!$DJ$3=3,AF91,IF(Protokół!$DJ$3=4,AN91,\"\"))))","v":"00:00:00"},null,null,{"$error":"#N/A"},null,null,{"$error":"#N/A"},{"$f":"VLOOKUP(M91,$I$166:$M$173,2,FALSE)","v":{"$error":"#N/A"}},null,3090,"2021-03-13","Trzebiatowie",10,9,"LUKS Fala Trzebiatów","LUKS Gryfice","14:30:00",4090,"2021-06-12","Stepnicy",6,2,"II UKS Zalew Stepnica","III KS ATS Stargard","14:30:00",null,null,{"$error":"#N/A"},null,null,{"$error":"#N/A"},{"$error":"#N/A"}]
[{"$f":"IF(Protokół!$DJ$3=1,I92,IF(Protokół!$DJ$3=2,Q92,IF(Protokół!$DJ$3=3,Y92,IF(Protokół!$DJ$3=4,AG92,\"\"))))","v":0},{"$f":"IF(Protokół!$DJ$3=1,J92,IF(Protokół!$DJ$3=2,R92,IF(Protokół!$DJ$3=3,Z92,IF(Protokół!$DJ$3=4,AH92,\"\"))))","v":"00:00:00"},{"$f":"IF(Protokół!$DJ$3=1,K92,IF(Protokół!$DJ$3=2,S92,IF(Protokół!$DJ$3=3,AA92,IF(Protokół!$DJ$3=4,AI92,\"\"))))","v":{"$error":"#N/A"}},{"$f":"IF(Protokół!$DJ$3=1,L92,IF(Protokół!$DJ$3=2,T92,IF(Protokół!$DJ$3=3,AB92,IF(Protokół!$DJ$3=4,AJ92,\"\"))))","v":0},{"$f":"IF(Protokół!$DJ$3=1,M92,IF(Protokół!$DJ$3=2,U92,IF(Protokół!$DJ$3=3,AC92,IF(Protokół!$DJ$3=4,AK92,\"\"))))","v":0},{"$f":"IF(Protokół!$DJ$3=1,N92,IF(Protokół!$DJ$3=2,V92,IF(Protokół!$DJ$3=3,AD92,IF(Protokół!$DJ$3=4,AL92,\"\"))))","v":{"$error":"#N/A"}},{"$f":"IF(Protokół!$DJ$3=1,O92,IF(Protokół!$DJ$3=2,W92,IF(Protokół!$DJ$3=3,AE92,IF(Protokół!$DJ$3=4,AM92,\"\"))))","v":{"$error":"#N/A"}},{"$f":"IF(Protokół!$DJ$3=1,P92,IF(Protokół!$DJ$3=2,X92,IF(Protokół!$DJ$3=3,AF92,IF(Protokół!$DJ$3=4,AN92,\"\"))))","v":"00:00:00"},null,null,{"$error":"#N/A"},null,null,{"$error":"#N/A"},{"$error":"#N/A"},null,3091,"2021-03-13","Pieszczu",5,11,"UKS Czarni Pieszcz","Trzynastka Szczecin",null,null,null,null,null,null,null,null,null,null,null,{"$error":"#N/A"},null,null,{"$error":"#N/A"},{"$error":"#N/A"}]
[{"$f":"IF(Protokół!$DJ$3=1,I93,IF(Protokół!$DJ$3=2,Q93,IF(Protokół!$DJ$3=3,Y93,IF(Protokół!$DJ$3=4,AG93,\"\"))))","v":0},{"$f":"IF(Protokół!$DJ$3=1,J93,IF(Protokół!$DJ$3=2,R93,IF(Protokół!$DJ$3=3,Z93,IF(Protokół!$DJ$3=4,AH93,\"\"))))","v":"00:00:00"},{"$f":"IF(Protokół!$DJ$3=1,K93,IF(Protokół!$DJ$3=2,S93,IF(Protokół!$DJ$3=3,AA93,IF(Protokół!$DJ$3=4,AI93,\"\"))))","v":{"$error":"#N/A"}},{"$f":"IF(Protokół!$DJ$3=1,L93,IF(Protokół!$DJ$3=2,T93,IF(Protokół!$DJ$3=3,AB93,IF(Protokół!$DJ$3=4,AJ93,\"\"))))","v":0},{"$f":"IF(Protokół!$DJ$3=1,M93,IF(Protokół!$DJ$3=2,U93,IF(Protokół!$DJ$3=3,AC93,IF(Protokół!$DJ$3=4,AK93,\"\"))))","v":0},{"$f":"IF(Protokół!$DJ$3=1,N93,IF(Protokół!$DJ$3=2,V93,IF(Protokół!$DJ$3=3,AD93,IF(Protokół!$DJ$3=4,AL93,\"\"))))","v":{"$error":"#N/A"}},{"$f":"IF(Protokół!$DJ$3=1,O93,IF(Protokół!$DJ$3=2,W93,IF(Protokół!$DJ$3=3,AE93,IF(Protokół!$DJ$3=4,AM93,\"\"))))","v":{"$error":"#N/A"}},{"$f":"IF(Protokół!$DJ$3=1,P93,IF(Protokół!$DJ$3=2,X93,IF(Protokół!$DJ$3=3,AF93,IF(Protokół!$DJ$3=4,AN93,\"\"))))","v":"00:00:00"},null,null,{"$error":"#N/A"},null,null,{"$error":"#N/A"},{"$error":"#N/A"},null,3092,"2021-03-13","Kołobrzegu",6,12,"KKTS Kołobrzeg","II UKS Champion Police",null,null,null,null,null,null,null,null,null,null,null,{"$error":"#N/A"},null,null,{"$error":"#N/A"},{"$error":"#N/A"}]
[{"$f":"IF(Protokół!$DJ$3=1,I94,IF(Protokół!$DJ$3=2,Q94,IF(Protokół!$DJ$3=3,Y94,IF(Protokół!$DJ$3=4,AG94,\"\"))))","v":0},{"$f":"IF(Protokół!$DJ$3=1,J94,IF(Protokół!$DJ$3=2,R94,IF(Protokół!$DJ$3=3,Z94,IF(Protokół!$DJ$3=4,AH94,\"\"))))","v":"00:00:00"},{"$f":"IF(Protokół!$DJ$3=1,K94,IF(Protokół!$DJ$3=2,S94,IF(Protokół!$DJ$3=3,AA94,IF(Protokół!$DJ$3=4,AI94,\"\"))))","v":{"$error":"#N/A"}},{"$f":"IF(Protokół!$DJ$3=1,L94,IF(Protokół!$DJ$3=2,T94,IF(Protokół!$DJ$3=3,AB94,IF(Protokół!$DJ$3=4,AJ94,\"\"))))","v":0},{"$f":"IF(Protokół!$DJ$3=1,M94,IF(Protokół!$DJ$3=2,U94,IF(Protokół!$DJ$3=3,AC94,IF(Protokół!$DJ$3=4,AK94,\"\"))))","v":0},{"$f":"IF(Protokół!$DJ$3=1,N94,IF(Protokół!$DJ$3=2,V94,IF(Protokół!$DJ$3=3,AD94,IF(Protokół!$DJ$3=4,AL94,\"\"))))","v":{"$error":"#N/A"}},{"$f":"IF(Protokół!$DJ$3=1,O94,IF(Protokół!$DJ$3=2,W94,IF(Protokół!$DJ$3=3,AE94,IF(Protokół!$DJ$3=4,AM94,\"\"))))","v":{"$error":"#N/A"}},{"$f":"IF(Protokół!$DJ$3=1,P94,IF(Protokół!$DJ$3=2,X94,IF(Protokół!$DJ$3=3,AF94,IF(Protokół!$DJ$3=4,AN94,\"\"))))","v":"00:00:00"},null,null,{"$error":"#N/A"},null,null,{"$error":"#N/A"},{"$error":"#N/A"},null,3093,"2021-03-13","Chojnie",7,14,"UKS-T VICTORIA Chojna","II KTS Koszalinianin Koszalin",null,null,null,null,null,null,null,null,null,null,null,{"$error":"#N/A"},null,null,{"$error":"#N/A"},{"$error":"#N/A"}]
[{"$f":"IF(Protokół!$DJ$3=1,I95,IF(Protokół!$DJ$3=2,Q95,IF(Protokół!$DJ$3=3,Y95,IF(Protokół!$DJ$3=4,AG95,\"\"))))","v":0},{"$f":"IF(Protokół!$DJ$3=1,J95,IF(Protokół!$DJ$3=2,R95,IF(Protokół!$DJ$3=3,Z95,IF(Protokół!$DJ$3=4,AH95,\"\"))))","v":"00:00:00"},{"$f":"IF(Protokół!$DJ$3=1,K95,IF(Protokół!$DJ$3=2,S95,IF(Protokół!$DJ$3=3,AA95,IF(Protokół!$DJ$3=4,AI95,\"\"))))","v":{"$error":"#N/A"}},{"$f":"IF(Protokół!$DJ$3=1,L95,IF(Protokół!$DJ$3=2,T95,IF(Protokół!$DJ$3=3,AB95,IF(Protokół!$DJ$3=4,AJ95,\"\"))))","v":0},{"$f":"IF(Protokół!$DJ$3=1,M95,IF(Protokół!$DJ$3=2,U95,IF(Protokół!$DJ$3=3,AC95,IF(Protokół!$DJ$3=4,AK95,\"\"))))","v":0},{"$f":"IF(Protokół!$DJ$3=1,N95,IF(Protokół!$DJ$3=2,V95,IF(Protokół!$DJ$3=3,AD95,IF(Protokół!$DJ$3=4,AL95,\"\"))))","v":{"$error":"#N/A"}},{"$f":"IF(Protokół!$DJ$3=1,O95,IF(Protokół!$DJ$3=2,W95,IF(Protokół!$DJ$3=3,AE95,IF(Protokół!$DJ$3=4,AM95,\"\"))))","v":{"$error":"#N/A"}},{"$f":"IF(Protokół!$DJ$3=1,P95,IF(Protokół!$DJ$3=2,X95,IF(Protokół!$DJ$3=3,AF95,IF(Protokół!$DJ$3=4,AN95,\"\"))))","v":"00:00:00"},null,null,{"$error":"#N/A"},null,null,{"$error":"#N/A"},{"$error":"#N/A"},null,3094,"2021-03-13","Białogardzie",3,2,"UKS Team Tenis 2005 Białogard","II KS ATS Stargard",null,null,null,null,null,null,null,null,null,null,null,{"$error":"#N/A"},null,null,{"$error":"#N/A"},{"$error":"#N/A"}]
[{"$f":"IF(Protokół!$DJ$3=1,I96,IF(Protokół!$DJ$3=2,Q96,IF(Protokół!$DJ$3=3,Y96,IF(Protokół!$DJ$3=4,AG96,\"\"))))","v":0},{"$f":"IF(Protokół!$DJ$3=1,J96,IF(Protokół!$DJ$3=2,R96,IF(Protokół!$DJ$3=3,Z96,IF(Protokół!$DJ$3=4,AH96,\"\"))))","v":"00:00:00"},{"$f":"IF(Protokół!$DJ$3=1,K96,IF(Protokół!$DJ$3=2,S96,IF(Protokół!$DJ$3=3,AA96,IF(Protokół!$DJ$3=4,AI96,\"\"))))","v":{"$error":"#N/A"}},{"$f":"IF(Protokół!$DJ$3=1,L96,IF(Protokół!$DJ$3=2,T96,IF(Protokół!$DJ$3=3,AB96,IF(Protokół!$DJ$3=4,AJ96,\"\"))))","v":0},{"$f":"IF(Protokół!$DJ$3=1,M96,IF(Protokół!$DJ$3=2,U96,IF(Protokół!$DJ$3=3,AC96,IF(Protokół!$DJ$3=4,AK96,\"\"))))","v":0},{"$f":"IF(Protokół!$DJ$3=1,N96,IF(Protokół!$DJ$3=2,V96,IF(Protokół!$DJ$3=3,AD96,IF(Protokół!$DJ$3=4,AL96,\"\"))))","v":{"$error":"#N/A"}},{"$f":"IF(Protokół!$DJ$3=1,O96,IF(Protokół!$DJ$3=2,W96,IF(Protokół!$DJ$3=3,AE96,IF(Protokół!$DJ$3=4,AM96,\"\"))))","v":{"$error":"#N/A"}},{"$f":"IF(Protokół!$DJ$3=1,P96,IF(Protokół!$DJ$3=2,X96,IF(Protokół!$DJ$3=3,AF96,IF(Protokół!$DJ$3=4,AN96,\"\"))))","v":"00:00:00"},null,null,{"$error":"#N/A"},null,null,{"$error":"#N/A"},{"$error":"#N/A"},null,3095,"2021-03-13","Świdwinie",4,1,"MSZS Świdwin","II Visonex LUKS Top Wierzbięcin",null,null,null,null,null,null,null,null,null,null,null,{"$error":"#N/A"},null,null,{"$error":"#N/A"},{"$error":"#N/A"}]
[{"$f":"IF(Protokół!$DJ$3=1,I97,IF(Protokół!$DJ$3=2,Q97,IF(Protokół!$DJ$3=3,Y97,IF(Protokół!$DJ$3=4,AG97,\"\"))))","v":0},{"$f":"IF(Protokół!$DJ$3=1,J97,IF(Protokół!$DJ$3=2,R97,IF(Protokół!$DJ$3=3,Z97,IF(Protokół!$DJ$3=4,AH97,\"\"))))","v":"00:00:00"},{"$f":"IF(Protokół!$DJ$3=1,K97,IF(Protokół!$DJ$3=2,S97,IF(Protokół!$DJ$3=3,AA97,IF(Protokół!$DJ$3=4,AI97,\"\"))))","v":{"$error":"#N/A"}},{"$f":"IF(Protokół!$DJ$3=1,L97,IF(Protokół!$DJ$3=2,T97,IF(Protokół!$DJ$3=3,AB97,IF(Protokół!$DJ$3=4,AJ97,\"\"))))","v":0},{"$f":"IF(Protokół!$DJ$3=1,M97,IF(Protokół!$DJ$3=2,U97,IF(Protokół!$DJ$3=3,AC97,IF(Protokół!$DJ$3=4,AK97,\"\"))))","v":0},{"$f":"IF(Protokół!$DJ$3=1,N97,IF(Protokół!$DJ$3=2,V97,IF(Protokół!$DJ$3=3,AD97,IF(Protokół!$DJ$3=4,AL97,\"\"))))","v":{"$error":"#N/A"}},{"$f":"IF(Protokół!$DJ$3=1,O97,IF(Protokół!$DJ$3=2,W97,IF(Protokół!$DJ$3=3,AE97,IF(Protokół!$DJ$3=4,AM97,\"\"))))","v":{"$error":"#N/A"}},{"$f":"IF(Protokół!$DJ$3=1,P97,IF(Protokół!$DJ$3=2,X97,IF(Protokół!$DJ$3=3,AF97,IF(Protokół!$DJ$3=4,AN97,\"\"))))","v":"00:00:00"},null,null,{"$error":"#N/A"},null,null,{"$error":"#N/A"},{"$error":"#N/A"},null,3096,"2021-03-13","Pieszczu",5,12,"UKS Czarni Pieszcz","II UKS Champion Police",null,null,null,null,null,null,null,null,null,null,null,{"$error":"#N/A"},null,null,{"$error":"#N/A"},{"$error":"#N/A"}]
[{"$f":"IF(Protokół!$DJ$3=1,I98,IF(Protokół!$DJ$3=2,Q98,IF(Protokół!$DJ$3=3,Y98,IF(Protokół!$DJ$3=4,AG98,\"\"))))","v":0},{"$f":"IF(Protokół!$DJ$3=1,J98,IF(Protokół!$DJ$3=2,R98,IF(Protokół!$DJ$3=3,Z98,IF(Protokół!$DJ$3=4,AH98,\"\"))))","v":"00:00:00"},{"$f":"IF(Protokół!$DJ$3=1,K98,IF(Protokół!$DJ$3=2,S98,IF(Protokół!$DJ$3=3,AA98,IF(Protokół!$DJ$3=4,AI98,\"\"))))","v":{"$error":"#N/A"}},{"$f":"IF(Protokół!$DJ$3=1,L98,IF(Protokół!$DJ$3=2,T98,IF(Protokół!$DJ$3=3,AB98,IF(Protokół!$DJ$3=4,AJ98,\"\"))))","v":0},{"$f":"IF(Protokół!$DJ$3=1,M98,IF(Protokół!$DJ$3=2,U98,IF(Protokół!$DJ$3=3,AC98,IF(Protokół!$DJ$3=4,AK98,\"\"))))","v":0},{"$f":"IF(Protokół!$DJ$3=1,N98,IF(Protokół!$DJ$3=2,V98,IF(Protokół!$DJ$3=3,AD98,IF(Protokół!$DJ$3=4,AL98,\"\"))))","v":{"$error":"#N/A"}},{"$f":"IF(Protokół!$DJ$3=1,O98,IF(Protokół!$DJ$3=2,W98,IF(Protokół!$DJ$3=3,AE98,IF(Protokół!$DJ$3=4,AM98,\"\"))))","v":{"$error":"#N/A"}},{"$f":"IF(Protokół!$DJ$3=1,P98,IF(Protokół!$DJ$3=2,X98,IF(Protokół!$DJ$3=3,AF98,IF(Protokół!$DJ$3=4,AN98,\"\"))))","v":"00:00:00"},null,null,null,null,null,null,null,null,3097,"2021-03-13","Kołobrzegu",6,11,"KKTS Kołobrzeg","Trzynastka Szczecin",null,null,null,null,null,null,null,null,null,null,null,{"$f":"VLOOKUP(AJ98,$AG$167:$AK$178,5,FALSE)","v":{"$error":"#N/A"}},null,null,{"$f":"VLOOKUP(AJ98,$AG$167:$AK$178,2,FALSE)","v":{"$error":"#N/A"}},{"$f":"VLOOKUP(AK98,$AG$167:$AK$178,2,FALSE)","v":{"$error":"#N/A"}},null,{"$f":"SUM(AJ98:AK134)","v":0}]
[{"$f":"IF(Protokół!$DJ$3=1,I99,IF(Protokół!$DJ$3=2,Q99,IF(Protokół!$DJ$3=3,Y99,IF(Protokół!$DJ$3=4,AG99,\"\"))))","v":0},{"$f":"IF(Protokół!$DJ$3=1,J99,IF(Protokół!$DJ$3=2,R99,IF(Protokół!$DJ$3=3,Z99,IF(Protokół!$DJ$3=4,AH99,\"\"))))","v":"00:00:00"},{"$f":"IF(Protokół!$DJ$3=1,K99,IF(Protokół!$DJ$3=2,S99,IF(Protokół!$DJ$3=3,AA99,IF(Protokół!$DJ$3=4,AI99,\"\"))))","v":{"$error":"#N/A"}},{"$f":"IF(Protokół!$DJ$3=1,L99,IF(Protokół!$DJ$3=2,T99,IF(Protokół!$DJ$3=3,AB99,IF(Protokół!$DJ$3=4,AJ99,\"\"))))","v":0},{"$f":"IF(Protokół!$DJ$3=1,M99,IF(Protokół!$DJ$3=2,U99,IF(Protokół!$DJ$3=3,AC99,IF(Protokół!$DJ$3=4,AK99,\"\"))))","v":0},{"$f":"IF(Protokół!$DJ$3=1,N99,IF(Protokół!$DJ$3=2,V99,IF(Protokół!$DJ$3=3,AD99,IF(Protokół!$DJ$3=4,AL99,\"\"))))","v":{"$error":"#N/A"}},{"$f":"IF(Protokół!$DJ$3=1,O99,IF(Protokół!$DJ$3=2,W99,IF(Protokół!$DJ$3=3,AE99,IF(Protokół!$DJ$3=4,AM99,\"\"))))","v":{"$error":"#N/A"}},{"$f":"IF(Protokół!$DJ$3=1,P99,IF(Protokół!$DJ$3=2,X99,IF(Protokół!$DJ$3=3,AF99,IF(Protokół!$DJ$3=4,AN99,\"\"))))","v":"00:00:00"},null,null,null,null,null,null,null,null,3098,"2021-03-13","Chojnie",7,13,"UKS-T VICTORIA Chojna","I KTS Koszalinianin Koszalin",null,null,null,null,null,null,null,null,null,null,null,{"$error":"#N/A"},null,null,{"$error":"#N/A"},{"$error":"#N/A"}]
[{"$f":"IF(Protokół!$DJ$3=1,I100,IF(Protokół!$DJ$3=2,Q100,IF(Protokół!$DJ$3=3,Y100,IF(Protokół!$DJ$3=4,AG100,\"\"))))","v":0},{"$f":"IF(Protokół!$DJ$3=1,J100,IF(Protokół!$DJ$3=2,R100,IF(Protokół!$DJ$3=3,Z100,IF(Protokół!$DJ$3=4,AH100,\"\"))))","v":"00:00:00"},{"$f":"IF(Protokół!$DJ$3=1,K100,IF(Protokół!$DJ$3=2,S100,IF(Protokół!$DJ$3=3,AA100,IF(Protokół!$DJ$3=4,AI100,\"\"))))","v":{"$error":"#N/A"}},{"$f":"IF(Protokół!$DJ$3=1,L100,IF(Protokół!$DJ$3=2,T100,IF(Protokół!$DJ$3=3,AB100,IF(Protokół!$DJ$3=4,AJ100,\"\"))))","v":0},{"$f":"IF(Protokół!$DJ$3=1,M100,IF(Protokół!$DJ$3=2,U100,IF(Protokół!$DJ$3=3,AC100,IF(Protokół!$DJ$3=4,AK100,\"\"))))","v":0},{"$f":"IF(Protokół!$DJ$3=1,N100,IF(Protokół!$DJ$3=2,V100,IF(Protokół!$DJ$3=3,AD100,IF(Protokół!$DJ$3=4,AL100,\"\"))))","v":{"$error":"#N/A"}},{"$f":"IF(Protokół!$DJ$3=1,O100,IF(Protokół!$DJ$3=2,W100,IF(Protokół!$DJ$3=3,AE100,IF(Protokół!$DJ$3=4,AM100,\"\"))))","v":{"$error":"#N/A"}},{"$f":"IF(Protokół!$DJ$3=1,P100,IF(Protokół!$DJ$3=2,X100,IF(Protokół!$DJ$3=3,AF100,IF(Protokół!$DJ$3=4,AN100,\"\"))))","v":"00:00:00"},null,null,null,null,null,null,null,null,3099,"2021-03-13","Białogardzie",3,1,"UKS Team Tenis 2005 Białogard","II Visonex LUKS Top Wierzbięcin",null,null,null,null,null,null,null,null,null,null,null,{"$error":"#N/A"},null,null,{"$error":"#N/A"},{"$error":"#N/A"}]
[{"$f":"IF(Protokół!$DJ$3=1,I101,IF(Protokół!$DJ$3=2,Q101,IF(Protokół!$DJ$3=3,Y101,IF(Protokół!$DJ$3=4,AG101,\"\"))))","v":0},{"$f":"IF(Protokół!$DJ$3=1,J101,IF(Protokół!$DJ$3=2,R101,IF(Protokół!$DJ$3=3,Z101,IF(Protokół!$DJ$3=4,AH101,\"\"))))","v":"00:00:00"},{"$f":"IF(Protokół!$DJ$3=1,K101,IF(Protokół!$DJ$3=2,S101,IF(Protokół!$DJ$3=3,AA101,IF(Protokół!$DJ$3=4,AI101,\"\"))))","v":{"$error":"#N/A"}},{"$f":"IF(Protokół!$DJ$3=1,L101,IF(Protokół!$DJ$3=2,T101,IF(Protokół!$DJ$3=3,AB101,IF(Protokół!$DJ$3=4,AJ101,\"\"))))","v":0},{"$f":"IF(Protokół!$DJ$3=1,M101,IF(Protokół!$DJ$3=2,U101,IF(Protokół!$DJ$3=3,AC101,IF(Protokół!$DJ$3=4,AK101,\"\"))))","v":0},{"$f":"IF(Protokół!$DJ$3=1,N101,IF(Protokół!$DJ$3=2,V101,IF(Protokół!$DJ$3=3,AD101,IF(Protokół!$DJ$3=4,AL101,\"\"))))","v":{"$error":"#N/A"}},{"$f":"IF(Protokół!$DJ$3=1,O101,IF(Protokół!$DJ$3=2,W101,IF(Protokół!$DJ$3=3,AE101,IF(Protokół!$DJ$3=4,AM101,\"\"))))","v":{"$error":"#N/A"}},{"$f":"IF(Protokół!$DJ$3=1,P101,IF(Protokół!$DJ$3=2,X101,IF(Protokół!$DJ$3=3,AF101,IF(Protokół!$DJ$3=4,AN101,\"\"))))","v":"00:00:00"},null,null,null,null,null,null,null,null,3100,"2021-03-13","Świdwinie",4,2,"MSZS Świdwin","II KS ATS Stargard",null,null,null,null,null,null,null,null,null,null,null,{"$f":"VLOOKUP(AJ101,$AG$167:$AK$178,5,FALSE)","v":{"$error":"#N/A"}},null,null,{"$f":"VLOOKUP(AJ101,$AG$167:$AK$178,2,FALSE)","v":{"$error":"#N/A"}},{"$f":"VLOOKUP(AK101,$AG$167:$AK$178,2,FALSE)","v":{"$error":"#N/A"}}]
[{"$f":"IF(Protokół!$DJ$3=1,I102,IF(Protokół!$DJ$3=2,Q102,IF(Protokół!$DJ$3=3,Y102,IF(Protokół!$DJ$3=4,AG102,\"\"))))","v":0},{"$f":"IF(Protokół!$DJ$3=1,J102,IF(Protokół!$DJ$3=2,R102,IF(Protokół!$DJ$3=3,Z102,IF(Protokół!$DJ$3=4,AH102,\"\"))))","v":"00:00:00"},{"$f":"IF(Protokół!$DJ$3=1,K102,IF(Protokół!$DJ$3=2,S102,IF(Protokół!$DJ$3=3,AA102,IF(Protokół!$DJ$3=4,AI102,\"\"))))","v":{"$error":"#N/A"}},{"$f":"IF(Protokół!$DJ$3=1,L102,IF(Protokół!$DJ$3=2,T102,IF(Protokół!$DJ$3=3,AB102,IF(Protokół!$DJ$3=4,AJ102,\"\"))))","v":0},{"$f":"IF(Protokół!$DJ$3=1,M102,IF(Protokół!$DJ$3=2,U102,IF(Protokół!$DJ$3=3,AC102,IF(Protokół!$DJ$3=4,AK102,\"\"))))","v":0},{"$f":"IF(Protokół!$DJ$3=1,N102,IF(Protokół!$DJ$3=2,V102,IF(Protokół!$DJ$3=3,AD102,IF(Protokół!$DJ$3=4,AL102,\"\"))))","v":{"$error":"#N/A"}},{"$f":"IF(Protokół!$DJ$3=1,O102,IF(Protokół!$DJ$3=2,W102,IF(Protokół!$DJ$3=3,AE102,IF(Protokół!$DJ$3=4,AM102,\"\"))))","v":{"$error":"#N/A"}},{"$f":"IF(Protokół!$DJ$3=1,P102,IF(Protokół!$DJ$3=2,X102,IF(Protokół!$DJ$3=3,AF102,IF(Protokół!$DJ$3=4,AN102,\"\"))))","v":"00:00:00"},null,null,null,null,null,null,null,null,3101,"2021-05-29","Świdwinie",4,3,"MSZS Świdwin","UKS Team Tenis 2005 Białogard",null,null,null,null,null,null,null,null,null,null,null,{"$error":"#N/A"},null,null,{"$error":"#N/A"},{"$error":"#N/A"}]
[{"$f":"IF(Protokół!$DJ$3=1,I103,IF(Protokół!$DJ$3=2,Q103,IF(Protokół!$DJ$3=3,Y103,IF(Protokół!$DJ$3=4,AG103,\"\"))))","v":0},{"$f":"IF(Protokół!$DJ$3=1,J103,IF(Protokół!$DJ$3=2,R103,IF(Protokół!$DJ$3=3,Z103,IF(Protokół!$DJ$3=4,AH103,\"\"))))","v":"00:00:00"},{"$f":"IF(Protokół!$DJ$3=1,K103,IF(Protokół!$DJ$3=2,S103,IF(Protokół!$DJ$3=3,AA103,IF(Protokół!$DJ$3=4,AI103,\"\"))))","v":{"$error":"#N/A"}},{"$f":"IF(Protokół!$DJ$3=1,L103,IF(Protokół!$DJ$3=2,T103,IF(Protokół!$DJ$3=3,AB103,IF(Protokół!$DJ$3=4,AJ103,\"\"))))","v":0},{"$f":"IF(Protokół!$DJ$3=1,M103,IF(Protokół!$DJ$3=2,U103,IF(Protokół!$DJ$3=3,AC103,IF(Protokół!$DJ$3=4,AK103,\"\"))))","v":0},{"$f":"IF(Protokół!$DJ$3=1,N103,IF(Protokół!$DJ$3=2,V103,IF(Protokół!$DJ$3=3,AD103,IF(Protokół!$DJ$3=4,AL103,\"\"))))","v":{"$error":"#N/A"}},{"$f":"IF(Protokół!$DJ$3=1,O103,IF(Protokół!$DJ$3=2,W103,IF(Protokół!$DJ$3=3,AE103,IF(Protokół!$DJ$3=4,AM103,\"\"))))","v":{"$error":"#N/A"}},{"$f":"IF(Protokół!$DJ$3=1,P103,IF(Protokół!$DJ$3=2,X103,IF(Protokół!$DJ$3=3,AF103,IF(Protokół!$DJ$3=4,AN103,\"\"))))","v":"00:00:00"},null,null,null,null,null,null,null,null,3102,"2021-05-29","Stargardzie",2,7,"II KS ATS Stargard","UKS-T VICTORIA Chojna",null,null,null,null,null,null,null,null,null,null,null,{"$error":"#N/A"},null,null,{"$error":"#N/A"},{"$error":"#N/A"}]
[{"$f":"IF(Protokół!$DJ$3=1,I104,IF(Protokół!$DJ$3=2,Q104,IF(Protokół!$DJ$3=3,Y104,IF(Protokół!$DJ$3=4,AG104,\"\"))))","v":0},{"$f":"IF(Protokół!$DJ$3=1,J104,IF(Protokół!$DJ$3=2,R104,IF(Protokół!$DJ$3=3,Z104,IF(Protokół!$DJ$3=4,AH104,\"\"))))","v":"00:00:00"},{"$f":"IF(Protokół!$DJ$3=1,K104,IF(Protokół!$DJ$3=2,S104,IF(Protokół!$DJ$3=3,AA104,IF(Protokół!$DJ$3=4,AI104,\"\"))))","v":{"$error":"#N/A"}},{"$f":"IF(Protokół!$DJ$3=1,L104,IF(Protokół!$DJ$3=2,T104,IF(Protokół!$DJ$3=3,AB104,IF(Protokół!$DJ$3=4,AJ104,\"\"))))","v":0},{"$f":"IF(Protokół!$DJ$3=1,M104,IF(Protokół!$DJ$3=2,U104,IF(Protokół!$DJ$3=3,AC104,IF(Protokół!$DJ$3=4,AK104,\"\"))))","v":0},{"$f":"IF(Protokół!$DJ$3=1,N104,IF(Protokół!$DJ$3=2,V104,IF(Protokół!$DJ$3=3,AD104,IF(Protokół!$DJ$3=4,AL104,\"\"))))","v":{"$error":"#N/A"}},{"$f":"IF(Protokół!$DJ$3=1,O104,IF(Protokół!$DJ$3=2,W104,IF(Protokół!$DJ$3=3,AE104,IF(Protokół!$DJ$3=4,AM104,\"\"))))","v":{"$error":"#N/A"}},{"$f":"IF(Protokół!$DJ$3=1,P104,IF(Protokół!$DJ$3=2,X104,IF(Protokół!$DJ$3=3,AF104,IF(Protokół!$DJ$3=4,AN104,\"\"))))","v":"00:00:00"},null,null,null,null,null,null,null,null,3103,"2021-05-29","Koszalinie",13,6,"I KTS Koszalinianin Koszalin","KKTS Kołobrzeg",null,null,null,null,null,null,null,null,null,null,null,{"$error":"#N/A"},null,null,{"$error":"#N/A"},{"$error":"#N/A"}]
[{"$f":"IF(Protokół!$DJ$3=1,I105,IF(Protokół!$DJ$3=2,Q105,IF(Protokół!$DJ$3=3,Y105,IF(Protokół!$DJ$3=4,AG105,\"\"))))","v":0},{"$f":"IF(Protokół!$DJ$3=1,J105,IF(Protokół!$DJ$3=2,R105,IF(Protokół!$DJ$3=3,Z105,IF(Protokół!$DJ$3=4,AH105,\"\"))))","v":"00:00:00"},{"$f":"IF(Protokół!$DJ$3=1,K105,IF(Protokół!$DJ$3=2,S105,IF(Protokół!$DJ$3=3,AA105,IF(Protokół!$DJ$3=4,AI105,\"\"))))","v":{"$error":"#N/A"}},{"$f":"IF(Protokół!$DJ$3=1,L105,IF(Protokół!$DJ$3=2,T105,IF(Protokół!$DJ$3=3,AB105,IF(Protokół!$DJ$3=4,AJ105,\"\"))))","v":0},{"$f":"IF(Protokół!$DJ$3=1,M105,IF(Protokół!$DJ$3=2,U105,IF(Protokół!$DJ$3=3,AC105,IF(Protokół!$DJ$3=4,AK105,\"\"))))","v":0},{"$f":"IF(Protokół!$DJ$3=1,N105,IF(Protokół!$DJ$3=2,V105,IF(Protokół!$DJ$3=3,AD105,IF(Protokół!$DJ$3=4,AL105,\"\"))))","v":{"$error":"#N/A"}},{"$f":"IF(Protokół!$DJ$3=1,O105,IF(Protokół!$DJ$3=2,W105,IF(Protokół!$DJ$3=3,AE105,IF(Protokół!$DJ$3=4,AM105,\"\"))))","v":{"$error":"#N/A"}},{"$f":"IF(Protokół!$DJ$3=1,P105,IF(Protokół!$DJ$3=2,X105,IF(Protokół!$DJ$3=3,AF105,IF(Protokół!$DJ$3=4,AN105,\"\"))))","v":"00:00:00"},null,null,null,null,null,null,null,null,3104,"2021-05-29","Koszalinie",14,5,"II KTS Koszalinianin Koszalin","UKS Czarni Pieszcz",null,null,null,null,null,null,null,null,null,null,null,{"$error":"#N/A"},null,null,{"$error":"#N/A"},{"$error":"#N/A"}]
[{"$f":"IF(Protokół!$DJ$3=1,I106,IF(Protokół!$DJ$3=2,Q106,IF(Protokół!$DJ$3=3,Y106,IF(Protokół!$DJ$3=4,AG106,\"\"))))","v":0},{"$f":"IF(Protokół!$DJ$3=1,J106,IF(Protokół!$DJ$3=2,R106,IF(Protokół!$DJ$3=3,Z106,IF(Protokół!$DJ$3=4,AH106,\"\"))))","v":"00:00:00"},{"$f":"IF(Protokół!$DJ$3=1,K106,IF(Protokół!$DJ$3=2,S106,IF(Protokół!$DJ$3=3,AA106,IF(Protokół!$DJ$3=4,AI106,\"\"))))","v":{"$error":"#N/A"}},{"$f":"IF(Protokół!$DJ$3=1,L106,IF(Protokół!$DJ$3=2,T106,IF(Protokół!$DJ$3=3,AB106,IF(Protokół!$DJ$3=4,AJ106,\"\"))))","v":0},{"$f":"IF(Protokół!$DJ$3=1,M106,IF(Protokół!$DJ$3=2,U106,IF(Protokół!$DJ$3=3,AC106,IF(Protokół!$DJ$3=4,AK106,\"\"))))","v":0},{"$f":"IF(Protokół!$DJ$3=1,N106,IF(Protokół!$DJ$3=2,V106,IF(Protokół!$DJ$3=3,AD106,IF(Protokół!$DJ$3=4,AL106,\"\"))))","v":{"$error":"#N/A"}},{"$f":"IF(Protokół!$DJ$3=1,O106,IF(Protokół!$DJ$3=2,W106,IF(Protokół!$DJ$3=3,AE106,IF(Protokół!$DJ$3=4,AM106,\"\"))))","v":{"$error":"#N/A"}},{"$f":"IF(Protokół!$DJ$3=1,P106,IF(Protokół!$DJ$3=2,X106,IF(Protokół!$DJ$3=3,AF106,IF(Protokół!$DJ$3=4,AN106,\"\"))))","v":"00:00:00"},null,null,{"$f":"VLOOKUP(L106,$I$166:$M$173,5,FALSE)","v":{"$error":"#N/A"}},null,null,{"$f":"VLOOKUP(L106,$I$166:$M$173,2,FALSE)","v":{"$error":"#N/A"}},{"$f":"VLOOKUP(M106,$I$166:$M$173,2,FALSE)","v":{"$error":"#N/A"}},null,3105,"2021-05-29","Policach",12,10,"II UKS Champion Police","LUKS Fala Trzebiatów",null,null,null,null,null,null,null,null,null,null,null,{"$error":"#N/A"},null,null,{"$error":"#N/A"},{"$error":"#N/A"}]
[{"$f":"IF(Protokół!$DJ$3=1,I107,IF(Protokół!$DJ$3=2,Q107,IF(Protokół!$DJ$3=3,Y107,IF(Protokół!$DJ$3=4,AG107,\"\"))))","v":0},{"$f":"IF(Protokół!$DJ$3=1,J107,IF(Protokół!$DJ$3=2,R107,IF(Protokół!$DJ$3=3,Z107,IF(Protokół!$DJ$3=4,AH107,\"\"))))","v":"00:00:00"},{"$f":"IF(Protokół!$DJ$3=1,K107,IF(Protokół!$DJ$3=2,S107,IF(Protokół!$DJ$3=3,AA107,IF(Protokół!$DJ$3=4,AI107,\"\"))))","v":{"$error":"#N/A"}},{"$f":"IF(Protokół!$DJ$3=1,L107,IF(Protokół!$DJ$3=2,T107,IF(Protokół!$DJ$3=3,AB107,IF(Protokół!$DJ$3=4,AJ107,\"\"))))","v":0},{"$f":"IF(Protokół!$DJ$3=1,M107,IF(Protokół!$DJ$3=2,U107,IF(Protokół!$DJ$3=3,AC107,IF(Protokół!$DJ$3=4,AK107,\"\"))))","v":0},{"$f":"IF(Protokół!$DJ$3=1,N107,IF(Protokół!$DJ$3=2,V107,IF(Protokół!$DJ$3=3,AD107,IF(Protokół!$DJ$3=4,AL107,\"\"))))","v":{"$error":"#N/A"}},{"$f":"IF(Protokół!$DJ$3=1,O107,IF(Protokół!$DJ$3=2,W107,IF(Protokół!$DJ$3=3,AE107,IF(Protokół!$DJ$3=4,AM107,\"\"))))","v":{"$error":"#N/A"}},{"$f":"IF(Protokół!$DJ$3=1,P107,IF(Protokół!$DJ$3=2,X107,IF(Protokół!$DJ$3=3,AF107,IF(Protokół!$DJ$3=4,AN107,\"\"))))","v":"00:00:00"},null,null,{"$error":"#N/A"},null,null,{"$error":"#N/A"},{"$error":"#N/A"},null,3106,"2021-05-29","Szczecinie-Zdunowie",11,9,"Trzynastka Szczecin","LUKS Gryfice",null,null,null,null,null,null,null,null,null,null,null,{"$error":"#N/A"},null,null,{"$error":"#N/A"},{"$error":"#N/A"}]
[{"$f":"IF(Protokół!$DJ$3=1,I108,IF(Protokół!$DJ$3=2,Q108,IF(Protokół!$DJ$3=3,Y108,IF(Protokół!$DJ$3=4,AG108,\"\"))))","v":0},{"$f":"IF(Protokół!$DJ$3=1,J108,IF(Protokół!$DJ$3=2,R108,IF(Protokół!$DJ$3=3,Z108,IF(Protokół!$DJ$3=4,AH108,\"\"))))","v":"00:00:00"},{"$f":"IF(Protokół!$DJ$3=1,K108,IF(Protokół!$DJ$3=2,S108,IF(Protokół!$DJ$3=3,AA108,IF(Protokół!$DJ$3=4,AI108,\"\"))))","v":{"$error":"#N/A"}},{"$f":"IF(Protokół!$DJ$3=1,L108,IF(Protokół!$DJ$3=2,T108,IF(Protokół!$DJ$3=3,AB108,IF(Protokół!$DJ$3=4,AJ108,\"\"))))","v":0},{"$f":"IF(Protokół!$DJ$3=1,M108,IF(Protokół!$DJ$3=2,U108,IF(Protokół!$DJ$3=3,AC108,IF(Protokół!$DJ$3=4,AK108,\"\"))))","v":0},{"$f":"IF(Protokół!$DJ$3=1,N108,IF(Protokół!$DJ$3=2,V108,IF(Protokół!$DJ$3=3,AD108,IF(Protokół!$DJ$3=4,AL108,\"\"))))","v":{"$error":"#N/A"}},{"$f":"IF(Protokół!$DJ$3=1,O108,IF(Protokół!$DJ$3=2,W108,IF(Protokół!$DJ$3=3,AE108,IF(Protokół!$DJ$3=4,AM108,\"\"))))","v":{"$error":"#N/A"}},{"$f":"IF(Protokół!$DJ$3=1,P108,IF(Protokół!$DJ$3=2,X108,IF(Protokół!$DJ$3=3,AF108,IF(Protokół!$DJ$3=4,AN108,\"\"))))","v":"00:00:00"},null,null,{"$error":"#N/A"},null,null,{"$error":"#N/A"},{"$error":"#N/A"},null,3107,"2021-05-29","Wierzbięcinie",1,7,"II Visonex LUKS Top Wierzbięcin","UKS-T VICTORIA Chojna",null,null,null,null,null,null,null,null,null,null,null,{"$error":"#N/A"},null,null,{"$error":"#N/A"},{"$error":"#N/A"}]
[{"$f":"IF(Protokół!$DJ$3=1,I109,IF(Protokół!$DJ$3=2,Q109,IF(Protokół!$DJ$3=3,Y109,IF(Protokół!$DJ$3=4,AG109,\"\"))))","v":0},{"$f":"IF(Protokół!$DJ$3=1,J109,IF(Protokół!$DJ$3=2,R109,IF(Protokół!$DJ$3=3,Z109,IF(Protokół!$DJ$3=4,AH109,\"\"))))","v":"00:00:00"},{"$f":"IF(Protokół!$DJ$3=1,K109,IF(Protokół!$DJ$3=2,S109,IF(Protokół!$DJ$3=3,AA109,IF(Protokół!$DJ$3=4,AI109,\"\"))))","v":{"$error":"#N/A"}},{"$f":"IF(Protokół!$DJ$3=1,L109,IF(Protokół!$DJ$3=2,T109,IF(Protokół!$DJ$3=3,AB109,IF(Protokół!$DJ$3=4,AJ109,\"\"))))","v":0},{"$f":"IF(Protokół!$DJ$3=1,M109,IF(Protokół!$DJ$3=2,U109,IF(Protokół!$DJ$3=3,AC109,IF(Protokół!$DJ$3=4,AK109,\"\"))))","v":0},{"$f":"IF(Protokół!$DJ$3=1,N109,IF(Protokół!$DJ$3=2,V109,IF(Protokół!$DJ$3=3,AD109,IF(Protokół!$DJ$3=4,AL109,\"\"))))","v":{"$error":"#N/A"}},{"$f":"IF(Protokół!$DJ$3=1,O109,IF(Protokół!$DJ$3=2,W109,IF(Protokół!$DJ$3=3,AE109,IF(Protokół!$DJ$3=4,AM109,\"\"))))","v":{"$error":"#N/A"}},{"$f":"IF(Protokół!$DJ$3=1,P109,IF(Protokół!$DJ$3=2,X109,IF(Protokół!$DJ$3=3,AF109,IF(Protokół!$DJ$3=4,AN109,\"\"))))","v":"00:00:00"},null,null,{"$error":"#N/A"},null,null,{"$error":"#N/A"},{"$error":"#N/A"},null,3108,"2021-05-29","Koszalinie",13,5,"I KTS Koszalinianin Koszalin","UKS Czarni Pieszcz",null,null,null,null,null,null,null,null,null,null,null,{"$error":"#N/A"},null,null,{"$error":"#N/A"},{"$error":"#N/A"}]
[{"$f":"IF(Protokół!$DJ$3=1,I110,IF(Protokół!$DJ$3=2,Q110,IF(Protokół!$DJ$3=3,Y110,IF(Protokół!$DJ$3=4,AG110,\"\"))))","v":0},{"$f":"IF(Protokół!$DJ$3=1,J110,IF(Protokół!$DJ$3=2,R110,IF(Protokół!$DJ$3=3,Z110,IF(Protokół!$DJ$3=4,AH110,\"\"))))","v":"00:00:00"},{"$f":"IF(Protokół!$DJ$3=1,K110,IF(Protokół!$DJ$3=2,S110,IF(Protokół!$DJ$3=3,AA110,IF(Protokół!$DJ$3=4,AI110,\"\"))))","v":{"$error":"#N/A"}},{"$f":"IF(Protokół!$DJ$3=1,L110,IF(Protokół!$DJ$3=2,T110,IF(Protokół!$DJ$3=3,AB110,IF(Protokół!$DJ$3=4,AJ110,\"\"))))","v":0},{"$f":"IF(Protokół!$DJ$3=1,M110,IF(Protokół!$DJ$3=2,U110,IF(Protokół!$DJ$3=3,AC110,IF(Protokół!$DJ$3=4,AK110,\"\"))))","v":0},{"$f":"IF(Protokół!$DJ$3=1,N110,IF(Protokół!$DJ$3=2,V110,IF(Protokół!$DJ$3=3,AD110,IF(Protokół!$DJ$3=4,AL110,\"\"))))","v":{"$error":"#N/A"}},{"$f":"IF(Protokół!$DJ$3=1,O110,IF(Protokół!$DJ$3=2,W110,IF(Protokół!$DJ$3=3,AE110,IF(Protokół!$DJ$3=4,AM110,\"\"))))","v":{"$error":"#N/A"}},{"$f":"IF(Protokół!$DJ$3=1,P110,IF(Protokół!$DJ$3=2,X110,IF(Protokół!$DJ$3=3,AF110,IF(Protokół!$DJ$3=4,AN110,\"\"))))","v":"00:00:00"},null,null,{"$error":"#N/A"},null,null,{"$error":"#N/A"},{"$error":"#N/A"},null,3109,"2021-05-29","Koszalinie",14,6,"II KTS Koszalinianin Koszalin","KKTS Kołobrzeg",null,null,null,null,null,null,null,null,null,null,null,{"$error":"#N/A"},null,null,{"$error":"#N/A"},{"$error":"#N/A"},null,{"$f":"SUM(AJ110:AK121)","v":0}]
[{"$f":"IF(Protokół!$DJ$3=1,I111,IF(Protokół!$DJ$3=2,Q111,IF(Protokół!$DJ$3=3,Y111,IF(Protokół!$DJ$3=4,AG111,\"\"))))","v":0},{"$f":"IF(Protokół!$DJ$3=1,J111,IF(Protokół!$DJ$3=2,R111,IF(Protokół!$DJ$3=3,Z111,IF(Protokół!$DJ$3=4,AH111,\"\"))))","v":"00:00:00"},{"$f":"IF(Protokół!$DJ$3=1,K111,IF(Protokół!$DJ$3=2,S111,IF(Protokół!$DJ$3=3,AA111,IF(Protokół!$DJ$3=4,AI111,\"\"))))","v":{"$error":"#N/A"}},{"$f":"IF(Protokół!$DJ$3=1,L111,IF(Protokół!$DJ$3=2,T111,IF(Protokół!$DJ$3=3,AB111,IF(Protokół!$DJ$3=4,AJ111,\"\"))))","v":0},{"$f":"IF(Protokół!$DJ$3=1,M111,IF(Protokół!$DJ$3=2,U111,IF(Protokół!$DJ$3=3,AC111,IF(Protokół!$DJ$3=4,AK111,\"\"))))","v":0},{"$f":"IF(Protokół!$DJ$3=1,N111,IF(Protokół!$DJ$3=2,V111,IF(Protokół!$DJ$3=3,AD111,IF(Protokół!$DJ$3=4,AL111,\"\"))))","v":{"$error":"#N/A"}},{"$f":"IF(Protokół!$DJ$3=1,O111,IF(Protokół!$DJ$3=2,W111,IF(Protokół!$DJ$3=3,AE111,IF(Protokół!$DJ$3=4,AM111,\"\"))))","v":{"$error":"#N/A"}},{"$f":"IF(Protokół!$DJ$3=1,P111,IF(Protokół!$DJ$3=2,X111,IF(Protokół!$DJ$3=3,AF111,IF(Protokół!$DJ$3=4,AN111,\"\"))))","v":"00:00:00"},null,null,{"$error":"#N/A"},null,null,{"$error":"#N/A"},{"$error":"#N/A"},null,3110,"2021-05-29","Policach",12,9,"II UKS Champion Police","LUKS Gryfice",null,null,null,null,null,null,null,null,null,null,null,{"$error":"#N/A"},null,null,{"$error":"#N/A"},{"$error":"#N/A"}]
[{"$f":"IF(Protokół!$DJ$3=1,I112,IF(Protokół!$DJ$3=2,Q112,IF(Protokół!$DJ$3=3,Y112,IF(Protokół!$DJ$3=4,AG112,\"\"))))","v":0},{"$f":"IF(Protokół!$DJ$3=1,J112,IF(Protokół!$DJ$3=2,R112,IF(Protokół!$DJ$3=3,Z112,IF(Protokół!$DJ$3=4,AH112,\"\"))))","v":"00:00:00"},{"$f":"IF(Protokół!$DJ$3=1,K112,IF(Protokół!$DJ$3=2,S112,IF(Protokół!$DJ$3=3,AA112,IF(Protokół!$DJ$3=4,AI112,\"\"))))","v":{"$error":"#N/A"}},{"$f":"IF(Protokół!$DJ$3=1,L112,IF(Protokół!$DJ$3=2,T112,IF(Protokół!$DJ$3=3,AB112,IF(Protokół!$DJ$3=4,AJ112,\"\"))))","v":0},{"$f":"IF(Protokół!$DJ$3=1,M112,IF(Protokół!$DJ$3=2,U112,IF(Protokół!$DJ$3=3,AC112,IF(Protokół!$DJ$3=4,AK112,\"\"))))","v":0},{"$f":"IF(Protokół!$DJ$3=1,N112,IF(Protokół!$DJ$3=2,V112,IF(Protokół!$DJ$3=3,AD112,IF(Protokół!$DJ$3=4,AL112,\"\"))))","v":{"$error":"#N/A"}},{"$f":"IF(Protokół!$DJ$3=1,O112,IF(Protokół!$DJ$3=2,W112,IF(Protokół!$DJ$3=3,AE112,IF(Protokół!$DJ$3=4,AM112,\"\"))))","v":{"$error":"#N/A"}},{"$f":"IF(Protokół!$DJ$3=1,P112,IF(Protokół!$DJ$3=2,X112,IF(Protokół!$DJ$3=3,AF112,IF(Protokół!$DJ$3=4,AN112,\"\"))))","v":"00:00:00"},null,null,{"$error":"#N/A"},null,null,{"$error":"#N/A"},{"$error":"#N/A"},null,3111,"2021-05-29","Szczecinie-Zdunowie",11,10,"Trzynastka Szczecin","LUKS Fala Trzebiatów",null,null,null,null,null,null,null,null,null,null,null,{"$error":"#N/A"},null,null,{"$error":"#N/A"},{"$error":"#N/A"}]
[{"$f":"IF(Protokół!$DJ$3=1,I113,IF(Protokół!$DJ$3=2,Q113,IF(Protokół!$DJ$3=3,Y113,IF(Protokół!$DJ$3=4,AG113,\"\"))))","v":0},{"$f":"IF(Protokół!$DJ$3=1,J113,IF(Protokół!$DJ$3=2,R113,IF(Protokół!$DJ$3=3,Z113,IF(Protokół!$DJ$3=4,AH113,\"\"))))","v":"00:00:00"},{"$f":"IF(Protokół!$DJ$3=1,K113,IF(Protokół!$DJ$3=2,S113,IF(Protokół!$DJ$3=3,AA113,IF(Protokół!$DJ$3=4,AI113,\"\"))))","v":{"$error":"#N/A"}},{"$f":"IF(Protokół!$DJ$3=1,L113,IF(Protokół!$DJ$3=2,T113,IF(Protokół!$DJ$3=3,AB113,IF(Protokół!$DJ$3=4,AJ113,\"\"))))","v":0},{"$f":"IF(Protokół!$DJ$3=1,M113,IF(Protokół!$DJ$3=2,U113,IF(Protokół!$DJ$3=3,AC113,IF(Protokół!$DJ$3=4,AK113,\"\"))))","v":0},{"$f":"IF(Protokół!$DJ$3=1,N113,IF(Protokół!$DJ$3=2,V113,IF(Protokół!$DJ$3=3,AD113,IF(Protokół!$DJ$3=4,AL113,\"\"))))","v":{"$error":"#N/A"}},{"$f":"IF(Protokół!$DJ$3=1,O113,IF(Protokół!$DJ$3=2,W113,IF(Protokół!$DJ$3=3,AE113,IF(Protokół!$DJ$3=4,AM113,\"\"))))","v":{"$error":"#N/A"}},{"$f":"IF(Protokół!$DJ$3=1,P113,IF(Protokół!$DJ$3=2,X113,IF(Protokół!$DJ$3=3,AF113,IF(Protokół!$DJ$3=4,AN113,\"\"))))","v":"00:00:00"},null,null,{"$error":"#N/A"},null,null,{"$error":"#N/A"},{"$error":"#N/A"},null,3112,"2021-06-05","Szczecinie-Zdunowie",11,12,"Trzynastka Szczecin","II UKS Champion Police",null,null,null,null,null,null,null,null,null,null,null,{"$error":"#N/A"},null,null,{"$error":"#N/A"},{"$error":"#N/A"}]
[{"$f":"IF(Protokół!$DJ$3=1,I114,IF(Protokół!$DJ$3=2,Q114,IF(Protokół!$DJ$3=3,Y114,IF(Protokół!$DJ$3=4,AG114,\"\"))))","v":0},{"$f":"IF(Protokół!$DJ$3=1,J114,IF(Protokół!$DJ$3=2,R114,IF(Protokół!$DJ$3=3,Z114,IF(Protokół!$DJ$3=4,AH114,\"\"))))","v":"00:00:00"},{"$f":"IF(Protokół!$DJ$3=1,K114,IF(Protokół!$DJ$3=2,S114,IF(Protokół!$DJ$3=3,AA114,IF(Protokół!$DJ$3=4,AI114,\"\"))))","v":{"$error":"#N/A"}},{"$f":"IF(Protokół!$DJ$3=1,L114,IF(Protokół!$DJ$3=2,T114,IF(Protokół!$DJ$3=3,AB114,IF(Protokół!$DJ$3=4,AJ114,\"\"))))","v":0},{"$f":"IF(Protokół!$DJ$3=1,M114,IF(Protokół!$DJ$3=2,U114,IF(Protokół!$DJ$3=3,AC114,IF(Protokół!$DJ$3=4,AK114,\"\"))))","v":0},{"$f":"IF(Protokół!$DJ$3=1,N114,IF(Protokół!$DJ$3=2,V114,IF(Protokół!$DJ$3=3,AD114,IF(Protokół!$DJ$3=4,AL114,\"\"))))","v":{"$error":"#N/A"}},{"$f":"IF(Protokół!$DJ$3=1,O114,IF(Protokół!$DJ$3=2,W114,IF(Protokół!$DJ$3=3,AE114,IF(Protokół!$DJ$3=4,AM114,\"\"))))","v":{"$error":"#N/A"}},{"$f":"IF(Protokół!$DJ$3=1,P114,IF(Protokół!$DJ$3=2,X114,IF(Protokół!$DJ$3=3,AF114,IF(Protokół!$DJ$3=4,AN114,\"\"))))","v":"00:00:00"},null,null,null,null,null,null,null,null,3113,"2021-06-05","Gryficach",9,14,"LUKS Gryfice","II KTS Koszalinianin Koszalin",null,null,null,null,null,null,null,null,null,null,null,{"$error":"#N/A"},null,null,{"$error":"#N/A"},{"$error":"#N/A"}]
[{"$f":"IF(Protokół!$DJ$3=1,I115,IF(Protokół!$DJ$3=2,Q115,IF(Protokół!$DJ$3=3,Y115,IF(Protokół!$DJ$3=4,AG115,\"\"))))","v":0},{"$f":"IF(Protokół!$DJ$3=1,J115,IF(Protokół!$DJ$3=2,R115,IF(Protokół!$DJ$3=3,Z115,IF(Protokół!$DJ$3=4,AH115,\"\"))))","v":"00:00:00"},{"$f":"IF(Protokół!$DJ$3=1,K115,IF(Protokół!$DJ$3=2,S115,IF(Protokół!$DJ$3=3,AA115,IF(Protokół!$DJ$3=4,AI115,\"\"))))","v":{"$error":"#N/A"}},{"$f":"IF(Protokół!$DJ$3=1,L115,IF(Protokół!$DJ$3=2,T115,IF(Protokół!$DJ$3=3,AB115,IF(Protokół!$DJ$3=4,AJ115,\"\"))))","v":0},{"$f":"IF(Protokół!$DJ$3=1,M115,IF(Protokół!$DJ$3=2,U115,IF(Protokół!$DJ$3=3,AC115,IF(Protokół!$DJ$3=4,AK115,\"\"))))","v":0},{"$f":"IF(Protokół!$DJ$3=1,N115,IF(Protokół!$DJ$3=2,V115,IF(Protokół!$DJ$3=3,AD115,IF(Protokół!$DJ$3=4,AL115,\"\"))))","v":{"$error":"#N/A"}},{"$f":"IF(Protokół!$DJ$3=1,O115,IF(Protokół!$DJ$3=2,W115,IF(Protokół!$DJ$3=3,AE115,IF(Protokół!$DJ$3=4,AM115,\"\"))))","v":{"$error":"#N/A"}},{"$f":"IF(Protokół!$DJ$3=1,P115,IF(Protokół!$DJ$3=2,X115,IF(Protokół!$DJ$3=3,AF115,IF(Protokół!$DJ$3=4,AN115,\"\"))))","v":"00:00:00"},null,null,null,null,null,null,null,null,3114,"2021-06-05","Trzebiatowie",10,13,"LUKS Fala Trzebiatów","I KTS Koszalinianin Koszalin",null,null,null,null,null,null,null,null,null,null,null,{"$error":"#N/A"},null,null,{"$error":"#N/A"},{"$error":"#N/A"}]
[{"$f":"IF(Protokół!$DJ$3=1,I116,IF(Protokół!$DJ$3=2,Q116,IF(Protokół!$DJ$3=3,Y116,IF(Protokół!$DJ$3=4,AG116,\"\"))))","v":0},{"$f":"IF(Protokół!$DJ$3=1,J116,IF(Protokół!$DJ$3=2,R116,IF(Protokół!$DJ$3=3,Z116,IF(Protokół!$DJ$3=4,AH116,\"\"))))","v":"00:00:00"},{"$f":"IF(Protokół!$DJ$3=1,K116,IF(Protokół!$DJ$3=2,S116,IF(Protokół!$DJ$3=3,AA116,IF(Protokół!$DJ$3=4,AI116,\"\"))))","v":{"$error":"#N/A"}},{"$f":"IF(Protokół!$DJ$3=1,L116,IF(Protokół!$DJ$3=2,T116,IF(Protokół!$DJ$3=3,AB116,IF(Protokół!$DJ$3=4,AJ116,\"\"))))","v":0},{"$f":"IF(Protokół!$DJ$3=1,M116,IF(Protokół!$DJ$3=2,U116,IF(Protokół!$DJ$3=3,AC116,IF(Protokół!$DJ$3=4,AK116,\"\"))))","v":0},{"$f":"IF(Protokół!$DJ$3=1,N116,IF(Protokół!$DJ$3=2,V116,IF(Protokół!$DJ$3=3,AD116,IF(Protokół!$DJ$3=4,AL116,\"\"))))","v":{"$error":"#N/A"}},{"$f":"IF(Protokół!$DJ$3=1,O116,IF(Protokół!$DJ$3=2,W116,IF(Protokół!$DJ$3=3,AE116,IF(Protokół!$DJ$3=4,AM116,\"\"))))","v":{"$error":"#N/A"}},{"$f":"IF(Protokół!$DJ$3=1,P116,IF(Protokół!$DJ$3=2,X116,IF(Protokół!$DJ$3=3,AF116,IF(Protokół!$DJ$3=4,AN116,\"\"))))","v":"00:00:00"},null,null,null,null,null,null,null,null,3115,"2021-06-05","Pieszczu",5,2,"UKS Czarni Pieszcz","II KS ATS Stargard",null,null,null,null,null,null,null,null,null,null,null,{"$error":"#N/A"},null,null,{"$error":"#N/A"},{"$error":"#N/A"}]
[{"$f":"IF(Protokół!$DJ$3=1,I117,IF(Protokół!$DJ$3=2,Q117,IF(Protokół!$DJ$3=3,Y117,IF(Protokół!$DJ$3=4,AG117,\"\"))))","v":0},{"$f":"IF(Protokół!$DJ$3=1,J117,IF(Protokół!$DJ$3=2,R117,IF(Protokół!$DJ$3=3,Z117,IF(Protokół!$DJ$3=4,AH117,\"\"))))","v":"00:00:00"},{"$f":"IF(Protokół!$DJ$3=1,K117,IF(Protokół!$DJ$3=2,S117,IF(Protokół!$DJ$3=3,AA117,IF(Protokół!$DJ$3=4,AI117,\"\"))))","v":{"$error":"#N/A"}},{"$f":"IF(Protokół!$DJ$3=1,L117,IF(Protokół!$DJ$3=2,T117,IF(Protokół!$DJ$3=3,AB117,IF(Protokół!$DJ$3=4,AJ117,\"\"))))","v":0},{"$f":"IF(Protokół!$DJ$3=1,M117,IF(Protokół!$DJ$3=2,U117,IF(Protokół!$DJ$3=3,AC117,IF(Protokół!$DJ$3=4,AK117,\"\"))))","v":0},{"$f":"IF(Protokół!$DJ$3=1,N117,IF(Protokół!$DJ$3=2,V117,IF(Protokół!$DJ$3=3,AD117,IF(Protokół!$DJ$3=4,AL117,\"\"))))","v":{"$error":"#N/A"}},{"$f":"IF(Protokół!$DJ$3=1,O117,IF(Protokół!$DJ$3=2,W117,IF(Protokół!$DJ$3=3,AE117,IF(Protokół!$DJ$3=4,AM117,\"\"))))","v":{"$error":"#N/A"}},{"$f":"IF(Protokół!$DJ$3=1,P117,IF(Protokół!$DJ$3=2,X117,IF(Protokół!$DJ$3=3,AF117,IF(Protokół!$DJ$3=4,AN117,\"\"))))","v":"00:00:00"},null,null,null,null,null,null,null,null,3116,"2021-06-05","Kołobrzegu",6,1,"KKTS Kołobrzeg","II Visonex LUKS Top Wierzbięcin",null,null,null,null,null,null,null,null,null,null,null,{"$error":"#N/A"},null,null,{"$error":"#N/A"},{"$error":"#N/A"}]
[{"$f":"IF(Protokół!$DJ$3=1,I118,IF(Protokół!$DJ$3=2,Q118,IF(Protokół!$DJ$3=3,Y118,IF(Protokół!$DJ$3=4,AG118,\"\"))))","v":0},{"$f":"IF(Protokół!$DJ$3=1,J118,IF(Protokół!$DJ$3=2,R118,IF(Protokół!$DJ$3=3,Z118,IF(Protokół!$DJ$3=4,AH118,\"\"))))","v":"00:00:00"},{"$f":"IF(Protokół!$DJ$3=1,K118,IF(Protokół!$DJ$3=2,S118,IF(Protokół!$DJ$3=3,AA118,IF(Protokół!$DJ$3=4,AI118,\"\"))))","v":{"$error":"#N/A"}},{"$f":"IF(Protokół!$DJ$3=1,L118,IF(Protokół!$DJ$3=2,T118,IF(Protokół!$DJ$3=3,AB118,IF(Protokół!$DJ$3=4,AJ118,\"\"))))","v":0},{"$f":"IF(Protokół!$DJ$3=1,M118,IF(Protokół!$DJ$3=2,U118,IF(Protokół!$DJ$3=3,AC118,IF(Protokół!$DJ$3=4,AK118,\"\"))))","v":0},{"$f":"IF(Protokół!$DJ$3=1,N118,IF(Protokół!$DJ$3=2,V118,IF(Protokół!$DJ$3=3,AD118,IF(Protokół!$DJ$3=4,AL118,\"\"))))","v":{"$error":"#N/A"}},{"$f":"IF(Protokół!$DJ$3=1,O118,IF(Protokół!$DJ$3=2,W118,IF(Protokół!$DJ$3=3,AE118,IF(Protokół!$DJ$3=4,AM118,\"\"))))","v":{"$error":"#N/A"}},{"$f":"IF(Protokół!$DJ$3=1,P118,IF(Protokół!$DJ$3=2,X118,IF(Protokół!$DJ$3=3,AF118,IF(Protokół!$DJ$3=4,AN118,\"\"))))","v":"00:00:00"},null,null,null,null,null,null,null,null,3117,"2021-06-05","Chojnie",7,4,"UKS-T VICTORIA Chojna","MSZS Świdwin",null,null,null,null,null,null,null,null,null,null,null,{"$error":"#N/A"},null,null,{"$error":"#N/A"},{"$error":"#N/A"}]
[{"$f":"IF(Protokół!$DJ$3=1,I119,IF(Protokół!$DJ$3=2,Q119,IF(Protokół!$DJ$3=3,Y119,IF(Protokół!$DJ$3=4,AG119,\"\"))))","v":0},{"$f":"IF(Protokół!$DJ$3=1,J119,IF(Protokół!$DJ$3=2,R119,IF(Protokół!$DJ$3=3,Z119,IF(Protokół!$DJ$3=4,AH119,\"\"))))","v":"00:00:00"},{"$f":"IF(Protokół!$DJ$3=1,K119,IF(Protokół!$DJ$3=2,S119,IF(Protokół!$DJ$3=3,AA119,IF(Protokół!$DJ$3=4,AI119,\"\"))))","v":{"$error":"#N/A"}},{"$f":"IF(Protokół!$DJ$3=1,L119,IF(Protokół!$DJ$3=2,T119,IF(Protokół!$DJ$3=3,AB119,IF(Protokół!$DJ$3=4,AJ119,\"\"))))","v":0},{"$f":"IF(Protokół!$DJ$3=1,M119,IF(Protokół!$DJ$3=2,U119,IF(Protokół!$DJ$3=3,AC119,IF(Protokół!$DJ$3=4,AK119,\"\"))))","v":0},{"$f":"IF(Protokół!$DJ$3=1,N119,IF(Protokół!$DJ$3=2,V119,IF(Protokół!$DJ$3=3,AD119,IF(Protokół!$DJ$3=4,AL119,\"\"))))","v":{"$error":"#N/A"}},{"$f":"IF(Protokół!$DJ$3=1,O119,IF(Protokół!$DJ$3=2,W119,IF(Protokół!$DJ$3=3,AE119,IF(Protokół!$DJ$3=4,AM119,\"\"))))","v":{"$error":"#N/A"}},{"$f":"IF(Protokół!$DJ$3=1,P119,IF(Protokół!$DJ$3=2,X119,IF(Protokół!$DJ$3=3,AF119,IF(Protokół!$DJ$3=4,AN119,\"\"))))","v":"00:00:00"},null,null,null,null,null,null,null,null,3118,"2021-06-05","Gryficach",9,13,"LUKS Gryfice","I KTS Koszalinianin Koszalin",null,null,null,null,null,null,null,null,null,null,null,{"$error":"#N/A"},null,null,{"$error":"#N/A"},{"$error":"#N/A"}]
[{"$f":"IF(Protokół!$DJ$3=1,I120,IF(Protokół!$DJ$3=2,Q120,IF(Protokół!$DJ$3=3,Y120,IF(Protokół!$DJ$3=4,AG120,\"\"))))","v":0},{"$f":"IF(Protokół!$DJ$3=1,J120,IF(Protokół!$DJ$3=2,R120,IF(Protokół!$DJ$3=3,Z120,IF(Protokół!$DJ$3=4,AH120,\"\"))))","v":"00:00:00"},{"$f":"IF(Protokół!$DJ$3=1,K120,IF(Protokół!$DJ$3=2,S120,IF(Protokół!$DJ$3=3,AA120,IF(Protokół!$DJ$3=4,AI120,\"\"))))","v":{"$error":"#N/A"}},{"$f":"IF(Protokół!$DJ$3=1,L120,IF(Protokół!$DJ$3=2,T120,IF(Protokół!$DJ$3=3,AB120,IF(Protokół!$DJ$3=4,AJ120,\"\"))))","v":0},{"$f":"IF(Protokół!$DJ$3=1,M120,IF(Protokół!$DJ$3=2,U120,IF(Protokół!$DJ$3=3,AC120,IF(Protokół!$DJ$3=4,AK120,\"\"))))","v":0},{"$f":"IF(Protokół!$DJ$3=1,N120,IF(Protokół!$DJ$3=2,V120,IF(Protokół!$DJ$3=3,AD120,IF(Protokół!$DJ$3=4,AL120,\"\"))))","v":{"$error":"#N/A"}},{"$f":"IF(Protokół!$DJ$3=1,O120,IF(Protokół!$DJ$3=2,W120,IF(Protokół!$DJ$3=3,AE120,IF(Protokół!$DJ$3=4,AM120,\"\"))))","v":{"$error":"#N/A"}},{"$f":"IF(Protokół!$DJ$3=1,P120,IF(Protokół!$DJ$3=2,X120,IF(Protokół!$DJ$3=3,AF120,IF(Protokół!$DJ$3=4,AN120,\"\"))))","v":"00:00:00"},null,null,null,null,null,null,null,null,3119,"2021-06-05","Trzebiatowie",10,14,"LUKS Fala Trzebiatów","II KTS Koszalinianin Koszalin",null,null,null,null,null,null,null,null,null,null,null,{"$error":"#N/A"},null,null,{"$error":"#N/A"},{"$error":"#N/A"}]
[{"$f":"IF(Protokół!$DJ$3=1,I121,IF(Protokół!$DJ$3=2,Q121,IF(Protokół!$DJ$3=3,Y121,IF(Protokół!$DJ$3=4,AG121,\"\"))))","v":0},{"$f":"IF(Protokół!$DJ$3=1,J121,IF(Protokół!$DJ$3=2,R121,IF(Protokół!$DJ$3=3,Z121,IF(Protokół!$DJ$3=4,AH121,\"\"))))","v":"00:00:00"},{"$f":"IF(Protokół!$DJ$3=1,K121,IF(Protokół!$DJ$3=2,S121,IF(Protokół!$DJ$3=3,AA121,IF(Protokół!$DJ$3=4,AI121,\"\"))))","v":{"$error":"#N/A"}},{"$f":"IF(Protokół!$DJ$3=1,L121,IF(Protokół!$DJ$3=2,T121,IF(Protokół!$DJ$3=3,AB121,IF(Protokół!$DJ$3=4,AJ121,\"\"))))","v":0},{"$f":"IF(Protokół!$DJ$3=1,M121,IF(Protokół!$DJ$3=2,U121,IF(Protokół!$DJ$3=3,AC121,IF(Protokół!$DJ$3=4,AK121,\"\"))))","v":0},{"$f":"IF(Protokół!$DJ$3=1,N121,IF(Protokół!$DJ$3=2,V121,IF(Protokół!$DJ$3=3,AD121,IF(Protokół!$DJ$3=4,AL121,\"\"))))","v":{"$error":"#N/A"}},{"$f":"IF(Protokół!$DJ$3=1,O121,IF(Protokół!$DJ$3=2,W121,IF(Protokół!$DJ$3=3,AE121,IF(Protokół!$DJ$3=4,AM121,\"\"))))","v":{"$error":"#N/A"}},{"$f":"IF(Protokół!$DJ$3=1,P121,IF(Protokół!$DJ$3=2,X121,IF(Protokół!$DJ$3=3,AF121,IF(Protokół!$DJ$3=4,AN121,\"\"))))","v":"00:00:00"},null,null,null,null,null,null,null,null,3120,"2021-06-05","Pieszczu",5,1,"UKS Czarni Pieszcz","II Visonex LUKS Top Wierzbięcin",null,null,null,null,null,null,null,null,null,null,null,{"$error":"#N/A"},null,null,{"$error":"#N/A"},{"$error":"#N/A"}]
[{"$f":"IF(Protokół!$DJ$3=1,I122,IF(Protokół!$DJ$3=2,Q122,IF(Protokół!$DJ$3=3,Y122,IF(Protokół!$DJ$3=4,AG122,\"\"))))","v":0},{"$f":"IF(Protokół!$DJ$3=1,J122,IF(Protokół!$DJ$3=2,R122,IF(Protokół!$DJ$3=3,Z122,IF(Protokół!$DJ$3=4,AH122,\"\"))))","v":"00:00:00"},{"$f":"IF(Protokół!$DJ$3=1,K122,IF(Protokół!$DJ$3=2,S122,IF(Protokół!$DJ$3=3,AA122,IF(Protokół!$DJ$3=4,AI122,\"\"))))","v":{"$error":"#N/A"}},{"$f":"IF(Protokół!$DJ$3=1,L122,IF(Protokół!$DJ$3=2,T122,IF(Protokół!$DJ$3=3,AB122,IF(Protokół!$DJ$3=4,AJ122,\"\"))))","v":0},{"$f":"IF(Protokół!$DJ$3=1,M122,IF(Protokół!$DJ$3=2,U122,IF(Protokół!$DJ$3=3,AC122,IF(Protokół!$DJ$3=4,AK122,\"\"))))","v":0},{"$f":"IF(Protokół!$DJ$3=1,N122,IF(Protokół!$DJ$3=2,V122,IF(Protokół!$DJ$3=3,AD122,IF(Protokół!$DJ$3=4,AL122,\"\"))))","v":{"$error":"#N/A"}},{"$f":"IF(Protokół!$DJ$3=1,O122,IF(Protokół!$DJ$3=2,W122,IF(Protokół!$DJ$3=3,AE122,IF(Protokół!$DJ$3=4,AM122,\"\"))))","v":{"$error":"#N/A"}},{"$f":"IF(Protokół!$DJ$3=1,P122,IF(Protokół!$DJ$3=2,X122,IF(Protokół!$DJ$3=3,AF122,IF(Protokół!$DJ$3=4,AN122,\"\"))))","v":"00:00:00"},null,null,{"$f":"VLOOKUP(L122,$I$166:$M$173,5,FALSE)","v":{"$error":"#N/A"}},null,null,{"$f":"VLOOKUP(L122,$I$166:$M$173,2,FALSE)","v":{"$error":"#N/A"}},{"$f":"VLOOKUP(M122,$I$166:$M$173,2,FALSE)","v":{"$error":"#N/A"}},null,3121,"2021-06-05","Kołobrzegu",6,2,"KKTS Kołobrzeg","II KS ATS Stargard",null,null,null,null,null,null,null,null,null,null,null,{"$error":"#N/A"},null,null,{"$error":"#N/A"},{"$error":"#N/A"}]
[{"$f":"IF(Protokół!$DJ$3=1,I123,IF(Protokół!$DJ$3=2,Q123,IF(Protokół!$DJ$3=3,Y123,IF(Protokół!$DJ$3=4,AG123,\"\"))))","v":0},{"$f":"IF(Protokół!$DJ$3=1,J123,IF(Protokół!$DJ$3=2,R123,IF(Protokół!$DJ$3=3,Z123,IF(Protokół!$DJ$3=4,AH123,\"\"))))","v":"00:00:00"},{"$f":"IF(Protokół!$DJ$3=1,K123,IF(Protokół!$DJ$3=2,S123,IF(Protokół!$DJ$3=3,AA123,IF(Protokół!$DJ$3=4,AI123,\"\"))))","v":{"$error":"#N/A"}},{"$f":"IF(Protokół!$DJ$3=1,L123,IF(Protokół!$DJ$3=2,T123,IF(Protokół!$DJ$3=3,AB123,IF(Protokół!$DJ$3=4,AJ123,\"\"))))","v":0},{"$f":"IF(Protokół!$DJ$3=1,M123,IF(Protokół!$DJ$3=2,U123,IF(Protokół!$DJ$3=3,AC123,IF(Protokół!$DJ$3=4,AK123,\"\"))))","v":0},{"$f":"IF(Protokół!$DJ$3=1,N123,IF(Protokół!$DJ$3=2,V123,IF(Protokół!$DJ$3=3,AD123,IF(Protokół!$DJ$3=4,AL123,\"\"))))","v":{"$error":"#N/A"}},{"$f":"IF(Protokół!$DJ$3=1,O123,IF(Protokół!$DJ$3=2,W123,IF(Protokół!$DJ$3=3,AE123,IF(Protokół!$DJ$3=4,AM123,\"\"))))","v":{"$error":"#N/A"}},{"$f":"IF(Protokół!$DJ$3=1,P123,IF(Protokół!$DJ$3=2,X123,IF(Protokół!$DJ$3=3,AF123,IF(Protokół!$DJ$3=4,AN123,\"\"))))","v":"00:00:00"},null,null,{"$f":"VLOOKUP(L123,$I$166:$M$173,5,FALSE)","v":{"$error":"#N/A"}},null,null,{"$f":"VLOOKUP(L123,$I$166:$M$173,2,FALSE)","v":{"$error":"#N/A"}},{"$f":"VLOOKUP(M123,$I$166:$M$173,2,FALSE)","v":{"$error":"#N/A"}},null,3122,"2021-06-05","Chojnie",7,3,"UKS-T VICTORIA Chojna","UKS Team Tenis 2005 Białogard",null,null,null,null,null,null,null,null,null,null,null,{"$error":"#N/A"},null,null,{"$error":"#N/A"},{"$error":"#N/A"}]
[{"$f":"IF(Protokół!$DJ$3=1,I124,IF(Protokół!$DJ$3=2,Q124,IF(Protokół!$DJ$3=3,Y124,IF(Protokół!$DJ$3=4,AG124,\"\"))))","v":0},{"$f":"IF(Protokół!$DJ$3=1,J124,IF(Protokół!$DJ$3=2,R124,IF(Protokół!$DJ$3=3,Z124,IF(Protokół!$DJ$3=4,AH124,\"\"))))","v":"00:00:00"},{"$f":"IF(Protokół!$DJ$3=1,K124,IF(Protokół!$DJ$3=2,S124,IF(Protokół!$DJ$3=3,AA124,IF(Protokół!$DJ$3=4,AI124,\"\"))))","v":{"$error":"#N/A"}},{"$f":"IF(Protokół!$DJ$3=1,L124,IF(Protokół!$DJ$3=2,T124,IF(Protokół!$DJ$3=3,AB124,IF(Protokół!$DJ$3=4,AJ124,\"\"))))","v":0},{"$f":"IF(Protokół!$DJ$3=1,M124,IF(Protokół!$DJ$3=2,U124,IF(Protokół!$DJ$3=3,AC124,IF(Protokół!$DJ$3=4,AK124,\"\"))))","v":0},{"$f":"IF(Protokół!$DJ$3=1,N124,IF(Protokół!$DJ$3=2,V124,IF(Protokół!$DJ$3=3,AD124,IF(Protokół!$DJ$3=4,AL124,\"\"))))","v":{"$error":"#N/A"}},{"$f":"IF(Protokół!$DJ$3=1,O124,IF(Protokół!$DJ$3=2,W124,IF(Protokół!$DJ$3=3,AE124,IF(Protokół!$DJ$3=4,AM124,\"\"))))","v":{"$error":"#N/A"}},{"$f":"IF(Protokół!$DJ$3=1,P124,IF(Protokół!$DJ$3=2,X124,IF(Protokół!$DJ$3=3,AF124,IF(Protokół!$DJ$3=4,AN124,\"\"))))","v":"00:00:00"},null,null,null,null,null,null,null,null,3123,"2021-06-12","Białogardzie",3,6,"UKS Team Tenis 2005 Białogard","KKTS Kołobrzeg",null,null,null,null,null,null,null,null,null,null,null,{"$error":"#N/A"},null,null,{"$error":"#N/A"},{"$error":"#N/A"}]
[{"$f":"IF(Protokół!$DJ$3=1,I125,IF(Protokół!$DJ$3=2,Q125,IF(Protokół!$DJ$3=3,Y125,IF(Protokół!$DJ$3=4,AG125,\"\"))))","v":0},{"$f":"IF(Protokół!$DJ$3=1,J125,IF(Protokół!$DJ$3=2,R125,IF(Protokół!$DJ$3=3,Z125,IF(Protokół!$DJ$3=4,AH125,\"\"))))","v":"00:00:00"},{"$f":"IF(Protokół!$DJ$3=1,K125,IF(Protokół!$DJ$3=2,S125,IF(Protokół!$DJ$3=3,AA125,IF(Protokół!$DJ$3=4,AI125,\"\"))))","v":{"$error":"#N/A"}},{"$f":"IF(Protokół!$DJ$3=1,L125,IF(Protokół!$DJ$3=2,T125,IF(Protokół!$DJ$3=3,AB125,IF(Protokół!$DJ$3=4,AJ125,\"\"))))","v":0},{"$f":"IF(Protokół!$DJ$3=1,M125,IF(Protokół!$DJ$3=2,U125,IF(Protokół!$DJ$3=3,AC125,IF(Protokół!$DJ$3=4,AK125,\"\"))))","v":0},{"$f":"IF(Protokół!$DJ$3=1,N125,IF(Protokół!$DJ$3=2,V125,IF(Protokół!$DJ$3=3,AD125,IF(Protokół!$DJ$3=4,AL125,\"\"))))","v":{"$error":"#N/A"}},{"$f":"IF(Protokół!$DJ$3=1,O125,IF(Protokół!$DJ$3=2,W125,IF(Protokół!$DJ$3=3,AE125,IF(Protokół!$DJ$3=4,AM125,\"\"))))","v":{"$error":"#N/A"}},{"$f":"IF(Protokół!$DJ$3=1,P125,IF(Protokół!$DJ$3=2,X125,IF(Protokół!$DJ$3=3,AF125,IF(Protokół!$DJ$3=4,AN125,\"\"))))","v":"00:00:00"},null,null,null,null,null,null,null,null,3124,"2021-06-12","Świdwinie",4,5,"MSZS Świdwin","UKS Czarni Pieszcz",null,null,null,null,null,null,null,null,null,null,null,{"$error":"#N/A"},null,null,{"$error":"#N/A"},{"$error":"#N/A"}]
[{"$f":"IF(Protokół!$DJ$3=1,I126,IF(Protokół!$DJ$3=2,Q126,IF(Protokół!$DJ$3=3,Y126,IF(Protokół!$DJ$3=4,AG126,\"\"))))","v":0},{"$f":"IF(Protokół!$DJ$3=1,J126,IF(Protokół!$DJ$3=2,R126,IF(Protokół!$DJ$3=3,Z126,IF(Protokół!$DJ$3=4,AH126,\"\"))))","v":"00:00:00"},{"$f":"IF(Protokół!$DJ$3=1,K126,IF(Protokół!$DJ$3=2,S126,IF(Protokół!$DJ$3=3,AA126,IF(Protokół!$DJ$3=4,AI126,\"\"))))","v":{"$error":"#N/A"}},{"$f":"IF(Protokół!$DJ$3=1,L126,IF(Protokół!$DJ$3=2,T126,IF(Protokół!$DJ$3=3,AB126,IF(Protokół!$DJ$3=4,AJ126,\"\"))))","v":0},{"$f":"IF(Protokół!$DJ$3=1,M126,IF(Protokół!$DJ$3=2,U126,IF(Protokół!$DJ$3=3,AC126,IF(Protokół!$DJ$3=4,AK126,\"\"))))","v":0},{"$f":"IF(Protokół!$DJ$3=1,N126,IF(Protokół!$DJ$3=2,V126,IF(Protokół!$DJ$3=3,AD126,IF(Protokół!$DJ$3=4,AL126,\"\"))))","v":{"$error":"#N/A"}},{"$f":"IF(Protokół!$DJ$3=1,O126,IF(Protokół!$DJ$3=2,W126,IF(Protokół!$DJ$3=3,AE126,IF(Protokół!$DJ$3=4,AM126,\"\"))))","v":{"$error":"#N/A"}},{"$f":"IF(Protokół!$DJ$3=1,P126,IF(Protokół!$DJ$3=2,X126,IF(Protokół!$DJ$3=3,AF126,IF(Protokół!$DJ$3=4,AN126,\"\"))))","v":"00:00:00"},null,null,null,null,null,null,null,null,3125,"2021-06-12","Wierzbięcinie",1,10,"II Visonex LUKS Top Wierzbięcin","LUKS Fala Trzebiatów",null,null,null,null,null,null,null,null,null,null,null,{"$error":"#N/A"},null,null,{"$error":"#N/A"},{"$error":"#N/A"}]
[{"$f":"IF(Protokół!$DJ$3=1,I127,IF(Protokół!$DJ$3=2,Q127,IF(Protokół!$DJ$3=3,Y127,IF(Protokół!$DJ$3=4,AG127,\"\"))))","v":0},{"$f":"IF(Protokół!$DJ$3=1,J127,IF(Protokół!$DJ$3=2,R127,IF(Protokół!$DJ$3=3,Z127,IF(Protokół!$DJ$3=4,AH127,\"\"))))","v":"00:00:00"},{"$f":"IF(Protokół!$DJ$3=1,K127,IF(Protokół!$DJ$3=2,S127,IF(Protokół!$DJ$3=3,AA127,IF(Protokół!$DJ$3=4,AI127,\"\"))))","v":{"$error":"#N/A"}},{"$f":"IF(Protokół!$DJ$3=1,L127,IF(Protokół!$DJ$3=2,T127,IF(Protokół!$DJ$3=3,AB127,IF(Protokół!$DJ$3=4,AJ127,\"\"))))","v":0},{"$f":"IF(Protokół!$DJ$3=1,M127,IF(Protokół!$DJ$3=2,U127,IF(Protokół!$DJ$3=3,AC127,IF(Protokół!$DJ$3=4,AK127,\"\"))))","v":0},{"$f":"IF(Protokół!$DJ$3=1,N127,IF(Protokół!$DJ$3=2,V127,IF(Protokół!$DJ$3=3,AD127,IF(Protokół!$DJ$3=4,AL127,\"\"))))","v":{"$error":"#N/A"}},{"$f":"IF(Protokół!$DJ$3=1,O127,IF(Protokół!$DJ$3=2,W127,IF(Protokół!$DJ$3=3,AE127,IF(Protokół!$DJ$3=4,AM127,\"\"))))","v":{"$error":"#N/A"}},{"$f":"IF(Protokół!$DJ$3=1,P127,IF(Protokół!$DJ$3=2,X127,IF(Protokół!$DJ$3=3,AF127,IF(Protokół!$DJ$3=4,AN127,\"\"))))","v":"00:00:00"},null,null,null,null,null,null,null,null,3126,"2021-06-12","Stargardzie",2,9,"II KS ATS Stargard","LUKS Gryfice",null,null,null,null,null,null,null,null,null,null,null,{"$error":"#N/A"},null,null,{"$error":"#N/A"},{"$error":"#N/A"}]
[{"$f":"IF(Protokół!$DJ$3=1,I128,IF(Protokół!$DJ$3=2,Q128,IF(Protokół!$DJ$3=3,Y128,IF(Protokół!$DJ$3=4,AG128,\"\"))))","v":0},{"$f":"IF(Protokół!$DJ$3=1,J128,IF(Protokół!$DJ$3=2,R128,IF(Protokół!$DJ$3=3,Z128,IF(Protokół!$DJ$3=4,AH128,\"\"))))","v":"00:00:00"},{"$f":"IF(Protokół!$DJ$3=1,K128,IF(Protokół!$DJ$3=2,S128,IF(Protokół!$DJ$3=3,AA128,IF(Protokół!$DJ$3=4,AI128,\"\"))))","v":{"$error":"#N/A"}},{"$f":"IF(Protokół!$DJ$3=1,L128,IF(Protokół!$DJ$3=2,T128,IF(Protokół!$DJ$3=3,AB128,IF(Protokół!$DJ$3=4,AJ128,\"\"))))","v":0},{"$f":"IF(Protokół!$DJ$3=1,M128,IF(Protokół!$DJ$3=2,U128,IF(Protokół!$DJ$3=3,AC128,IF(Protokół!$DJ$3=4,AK128,\"\"))))","v":0},{"$f":"IF(Protokół!$DJ$3=1,N128,IF(Protokół!$DJ$3=2,V128,IF(Protokół!$DJ$3=3,AD128,IF(Protokół!$DJ$3=4,AL128,\"\"))))","v":{"$error":"#N/A"}},{"$f":"IF(Protokół!$DJ$3=1,O128,IF(Protokół!$DJ$3=2,W128,IF(Protokół!$DJ$3=3,AE128,IF(Protokół!$DJ$3=4,AM128,\"\"))))","v":{"$error":"#N/A"}},{"$f":"IF(Protokół!$DJ$3=1,P128,IF(Protokół!$DJ$3=2,X128,IF(Protokół!$DJ$3=3,AF128,IF(Protokół!$DJ$3=4,AN128,\"\"))))","v":"00:00:00"},null,null,null,null,null,null,null,null,3127,"2021-06-12","Koszalinie",13,11,"I KTS Koszalinianin Koszalin","Trzynastka Szczecin",null,null,null,null,null,null,null,null,null,null,null,{"$error":"#N/A"},null,null,{"$error":"#N/A"},{"$error":"#N/A"}]
[{"$f":"IF(Protokół!$DJ$3=1,I129,IF(Protokół!$DJ$3=2,Q129,IF(Protokół!$DJ$3=3,Y129,IF(Protokół!$DJ$3=4,AG129,\"\"))))","v":0},{"$f":"IF(Protokół!$DJ$3=1,J129,IF(Protokół!$DJ$3=2,R129,IF(Protokół!$DJ$3=3,Z129,IF(Protokół!$DJ$3=4,AH129,\"\"))))","v":"00:00:00"},{"$f":"IF(Protokół!$DJ$3=1,K129,IF(Protokół!$DJ$3=2,S129,IF(Protokół!$DJ$3=3,AA129,IF(Protokół!$DJ$3=4,AI129,\"\"))))","v":{"$error":"#N/A"}},{"$f":"IF(Protokół!$DJ$3=1,L129,IF(Protokół!$DJ$3=2,T129,IF(Protokół!$DJ$3=3,AB129,IF(Protokół!$DJ$3=4,AJ129,\"\"))))","v":0},{"$f":"IF(Protokół!$DJ$3=1,M129,IF(Protokół!$DJ$3=2,U129,IF(Protokół!$DJ$3=3,AC129,IF(Protokół!$DJ$3=4,AK129,\"\"))))","v":0},{"$f":"IF(Protokół!$DJ$3=1,N129,IF(Protokół!$DJ$3=2,V129,IF(Protokół!$DJ$3=3,AD129,IF(Protokół!$DJ$3=4,AL129,\"\"))))","v":{"$error":"#N/A"}},{"$f":"IF(Protokół!$DJ$3=1,O129,IF(Protokół!$DJ$3=2,W129,IF(Protokół!$DJ$3=3,AE129,IF(Protokół!$DJ$3=4,AM129,\"\"))))","v":{"$error":"#N/A"}},{"$f":"IF(Protokół!$DJ$3=1,P129,IF(Protokół!$DJ$3=2,X129,IF(Protokół!$DJ$3=3,AF129,IF(Protokół!$DJ$3=4,AN129,\"\"))))","v":"00:00:00"},null,null,null,null,null,null,null,null,3128,"2021-06-12","Koszalinie",14,12,"II KTS Koszalinianin Koszalin","II UKS Champion Police",null,null,null,null,null,null,null,null,null,null,null,{"$error":"#N/A"},null,null,{"$error":"#N/A"},{"$error":"#N/A"}]
[{"$f":"IF(Protokół!$DJ$3=1,I130,IF(Protokół!$DJ$3=2,Q130,IF(Protokół!$DJ$3=3,Y130,IF(Protokół!$DJ$3=4,AG130,\"\"))))","v":0},{"$f":"IF(Protokół!$DJ$3=1,J130,IF(Protokół!$DJ$3=2,R130,IF(Protokół!$DJ$3=3,Z130,IF(Protokół!$DJ$3=4,AH130,\"\"))))","v":"00:00:00"},{"$f":"IF(Protokół!$DJ$3=1,K130,IF(Protokół!$DJ$3=2,S130,IF(Protokół!$DJ$3=3,AA130,IF(Protokół!$DJ$3=4,AI130,\"\"))))","v":{"$error":"#N/A"}},{"$f":"IF(Protokół!$DJ$3=1,L130,IF(Protokół!$DJ$3=2,T130,IF(Protokół!$DJ$3=3,AB130,IF(Protokół!$DJ$3=4,AJ130,\"\"))))","v":0},{"$f":"IF(Protokół!$DJ$3=1,M130,IF(Protokół!$DJ$3=2,U130,IF(Protokół!$DJ$3=3,AC130,IF(Protokół!$DJ$3=4,AK130,\"\"))))","v":0},{"$f":"IF(Protokół!$DJ$3=1,N130,IF(Protokół!$DJ$3=2,V130,IF(Protokół!$DJ$3=3,AD130,IF(Protokół!$DJ$3=4,AL130,\"\"))))","v":{"$error":"#N/A"}},{"$f":"IF(Protokół!$DJ$3=1,O130,IF(Protokół!$DJ$3=2,W130,IF(Protokół!$DJ$3=3,AE130,IF(Protokół!$DJ$3=4,AM130,\"\"))))","v":{"$error":"#N/A"}},{"$f":"IF(Protokół!$DJ$3=1,P130,IF(Protokół!$DJ$3=2,X130,IF(Protokół!$DJ$3=3,AF130,IF(Protokół!$DJ$3=4,AN130,\"\"))))","v":"00:00:00"},null,null,null,null,null,null,null,null,3129,"2021-06-12","Białogardzie",3,5,"UKS Team Tenis 2005 Białogard","UKS Czarni Pieszcz",null,null,null,null,null,null,null,null,null,null,null,{"$error":"#N/A"},null,null,{"$error":"#N/A"},{"$error":"#N/A"}]
[{"$f":"IF(Protokół!$DJ$3=1,I131,IF(Protokół!$DJ$3=2,Q131,IF(Protokół!$DJ$3=3,Y131,IF(Protokół!$DJ$3=4,AG131,\"\"))))","v":0},{"$f":"IF(Protokół!$DJ$3=1,J131,IF(Protokół!$DJ$3=2,R131,IF(Protokół!$DJ$3=3,Z131,IF(Protokół!$DJ$3=4,AH131,\"\"))))","v":"00:00:00"},{"$f":"IF(Protokół!$DJ$3=1,K131,IF(Protokół!$DJ$3=2,S131,IF(Protokół!$DJ$3=3,AA131,IF(Protokół!$DJ$3=4,AI131,\"\"))))","v":{"$error":"#N/A"}},{"$f":"IF(Protokół!$DJ$3=1,L131,IF(Protokół!$DJ$3=2,T131,IF(Protokół!$DJ$3=3,AB131,IF(Protokół!$DJ$3=4,AJ131,\"\"))))","v":0},{"$f":"IF(Protokół!$DJ$3=1,M131,IF(Protokół!$DJ$3=2,U131,IF(Protokół!$DJ$3=3,AC131,IF(Protokół!$DJ$3=4,AK131,\"\"))))","v":0},{"$f":"IF(Protokół!$DJ$3=1,N131,IF(Protokół!$DJ$3=2,V131,IF(Protokół!$DJ$3=3,AD131,IF(Protokół!$DJ$3=4,AL131,\"\"))))","v":{"$error":"#N/A"}},{"$f":"IF(Protokół!$DJ$3=1,O131,IF(Protokół!$DJ$3=2,W131,IF(Protokół!$DJ$3=3,AE131,IF(Protokół!$DJ$3=4,AM131,\"\"))))","v":{"$error":"#N/A"}},{"$f":"IF(Protokół!$DJ$3=1,P131,IF(Protokół!$DJ$3=2,X131,IF(Protokół!$DJ$3=3,AF131,IF(Protokół!$DJ$3=4,AN131,\"\"))))","v":"00:00:00"},null,null,{"$f":"VLOOKUP(L131,$I$166:$M$173,5,FALSE)","v":{"$error":"#N/A"}},null,null,{"$f":"VLOOKUP(L131,$I$166:$M$173,2,FALSE)","v":{"$error":"#N/A"}},{"$error":"#N/A"},null,3130,"2021-06-12","Świdwinie",4,6,"MSZS Świdwin","KKTS Kołobrzeg",null,null,null,null,null,null,null,null,null,null,null,{"$error":"#N/A"},null,null,{"$error":"#N/A"},{"$error":"#N/A"}]
[{"$f":"IF(Protokół!$DJ$3=1,I132,IF(Protokół!$DJ$3=2,Q132,IF(Protokół!$DJ$3=3,Y132,IF(Protokół!$DJ$3=4,AG132,\"\"))))","v":0},{"$f":"IF(Protokół!$DJ$3=1,J132,IF(Protokół!$DJ$3=2,R132,IF(Protokół!$DJ$3=3,Z132,IF(Protokół!$DJ$3=4,AH132,\"\"))))","v":"00:00:00"},{"$f":"IF(Protokół!$DJ$3=1,K132,IF(Protokół!$DJ$3=2,S132,IF(Protokół!$DJ$3=3,AA132,IF(Protokół!$DJ$3=4,AI132,\"\"))))","v":{"$error":"#N/A"}},{"$f":"IF(Protokół!$DJ$3=1,L132,IF(Protokół!$DJ$3=2,T132,IF(Protokół!$DJ$3=3,AB132,IF(Protokół!$DJ$3=4,AJ132,\"\"))))","v":0},{"$f":"IF(Protokół!$DJ$3=1,M132,IF(Protokół!$DJ$3=2,U132,IF(Protokół!$DJ$3=3,AC132,IF(Protokół!$DJ$3=4,AK132,\"\"))))","v":0},{"$f":"IF(Protokół!$DJ$3=1,N132,IF(Protokół!$DJ$3=2,V132,IF(Protokół!$DJ$3=3,AD132,IF(Protokół!$DJ$3=4,AL132,\"\"))))","v":{"$error":"#N/A"}},{"$f":"IF(Protokół!$DJ$3=1,O132,IF(Protokół!$DJ$3=2,W132,IF(Protokół!$DJ$3=3,AE132,IF(Protokół!$DJ$3=4,AM132,\"\"))))","v":{"$error":"#N/A"}},{"$f":"IF(Protokół!$DJ$3=1,P132,IF(Protokół!$DJ$3=2,X132,IF(Protokół!$DJ$3=3,AF132,IF(Protokół!$DJ$3=4,AN132,\"\"))))","v":"00:00:00"},null,null,{"$error":"#N/A"},null,null,{"$error":"#N/A"},{"$error":"#N/A"},null,3131,"2021-06-12",{"$f":"VLOOKUP(T132,$Q$167:$U$180,5,FALSE)","v":"Wierzbięcinie"},1,9,{"$f":"VLOOKUP(T132,$Q$167:$U$180,2,FALSE)","v":"II Visonex LUKS Top Wierzbięcin"},{"$f":"VLOOKUP(U132,$Q$167:$U$180,2,FALSE)","v":"LUKS Gryfice"},null,null,null,null,null,null,null,null,null,null,null,{"$error":"#N/A"},null,null,{"$error":"#N/A"},{"$error":"#N/A"}]
[{"$f":"IF(Protokół!$DJ$3=1,I133,IF(Protokół!$DJ$3=2,Q133,IF(Protokół!$DJ$3=3,Y133,IF(Protokół!$DJ$3=4,AG133,\"\"))))","v":0},{"$f":"IF(Protokół!$DJ$3=1,J133,IF(Protokół!$DJ$3=2,R133,IF(Protokół!$DJ$3=3,Z133,IF(Protokół!$DJ$3=4,AH133,\"\"))))","v":"00:00:00"},{"$f":"IF(Protokół!$DJ$3=1,K133,IF(Protokół!$DJ$3=2,S133,IF(Protokół!$DJ$3=3,AA133,IF(Protokół!$DJ$3=4,AI133,\"\"))))","v":{"$error":"#N/A"}},{"$f":"IF(Protokół!$DJ$3=1,L133,IF(Protokół!$DJ$3=2,T133,IF(Protokół!$DJ$3=3,AB133,IF(Protokół!$DJ$3=4,AJ133,\"\"))))","v":0},{"$f":"IF(Protokół!$DJ$3=1,M133,IF(Protokół!$DJ$3=2,U133,IF(Protokół!$DJ$3=3,AC133,IF(Protokół!$DJ$3=4,AK133,\"\"))))","v":0},{"$f":"IF(Protokół!$DJ$3=1,N133,IF(Protokół!$DJ$3=2,V133,IF(Protokół!$DJ$3=3,AD133,IF(Protokół!$DJ$3=4,AL133,\"\"))))","v":{"$error":"#N/A"}},{"$f":"IF(Protokół!$DJ$3=1,O133,IF(Protokół!$DJ$3=2,W133,IF(Protokół!$DJ$3=3,AE133,IF(Protokół!$DJ$3=4,AM133,\"\"))))","v":{"$error":"#N/A"}},{"$f":"IF(Protokół!$DJ$3=1,P133,IF(Protokół!$DJ$3=2,X133,IF(Protokół!$DJ$3=3,AF133,IF(Protokół!$DJ$3=4,AN133,\"\"))))","v":"00:00:00"},null,null,{"$error":"#N/A"},null,null,{"$error":"#N/A"},{"$error":"#N/A"},null,3132,"2021-06-12","Stargardzie",2,10,"II KS ATS Stargard","LUKS Fala Trzebiatów",null,null,null,null,null,null,null,null,null,null,null,{"$error":"#N/A"},null,null,{"$error":"#N/A"},{"$error":"#N/A"}]
[{"$f":"IF(Protokół!$DJ$3=1,I134,IF(Protokół!$DJ$3=2,Q134,IF(Protokół!$DJ$3=3,Y134,IF(Protokół!$DJ$3=4,AG134,\"\"))))","v":0},{"$f":"IF(Protokół!$DJ$3=1,J134,IF(Protokół!$DJ$3=2,R134,IF(Protokół!$DJ$3=3,Z134,IF(Protokół!$DJ$3=4,AH134,\"\"))))","v":"00:00:00"},{"$f":"IF(Protokół!$DJ$3=1,K134,IF(Protokół!$DJ$3=2,S134,IF(Protokół!$DJ$3=3,AA134,IF(Protokół!$DJ$3=4,AI134,\"\"))))","v":{"$error":"#N/A"}},{"$f":"IF(Protokół!$DJ$3=1,L134,IF(Protokół!$DJ$3=2,T134,IF(Protokół!$DJ$3=3,AB134,IF(Protokół!$DJ$3=4,AJ134,\"\"))))","v":0},{"$f":"IF(Protokół!$DJ$3=1,M134,IF(Protokół!$DJ$3=2,U134,IF(Protokół!$DJ$3=3,AC134,IF(Protokół!$DJ$3=4,AK134,\"\"))))","v":0},{"$f":"IF(Protokół!$DJ$3=1,N134,IF(Protokół!$DJ$3=2,V134,IF(Protokół!$DJ$3=3,AD134,IF(Protokół!$DJ$3=4,AL134,\"\"))))","v":{"$error":"#N/A"}},{"$f":"IF(Protokół!$DJ$3=1,O134,IF(Protokół!$DJ$3=2,W134,IF(Protokół!$DJ$3=3,AE134,IF(Protokół!$DJ$3=4,AM134,\"\"))))","v":{"$error":"#N/A"}},{"$f":"IF(Protokół!$DJ$3=1,P134,IF(Protokół!$DJ$3=2,X134,IF(Protokół!$DJ$3=3,AF134,IF(Protokół!$DJ$3=4,AN134,\"\"))))","v":"00:00:00"},null,null,{"$error":"#N/A"},null,null,{"$error":"#N/A"},{"$error":"#N/A"},null,3133,"2021-06-12","Koszalinie",13,12,"I KTS Koszalinianin Koszalin","II UKS Champion Police",null,null,null,null,null,null,null,null,null,null,null,{"$error":"#N/A"},null,null,{"$error":"#N/A"},{"$error":"#N/A"}]
[{"$f":"IF(Protokół!$DJ$3=1,I135,IF(Protokół!$DJ$3=2,Q135,IF(Protokół!$DJ$3=3,Y135,IF(Protokół!$DJ$3=4,AG135,\"\"))))","v":0},{"$f":"IF(Protokół!$DJ$3=1,J135,IF(Protokół!$DJ$3=2,R135,IF(Protokół!$DJ$3=3,Z135,IF(Protokół!$DJ$3=4,AH135,\"\"))))","v":"00:00:00"},{"$f":"IF(Protokół!$DJ$3=1,K135,IF(Protokół!$DJ$3=2,S135,IF(Protokół!$DJ$3=3,AA135,IF(Protokół!$DJ$3=4,AI135,\"\"))))","v":{"$error":"#N/A"}},{"$f":"IF(Protokół!$DJ$3=1,L135,IF(Protokół!$DJ$3=2,T135,IF(Protokół!$DJ$3=3,AB135,IF(Protokół!$DJ$3=4,AJ135,\"\"))))","v":0},{"$f":"IF(Protokół!$DJ$3=1,M135,IF(Protokół!$DJ$3=2,U135,IF(Protokół!$DJ$3=3,AC135,IF(Protokół!$DJ$3=4,AK135,\"\"))))","v":0},{"$f":"IF(Protokół!$DJ$3=1,N135,IF(Protokół!$DJ$3=2,V135,IF(Protokół!$DJ$3=3,AD135,IF(Protokół!$DJ$3=4,AL135,\"\"))))","v":{"$error":"#N/A"}},{"$f":"IF(Protokół!$DJ$3=1,O135,IF(Protokół!$DJ$3=2,W135,IF(Protokół!$DJ$3=3,AE135,IF(Protokół!$DJ$3=4,AM135,\"\"))))","v":{"$error":"#N/A"}},{"$f":"IF(Protokół!$DJ$3=1,P135,IF(Protokół!$DJ$3=2,X135,IF(Protokół!$DJ$3=3,AF135,IF(Protokół!$DJ$3=4,AN135,\"\"))))","v":"00:00:00"},null,null,{"$error":"#N/A"},null,null,{"$error":"#N/A"},{"$error":"#N/A"},null,3134,"2021-06-12","Koszalinie",14,11,"II KTS Koszalinianin Koszalin","Trzynastka Szczecin",null,null,null,null,null,null,null,null,null,null,null,{"$error":"#N/A"},null,null,{"$error":"#N/A"},{"$error":"#N/A"},null,{"$f":"SUM(AJ135:AK146)","v":0}]
[{"$f":"IF(Protokół!$DJ$3=1,I136,IF(Protokół!$DJ$3=2,Q136,IF(Protokół!$DJ$3=3,Y136,IF(Protokół!$DJ$3=4,AG136,\"\"))))","v":0},{"$f":"IF(Protokół!$DJ$3=1,J136,IF(Protokół!$DJ$3=2,R136,IF(Protokół!$DJ$3=3,Z136,IF(Protokół!$DJ$3=4,AH136,\"\"))))","v":"00:00:00"},{"$f":"IF(Protokół!$DJ$3=1,K136,IF(Protokół!$DJ$3=2,S136,IF(Protokół!$DJ$3=3,AA136,IF(Protokół!$DJ$3=4,AI136,\"\"))))","v":{"$error":"#N/A"}},{"$f":"IF(Protokół!$DJ$3=1,L136,IF(Protokół!$DJ$3=2,T136,IF(Protokół!$DJ$3=3,AB136,IF(Protokół!$DJ$3=4,AJ136,\"\"))))","v":0},{"$f":"IF(Protokół!$DJ$3=1,M136,IF(Protokół!$DJ$3=2,U136,IF(Protokół!$DJ$3=3,AC136,IF(Protokół!$DJ$3=4,AK136,\"\"))))","v":0},{"$f":"IF(Protokół!$DJ$3=1,N136,IF(Protokół!$DJ$3=2,V136,IF(Protokół!$DJ$3=3,AD136,IF(Protokół!$DJ$3=4,AL136,\"\"))))","v":{"$error":"#N/A"}},{"$f":"IF(Protokół!$DJ$3=1,O136,IF(Protokół!$DJ$3=2,W136,IF(Protokół!$DJ$3=3,AE136,IF(Protokół!$DJ$3=4,AM136,\"\"))))","v":{"$error":"#N/A"}},{"$f":"IF(Protokół!$DJ$3=1,P136,IF(Protokół!$DJ$3=2,X136,IF(Protokół!$DJ$3=3,AF136,IF(Protokół!$DJ$3=4,AN136,\"\"))))","v":"00:00:00"},null,null,{"$error":"#N/A"},null,null,{"$error":"#N/A"},{"$error":"#N/A"},null,3135,"2021-06-19","Koszalinie",14,13,"II KTS Koszalinianin Koszalin","I KTS Koszalinianin Koszalin",null,null,null,null,null,null,null,null,null,null,null,{"$error":"#N/A"},null,null,{"$error":"#N/A"},{"$error":"#N/A"}]
[{"$f":"IF(Protokół!$DJ$3=1,I137,IF(Protokół!$DJ$3=2,Q137,IF(Protokół!$DJ$3=3,Y137,IF(Protokół!$DJ$3=4,AG137,\"\"))))","v":0},{"$f":"IF(Protokół!$DJ$3=1,J137,IF(Protokół!$DJ$3=2,R137,IF(Protokół!$DJ$3=3,Z137,IF(Protokół!$DJ$3=4,AH137,\"\"))))","v":"00:00:00"},{"$f":"IF(Protokół!$DJ$3=1,K137,IF(Protokół!$DJ$3=2,S137,IF(Protokół!$DJ$3=3,AA137,IF(Protokół!$DJ$3=4,AI137,\"\"))))","v":{"$error":"#N/A"}},{"$f":"IF(Protokół!$DJ$3=1,L137,IF(Protokół!$DJ$3=2,T137,IF(Protokół!$DJ$3=3,AB137,IF(Protokół!$DJ$3=4,AJ137,\"\"))))","v":0},{"$f":"IF(Protokół!$DJ$3=1,M137,IF(Protokół!$DJ$3=2,U137,IF(Protokół!$DJ$3=3,AC137,IF(Protokół!$DJ$3=4,AK137,\"\"))))","v":0},{"$f":"IF(Protokół!$DJ$3=1,N137,IF(Protokół!$DJ$3=2,V137,IF(Protokół!$DJ$3=3,AD137,IF(Protokół!$DJ$3=4,AL137,\"\"))))","v":{"$error":"#N/A"}},{"$f":"IF(Protokół!$DJ$3=1,O137,IF(Protokół!$DJ$3=2,W137,IF(Protokół!$DJ$3=3,AE137,IF(Protokół!$DJ$3=4,AM137,\"\"))))","v":{"$error":"#N/A"}},{"$f":"IF(Protokół!$DJ$3=1,P137,IF(Protokół!$DJ$3=2,X137,IF(Protokół!$DJ$3=3,AF137,IF(Protokół!$DJ$3=4,AN137,\"\"))))","v":"00:00:00"},null,null,{"$error":"#N/A"},null,null,{"$error":"#N/A"},{"$error":"#N/A"},null,3136,"2021-06-19","Policach",12,2,"II UKS Champion Police","II KS ATS Stargard",null,null,null,null,null,null,null,null,null,null,null,{"$error":"#N/A"},null,null,{"$error":"#N/A"},{"$error":"#N/A"}]
[{"$f":"IF(Protokół!$DJ$3=1,I138,IF(Protokół!$DJ$3=2,Q138,IF(Protokół!$DJ$3=3,Y138,IF(Protokół!$DJ$3=4,AG138,\"\"))))","v":0},{"$f":"IF(Protokół!$DJ$3=1,J138,IF(Protokół!$DJ$3=2,R138,IF(Protokół!$DJ$3=3,Z138,IF(Protokół!$DJ$3=4,AH138,\"\"))))","v":"00:00:00"},{"$f":"IF(Protokół!$DJ$3=1,K138,IF(Protokół!$DJ$3=2,S138,IF(Protokół!$DJ$3=3,AA138,IF(Protokół!$DJ$3=4,AI138,\"\"))))","v":{"$error":"#N/A"}},{"$f":"IF(Protokół!$DJ$3=1,L138,IF(Protokół!$DJ$3=2,T138,IF(Protokół!$DJ$3=3,AB138,IF(Protokół!$DJ$3=4,AJ138,\"\"))))","v":0},{"$f":"IF(Protokół!$DJ$3=1,M138,IF(Protokół!$DJ$3=2,U138,IF(Protokół!$DJ$3=3,AC138,IF(Protokół!$DJ$3=4,AK138,\"\"))))","v":0},{"$f":"IF(Protokół!$DJ$3=1,N138,IF(Protokół!$DJ$3=2,V138,IF(Protokół!$DJ$3=3,AD138,IF(Protokół!$DJ$3=4,AL138,\"\"))))","v":{"$error":"#N/A"}},{"$f":"IF(Protokół!$DJ$3=1,O138,IF(Protokół!$DJ$3=2,W138,IF(Protokół!$DJ$3=3,AE138,IF(Protokół!$DJ$3=4,AM138,\"\"))))","v":{"$error":"#N/A"}},{"$f":"IF(Protokół!$DJ$3=1,P138,IF(Protokół!$DJ$3=2,X138,IF(Protokół!$DJ$3=3,AF138,IF(Protokół!$DJ$3=4,AN138,\"\"))))","v":"00:00:00"},null,null,{"$error":"#N/A"},null,null,{"$error":"#N/A"},{"$error":"#N/A"},null,3137,"2021-06-19","Szczecinie-Zdunowie",11,1,"Trzynastka Szczecin","II Visonex LUKS Top Wierzbięcin",null,null,null,null,null,null,null,null,null,null,null,{"$error":"#N/A"},null,null,{"$error":"#N/A"},{"$error":"#N/A"}]
[{"$f":"IF(Protokół!$DJ$3=1,I139,IF(Protokół!$DJ$3=2,Q139,IF(Protokół!$DJ$3=3,Y139,IF(Protokół!$DJ$3=4,AG139,\"\"))))","v":0},{"$f":"IF(Protokół!$DJ$3=1,J139,IF(Protokół!$DJ$3=2,R139,IF(Protokół!$DJ$3=3,Z139,IF(Protokół!$DJ$3=4,AH139,\"\"))))","v":"00:00:00"},{"$f":"IF(Protokół!$DJ$3=1,K139,IF(Protokół!$DJ$3=2,S139,IF(Protokół!$DJ$3=3,AA139,IF(Protokół!$DJ$3=4,AI139,\"\"))))","v":{"$error":"#N/A"}},{"$f":"IF(Protokół!$DJ$3=1,L139,IF(Protokół!$DJ$3=2,T139,IF(Protokół!$DJ$3=3,AB139,IF(Protokół!$DJ$3=4,AJ139,\"\"))))","v":0},{"$f":"IF(Protokół!$DJ$3=1,M139,IF(Protokół!$DJ$3=2,U139,IF(Protokół!$DJ$3=3,AC139,IF(Protokół!$DJ$3=4,AK139,\"\"))))","v":0},{"$f":"IF(Protokół!$DJ$3=1,N139,IF(Protokół!$DJ$3=2,V139,IF(Protokół!$DJ$3=3,AD139,IF(Protokół!$DJ$3=4,AL139,\"\"))))","v":{"$error":"#N/A"}},{"$f":"IF(Protokół!$DJ$3=1,O139,IF(Protokół!$DJ$3=2,W139,IF(Protokół!$DJ$3=3,AE139,IF(Protokół!$DJ$3=4,AM139,\"\"))))","v":{"$error":"#N/A"}},{"$f":"IF(Protokół!$DJ$3=1,P139,IF(Protokół!$DJ$3=2,X139,IF(Protokół!$DJ$3=3,AF139,IF(Protokół!$DJ$3=4,AN139,\"\"))))","v":"00:00:00"},null,null,null,null,null,null,null,null,3138,"2021-06-19","Gryficach",9,4,"LUKS Gryfice","MSZS Świdwin",null,null,null,null,null,null,null,null,null,null,null,{"$error":"#N/A"},null,null,{"$error":"#N/A"},{"$error":"#N/A"}]
[{"$f":"IF(Protokół!$DJ$3=1,I140,IF(Protokół!$DJ$3=2,Q140,IF(Protokół!$DJ$3=3,Y140,IF(Protokół!$DJ$3=4,AG140,\"\"))))","v":0},{"$f":"IF(Protokół!$DJ$3=1,J140,IF(Protokół!$DJ$3=2,R140,IF(Protokół!$DJ$3=3,Z140,IF(Protokół!$DJ$3=4,AH140,\"\"))))","v":"00:00:00"},{"$f":"IF(Protokół!$DJ$3=1,K140,IF(Protokół!$DJ$3=2,S140,IF(Protokół!$DJ$3=3,AA140,IF(Protokół!$DJ$3=4,AI140,\"\"))))","v":{"$error":"#N/A"}},{"$f":"IF(Protokół!$DJ$3=1,L140,IF(Protokół!$DJ$3=2,T140,IF(Protokół!$DJ$3=3,AB140,IF(Protokół!$DJ$3=4,AJ140,\"\"))))","v":0},{"$f":"IF(Protokół!$DJ$3=1,M140,IF(Protokół!$DJ$3=2,U140,IF(Protokół!$DJ$3=3,AC140,IF(Protokół!$DJ$3=4,AK140,\"\"))))","v":0},{"$f":"IF(Protokół!$DJ$3=1,N140,IF(Protokół!$DJ$3=2,V140,IF(Protokół!$DJ$3=3,AD140,IF(Protokół!$DJ$3=4,AL140,\"\"))))","v":{"$error":"#N/A"}},{"$f":"IF(Protokół!$DJ$3=1,O140,IF(Protokół!$DJ$3=2,W140,IF(Protokół!$DJ$3=3,AE140,IF(Protokół!$DJ$3=4,AM140,\"\"))))","v":{"$error":"#N/A"}},{"$f":"IF(Protokół!$DJ$3=1,P140,IF(Protokół!$DJ$3=2,X140,IF(Protokół!$DJ$3=3,AF140,IF(Protokół!$DJ$3=4,AN140,\"\"))))","v":"00:00:00"},null,null,null,null,null,null,null,null,3139,"2021-06-19","Trzebiatowie",10,3,"LUKS Fala Trzebiatów","UKS Team Tenis 2005 Białogard",null,null,null,null,null,null,null,null,null,null,null,{"$error":"#N/A"},null,null,{"$error":"#N/A"},{"$error":"#N/A"}]
[{"$f":"IF(Protokół!$DJ$3=1,I141,IF(Protokół!$DJ$3=2,Q141,IF(Protokół!$DJ$3=3,Y141,IF(Protokół!$DJ$3=4,AG141,\"\"))))","v":0},{"$f":"IF(Protokół!$DJ$3=1,J141,IF(Protokół!$DJ$3=2,R141,IF(Protokół!$DJ$3=3,Z141,IF(Protokół!$DJ$3=4,AH141,\"\"))))","v":"00:00:00"},{"$f":"IF(Protokół!$DJ$3=1,K141,IF(Protokół!$DJ$3=2,S141,IF(Protokół!$DJ$3=3,AA141,IF(Protokół!$DJ$3=4,AI141,\"\"))))","v":{"$error":"#N/A"}},{"$f":"IF(Protokół!$DJ$3=1,L141,IF(Protokół!$DJ$3=2,T141,IF(Protokół!$DJ$3=3,AB141,IF(Protokół!$DJ$3=4,AJ141,\"\"))))","v":0},{"$f":"IF(Protokół!$DJ$3=1,M141,IF(Protokół!$DJ$3=2,U141,IF(Protokół!$DJ$3=3,AC141,IF(Protokół!$DJ$3=4,AK141,\"\"))))","v":0},{"$f":"IF(Protokół!$DJ$3=1,N141,IF(Protokół!$DJ$3=2,V141,IF(Protokół!$DJ$3=3,AD141,IF(Protokół!$DJ$3=4,AL141,\"\"))))","v":{"$error":"#N/A"}},{"$f":"IF(Protokół!$DJ$3=1,O141,IF(Protokół!$DJ$3=2,W141,IF(Protokół!$DJ$3=3,AE141,IF(Protokół!$DJ$3=4,AM141,\"\"))))","v":{"$error":"#N/A"}},{"$f":"IF(Protokół!$DJ$3=1,P141,IF(Protokół!$DJ$3=2,X141,IF(Protokół!$DJ$3=3,AF141,IF(Protokół!$DJ$3=4,AN141,\"\"))))","v":"00:00:00"},null,null,null,null,null,null,null,null,3140,"2021-06-19","Kołobrzegu",6,7,"KKTS Kołobrzeg","UKS-T VICTORIA Chojna",null,null,null,null,null,null,null,null,null,null,null,{"$error":"#N/A"},null,null,{"$error":"#N/A"},{"$error":"#N/A"}]
[{"$f":"IF(Protokół!$DJ$3=1,I142,IF(Protokół!$DJ$3=2,Q142,IF(Protokół!$DJ$3=3,Y142,IF(Protokół!$DJ$3=4,AG142,\"\"))))","v":0},{"$f":"IF(Protokół!$DJ$3=1,J142,IF(Protokół!$DJ$3=2,R142,IF(Protokół!$DJ$3=3,Z142,IF(Protokół!$DJ$3=4,AH142,\"\"))))","v":"00:00:00"},{"$f":"IF(Protokół!$DJ$3=1,K142,IF(Protokół!$DJ$3=2,S142,IF(Protokół!$DJ$3=3,AA142,IF(Protokół!$DJ$3=4,AI142,\"\"))))","v":{"$error":"#N/A"}},{"$f":"IF(Protokół!$DJ$3=1,L142,IF(Protokół!$DJ$3=2,T142,IF(Protokół!$DJ$3=3,AB142,IF(Protokół!$DJ$3=4,AJ142,\"\"))))","v":0},{"$f":"IF(Protokół!$DJ$3=1,M142,IF(Protokół!$DJ$3=2,U142,IF(Protokół!$DJ$3=3,AC142,IF(Protokół!$DJ$3=4,AK142,\"\"))))","v":0},{"$f":"IF(Protokół!$DJ$3=1,N142,IF(Protokół!$DJ$3=2,V142,IF(Protokół!$DJ$3=3,AD142,IF(Protokół!$DJ$3=4,AL142,\"\"))))","v":{"$error":"#N/A"}},{"$f":"IF(Protokół!$DJ$3=1,O142,IF(Protokół!$DJ$3=2,W142,IF(Protokół!$DJ$3=3,AE142,IF(Protokół!$DJ$3=4,AM142,\"\"))))","v":{"$error":"#N/A"}},{"$f":"IF(Protokół!$DJ$3=1,P142,IF(Protokół!$DJ$3=2,X142,IF(Protokół!$DJ$3=3,AF142,IF(Protokół!$DJ$3=4,AN142,\"\"))))","v":"00:00:00"},null,null,null,null,null,null,null,null,3141,"2021-06-19","Policach",12,1,"II UKS Champion Police","II Visonex LUKS Top Wierzbięcin",null,null,null,null,null,null,null,null,null,null,null,{"$error":"#N/A"},null,null,{"$error":"#N/A"},{"$error":"#N/A"}]
[{"$f":"IF(Protokół!$DJ$3=1,I143,IF(Protokół!$DJ$3=2,Q143,IF(Protokół!$DJ$3=3,Y143,IF(Protokół!$DJ$3=4,AG143,\"\"))))","v":0},{"$f":"IF(Protokół!$DJ$3=1,J143,IF(Protokół!$DJ$3=2,R143,IF(Protokół!$DJ$3=3,Z143,IF(Protokół!$DJ$3=4,AH143,\"\"))))","v":"00:00:00"},{"$f":"IF(Protokół!$DJ$3=1,K143,IF(Protokół!$DJ$3=2,S143,IF(Protokół!$DJ$3=3,AA143,IF(Protokół!$DJ$3=4,AI143,\"\"))))","v":{"$error":"#N/A"}},{"$f":"IF(Protokół!$DJ$3=1,L143,IF(Protokół!$DJ$3=2,T143,IF(Protokół!$DJ$3=3,AB143,IF(Protokół!$DJ$3=4,AJ143,\"\"))))","v":0},{"$f":"IF(Protokół!$DJ$3=1,M143,IF(Protokół!$DJ$3=2,U143,IF(Protokół!$DJ$3=3,AC143,IF(Protokół!$DJ$3=4,AK143,\"\"))))","v":0},{"$f":"IF(Protokół!$DJ$3=1,N143,IF(Protokół!$DJ$3=2,V143,IF(Protokół!$DJ$3=3,AD143,IF(Protokół!$DJ$3=4,AL143,\"\"))))","v":{"$error":"#N/A"}},{"$f":"IF(Protokół!$DJ$3=1,O143,IF(Protokół!$DJ$3=2,W143,IF(Protokół!$DJ$3=3,AE143,IF(Protokół!$DJ$3=4,AM143,\"\"))))","v":{"$error":"#N/A"}},{"$f":"IF(Protokół!$DJ$3=1,P143,IF(Protokół!$DJ$3=2,X143,IF(Protokół!$DJ$3=3,AF143,IF(Protokół!$DJ$3=4,AN143,\"\"))))","v":"00:00:00"},null,null,null,null,null,null,null,null,3142,"2021-06-19","Szczecinie-Zdunowie",11,2,"Trzynastka Szczecin","II KS ATS Stargard",null,null,null,null,null,null,null,null,null,null,null,{"$error":"#N/A"},null,null,{"$error":"#N/A"},{"$error":"#N/A"}]
[{"$f":"IF(Protokół!$DJ$3=1,I144,IF(Protokół!$DJ$3=2,Q144,IF(Protokół!$DJ$3=3,Y144,IF(Protokół!$DJ$3=4,AG144,\"\"))))","v":0},{"$f":"IF(Protokół!$DJ$3=1,J144,IF(Protokół!$DJ$3=2,R144,IF(Protokół!$DJ$3=3,Z144,IF(Protokół!$DJ$3=4,AH144,\"\"))))","v":"00:00:00"},{"$f":"IF(Protokół!$DJ$3=1,K144,IF(Protokół!$DJ$3=2,S144,IF(Protokół!$DJ$3=3,AA144,IF(Protokół!$DJ$3=4,AI144,\"\"))))","v":{"$error":"#N/A"}},{"$f":"IF(Protokół!$DJ$3=1,L144,IF(Protokół!$DJ$3=2,T144,IF(Protokół!$DJ$3=3,AB144,IF(Protokół!$DJ$3=4,AJ144,\"\"))))","v":0},{"$f":"IF(Protokół!$DJ$3=1,M144,IF(Protokół!$DJ$3=2,U144,IF(Protokół!$DJ$3=3,AC144,IF(Protokół!$DJ$3=4,AK144,\"\"))))","v":0},{"$f":"IF(Protokół!$DJ$3=1,N144,IF(Protokół!$DJ$3=2,V144,IF(Protokół!$DJ$3=3,AD144,IF(Protokół!$DJ$3=4,AL144,\"\"))))","v":{"$error":"#N/A"}},{"$f":"IF(Protokół!$DJ$3=1,O144,IF(Protokół!$DJ$3=2,W144,IF(Protokół!$DJ$3=3,AE144,IF(Protokół!$DJ$3=4,AM144,\"\"))))","v":{"$error":"#N/A"}},{"$f":"IF(Protokół!$DJ$3=1,P144,IF(Protokół!$DJ$3=2,X144,IF(Protokół!$DJ$3=3,AF144,IF(Protokół!$DJ$3=4,AN144,\"\"))))","v":"00:00:00"},null,null,null,null,null,null,null,null,3143,"2021-06-19","Gryficach",9,3,"LUKS Gryfice","UKS Team Tenis 2005 Białogard",null,null,null,null,null,null,null,null,null,null,null,{"$error":"#N/A"},null,null,{"$error":"#N/A"},{"$error":"#N/A"}]
[{"$f":"IF(Protokół!$DJ$3=1,I145,IF(Protokół!$DJ$3=2,Q145,IF(Protokół!$DJ$3=3,Y145,IF(Protokół!$DJ$3=4,AG145,\"\"))))","v":0},{"$f":"IF(Protokół!$DJ$3=1,J145,IF(Protokół!$DJ$3=2,R145,IF(Protokół!$DJ$3=3,Z145,IF(Protokół!$DJ$3=4,AH145,\"\"))))","v":"00:00:00"},{"$f":"IF(Protokół!$DJ$3=1,K145,IF(Protokół!$DJ$3=2,S145,IF(Protokół!$DJ$3=3,AA145,IF(Protokół!$DJ$3=4,AI145,\"\"))))","v":{"$error":"#N/A"}},{"$f":"IF(Protokół!$DJ$3=1,L145,IF(Protokół!$DJ$3=2,T145,IF(Protokół!$DJ$3=3,AB145,IF(Protokół!$DJ$3=4,AJ145,\"\"))))","v":0},{"$f":"IF(Protokół!$DJ$3=1,M145,IF(Protokół!$DJ$3=2,U145,IF(Protokół!$DJ$3=3,AC145,IF(Protokół!$DJ$3=4,AK145,\"\"))))","v":0},{"$f":"IF(Protokół!$DJ$3=1,N145,IF(Protokół!$DJ$3=2,V145,IF(Protokół!$DJ$3=3,AD145,IF(Protokół!$DJ$3=4,AL145,\"\"))))","v":{"$error":"#N/A"}},{"$f":"IF(Protokół!$DJ$3=1,O145,IF(Protokół!$DJ$3=2,W145,IF(Protokół!$DJ$3=3,AE145,IF(Protokół!$DJ$3=4,AM145,\"\"))))","v":{"$error":"#N/A"}},{"$f":"IF(Protokół!$DJ$3=1,P145,IF(Protokół!$DJ$3=2,X145,IF(Protokół!$DJ$3=3,AF145,IF(Protokół!$DJ$3=4,AN145,\"\"))))","v":"00:00:00"},null,null,null,null,null,null,null,null,3144,"2021-06-19","Trzebiatowie",10,4,"LUKS Fala Trzebiatów","MSZS Świdwin",null,null,null,null,null,null,null,null,null,null,null,{"$error":"#N/A"},null,null,{"$error":"#N/A"},{"$error":"#N/A"}]
[{"$f":"IF(Protokół!$DJ$3=1,I146,IF(Protokół!$DJ$3=2,Q146,IF(Protokół!$DJ$3=3,Y146,IF(Protokół!$DJ$3=4,AG146,\"\"))))","v":0},{"$f":"IF(Protokół!$DJ$3=1,J146,IF(Protokół!$DJ$3=2,R146,IF(Protokół!$DJ$3=3,Z146,IF(Protokół!$DJ$3=4,AH146,\"\"))))","v":"00:00:00"},{"$f":"IF(Protokół!$DJ$3=1,K146,IF(Protokół!$DJ$3=2,S146,IF(Protokół!$DJ$3=3,AA146,IF(Protokół!$DJ$3=4,AI146,\"\"))))","v":{"$error":"#N/A"}},{"$f":"IF(Protokół!$DJ$3=1,L146,IF(Protokół!$DJ$3=2,T146,IF(Protokół!$DJ$3=3,AB146,IF(Protokół!$DJ$3=4,AJ146,\"\"))))","v":0},{"$f":"IF(Protokół!$DJ$3=1,M146,IF(Protokół!$DJ$3=2,U146,IF(Protokół!$DJ$3=3,AC146,IF(Protokół!$DJ$3=4,AK146,\"\"))))","v":0},{"$f":"IF(Protokół!$DJ$3=1,N146,IF(Protokół!$DJ$3=2,V146,IF(Protokół!$DJ$3=3,AD146,IF(Protokół!$DJ$3=4,AL146,\"\"))))","v":{"$error":"#N/A"}},{"$f":"IF(Protokół!$DJ$3=1,O146,IF(Protokół!$DJ$3=2,W146,IF(Protokół!$DJ$3=3,AE146,IF(Protokół!$DJ$3=4,AM146,\"\"))))","v":{"$error":"#N/A"}},{"$f":"IF(Protokół!$DJ$3=1,P146,IF(Protokół!$DJ$3=2,X146,IF(Protokół!$DJ$3=3,AF146,IF(Protokół!$DJ$3=4,AN146,\"\"))))","v":"00:00:00"},null,null,null,null,null,null,null,null,3145,"2021-06-19","Pieszczu",5,7,"UKS Czarni Pieszcz","UKS-T VICTORIA Chojna",null,null,null,null,null,null,null,null,null,null,null,{"$error":"#N/A"},null,null,{"$error":"#N/A"},{"$error":"#N/A"}]
[{"$f":"IF(Protokół!$DJ$3=1,I147,IF(Protokół!$DJ$3=2,Q147,IF(Protokół!$DJ$3=3,Y147,IF(Protokół!$DJ$3=4,AG147,\"\"))))","v":0},{"$f":"IF(Protokół!$DJ$3=1,J147,IF(Protokół!$DJ$3=2,R147,IF(Protokół!$DJ$3=3,Z147,IF(Protokół!$DJ$3=4,AH147,\"\"))))","v":"00:00:00"},{"$f":"IF(Protokół!$DJ$3=1,K147,IF(Protokół!$DJ$3=2,S147,IF(Protokół!$DJ$3=3,AA147,IF(Protokół!$DJ$3=4,AI147,\"\"))))","v":{"$error":"#N/A"}},{"$f":"IF(Protokół!$DJ$3=1,L147,IF(Protokół!$DJ$3=2,T147,IF(Protokół!$DJ$3=3,AB147,IF(Protokół!$DJ$3=4,AJ147,\"\"))))","v":0},{"$f":"IF(Protokół!$DJ$3=1,M147,IF(Protokół!$DJ$3=2,U147,IF(Protokół!$DJ$3=3,AC147,IF(Protokół!$DJ$3=4,AK147,\"\"))))","v":0},{"$f":"IF(Protokół!$DJ$3=1,N147,IF(Protokół!$DJ$3=2,V147,IF(Protokół!$DJ$3=3,AD147,IF(Protokół!$DJ$3=4,AL147,\"\"))))","v":{"$error":"#N/A"}},{"$f":"IF(Protokół!$DJ$3=1,O147,IF(Protokół!$DJ$3=2,W147,IF(Protokół!$DJ$3=3,AE147,IF(Protokół!$DJ$3=4,AM147,\"\"))))","v":{"$error":"#N/A"}},{"$f":"IF(Protokół!$DJ$3=1,P147,IF(Protokół!$DJ$3=2,X147,IF(Protokół!$DJ$3=3,AF147,IF(Protokół!$DJ$3=4,AN147,\"\"))))","v":"00:00:00"},null,null,{"$f":"VLOOKUP(L147,$I$166:$M$173,5,FALSE)","v":{"$error":"#N/A"}},null,null,{"$f":"VLOOKUP(L147,$I$166:$M$173,2,FALSE)","v":{"$error":"#N/A"}},{"$f":"VLOOKUP(M147,$I$166:$M$173,2,FALSE)","v":{"$error":"#N/A"}},null,3146,"2021-06-26","Kołobrzegu",6,5,"KKTS Kołobrzeg","UKS Czarni Pieszcz",null,null,null,null,null,null,null,null,null,null,null,{"$error":"#N/A"},null,null,{"$error":"#N/A"},{"$error":"#N/A"}]
[{"$f":"IF(Protokół!$DJ$3=1,I148,IF(Protokół!$DJ$3=2,Q148,IF(Protokół!$DJ$3=3,Y148,IF(Protokół!$DJ$3=4,AG148,\"\"))))","v":0},{"$f":"IF(Protokół!$DJ$3=1,J148,IF(Protokół!$DJ$3=2,R148,IF(Protokół!$DJ$3=3,Z148,IF(Protokół!$DJ$3=4,AH148,\"\"))))","v":"00:00:00"},{"$f":"IF(Protokół!$DJ$3=1,K148,IF(Protokół!$DJ$3=2,S148,IF(Protokół!$DJ$3=3,AA148,IF(Protokół!$DJ$3=4,AI148,\"\"))))","v":{"$error":"#N/A"}},{"$f":"IF(Protokół!$DJ$3=1,L148,IF(Protokół!$DJ$3=2,T148,IF(Protokół!$DJ$3=3,AB148,IF(Protokół!$DJ$3=4,AJ148,\"\"))))","v":0},{"$f":"IF(Protokół!$DJ$3=1,M148,IF(Protokół!$DJ$3=2,U148,IF(Protokół!$DJ$3=3,AC148,IF(Protokół!$DJ$3=4,AK148,\"\"))))","v":0},{"$f":"IF(Protokół!$DJ$3=1,N148,IF(Protokół!$DJ$3=2,V148,IF(Protokół!$DJ$3=3,AD148,IF(Protokół!$DJ$3=4,AL148,\"\"))))","v":{"$error":"#N/A"}},{"$f":"IF(Protokół!$DJ$3=1,O148,IF(Protokół!$DJ$3=2,W148,IF(Protokół!$DJ$3=3,AE148,IF(Protokół!$DJ$3=4,AM148,\"\"))))","v":{"$error":"#N/A"}},{"$f":"IF(Protokół!$DJ$3=1,P148,IF(Protokół!$DJ$3=2,X148,IF(Protokół!$DJ$3=3,AF148,IF(Protokół!$DJ$3=4,AN148,\"\"))))","v":"00:00:00"},null,null,{"$f":"VLOOKUP(L148,$I$166:$M$173,5,FALSE)","v":{"$error":"#N/A"}},null,null,{"$f":"VLOOKUP(L148,$I$166:$M$173,2,FALSE)","v":{"$error":"#N/A"}},{"$f":"VLOOKUP(M148,$I$166:$M$173,2,FALSE)","v":{"$error":"#N/A"}},null,3147,"2021-06-26","Chojnie",7,10,"UKS-T VICTORIA Chojna","LUKS Fala Trzebiatów",null,null,null,null,null,null,null,null,null,null,null,{"$error":"#N/A"},null,null,{"$error":"#N/A"},{"$error":"#N/A"}]
[{"$f":"IF(Protokół!$DJ$3=1,I149,IF(Protokół!$DJ$3=2,Q149,IF(Protokół!$DJ$3=3,Y149,IF(Protokół!$DJ$3=4,AG149,\"\"))))","v":0},{"$f":"IF(Protokół!$DJ$3=1,J149,IF(Protokół!$DJ$3=2,R149,IF(Protokół!$DJ$3=3,Z149,IF(Protokół!$DJ$3=4,AH149,\"\"))))","v":"00:00:00"},{"$f":"IF(Protokół!$DJ$3=1,K149,IF(Protokół!$DJ$3=2,S149,IF(Protokół!$DJ$3=3,AA149,IF(Protokół!$DJ$3=4,AI149,\"\"))))","v":{"$error":"#N/A"}},{"$f":"IF(Protokół!$DJ$3=1,L149,IF(Protokół!$DJ$3=2,T149,IF(Protokół!$DJ$3=3,AB149,IF(Protokół!$DJ$3=4,AJ149,\"\"))))","v":0},{"$f":"IF(Protokół!$DJ$3=1,M149,IF(Protokół!$DJ$3=2,U149,IF(Protokół!$DJ$3=3,AC149,IF(Protokół!$DJ$3=4,AK149,\"\"))))","v":0},{"$f":"IF(Protokół!$DJ$3=1,N149,IF(Protokół!$DJ$3=2,V149,IF(Protokół!$DJ$3=3,AD149,IF(Protokół!$DJ$3=4,AL149,\"\"))))","v":{"$error":"#N/A"}},{"$f":"IF(Protokół!$DJ$3=1,O149,IF(Protokół!$DJ$3=2,W149,IF(Protokół!$DJ$3=3,AE149,IF(Protokół!$DJ$3=4,AM149,\"\"))))","v":{"$error":"#N/A"}},{"$f":"IF(Protokół!$DJ$3=1,P149,IF(Protokół!$DJ$3=2,X149,IF(Protokół!$DJ$3=3,AF149,IF(Protokół!$DJ$3=4,AN149,\"\"))))","v":"00:00:00"},null,null,null,null,null,null,null,null,3148,"2021-06-26","Białogardzie",3,11,"UKS Team Tenis 2005 Białogard","Trzynastka Szczecin",null,null,null,null,null,null,null,null,null,null,null,{"$error":"#N/A"},null,null,{"$error":"#N/A"},{"$error":"#N/A"}]
[{"$f":"IF(Protokół!$DJ$3=1,I150,IF(Protokół!$DJ$3=2,Q150,IF(Protokół!$DJ$3=3,Y150,IF(Protokół!$DJ$3=4,AG150,\"\"))))","v":0},{"$f":"IF(Protokół!$DJ$3=1,J150,IF(Protokół!$DJ$3=2,R150,IF(Protokół!$DJ$3=3,Z150,IF(Protokół!$DJ$3=4,AH150,\"\"))))","v":"00:00:00"},{"$f":"IF(Protokół!$DJ$3=1,K150,IF(Protokół!$DJ$3=2,S150,IF(Protokół!$DJ$3=3,AA150,IF(Protokół!$DJ$3=4,AI150,\"\"))))","v":{"$error":"#N/A"}},{"$f":"IF(Protokół!$DJ$3=1,L150,IF(Protokół!$DJ$3=2,T150,IF(Protokół!$DJ$3=3,AB150,IF(Protokół!$DJ$3=4,AJ150,\"\"))))","v":0},{"$f":"IF(Protokół!$DJ$3=1,M150,IF(Protokół!$DJ$3=2,U150,IF(Protokół!$DJ$3=3,AC150,IF(Protokół!$DJ$3=4,AK150,\"\"))))","v":0},{"$f":"IF(Protokół!$DJ$3=1,N150,IF(Protokół!$DJ$3=2,V150,IF(Protokół!$DJ$3=3,AD150,IF(Protokół!$DJ$3=4,AL150,\"\"))))","v":{"$error":"#N/A"}},{"$f":"IF(Protokół!$DJ$3=1,O150,IF(Protokół!$DJ$3=2,W150,IF(Protokół!$DJ$3=3,AE150,IF(Protokół!$DJ$3=4,AM150,\"\"))))","v":{"$error":"#N/A"}},{"$f":"IF(Protokół!$DJ$3=1,P150,IF(Protokół!$DJ$3=2,X150,IF(Protokół!$DJ$3=3,AF150,IF(Protokół!$DJ$3=4,AN150,\"\"))))","v":"00:00:00"},null,null,null,null,null,null,null,null,3149,"2021-06-26","Świdwinie",4,12,"MSZS Świdwin","II UKS Champion Police",null,null,null,null,null,null,null,null,null,null,null,{"$error":"#N/A"},null,null,{"$error":"#N/A"},{"$error":"#N/A"}]
[{"$f":"IF(Protokół!$DJ$3=1,I151,IF(Protokół!$DJ$3=2,Q151,IF(Protokół!$DJ$3=3,Y151,IF(Protokół!$DJ$3=4,AG151,\"\"))))","v":0},{"$f":"IF(Protokół!$DJ$3=1,J151,IF(Protokół!$DJ$3=2,R151,IF(Protokół!$DJ$3=3,Z151,IF(Protokół!$DJ$3=4,AH151,\"\"))))","v":"00:00:00"},{"$f":"IF(Protokół!$DJ$3=1,K151,IF(Protokół!$DJ$3=2,S151,IF(Protokół!$DJ$3=3,AA151,IF(Protokół!$DJ$3=4,AI151,\"\"))))","v":{"$error":"#N/A"}},{"$f":"IF(Protokół!$DJ$3=1,L151,IF(Protokół!$DJ$3=2,T151,IF(Protokół!$DJ$3=3,AB151,IF(Protokół!$DJ$3=4,AJ151,\"\"))))","v":0},{"$f":"IF(Protokół!$DJ$3=1,M151,IF(Protokół!$DJ$3=2,U151,IF(Protokół!$DJ$3=3,AC151,IF(Protokół!$DJ$3=4,AK151,\"\"))))","v":0},{"$f":"IF(Protokół!$DJ$3=1,N151,IF(Protokół!$DJ$3=2,V151,IF(Protokół!$DJ$3=3,AD151,IF(Protokół!$DJ$3=4,AL151,\"\"))))","v":{"$error":"#N/A"}},{"$f":"IF(Protokół!$DJ$3=1,O151,IF(Protokół!$DJ$3=2,W151,IF(Protokół!$DJ$3=3,AE151,IF(Protokół!$DJ$3=4,AM151,\"\"))))","v":{"$error":"#N/A"}},{"$f":"IF(Protokół!$DJ$3=1,P151,IF(Protokół!$DJ$3=2,X151,IF(Protokół!$DJ$3=3,AF151,IF(Protokół!$DJ$3=4,AN151,\"\"))))","v":"00:00:00"},null,null,null,null,null,null,null,null,3150,"2021-06-26","Wierzbięcinie",1,14,"II Visonex LUKS Top Wierzbięcin","II KTS Koszalinianin Koszalin",null,null,null,null,null,null,null,null,null,null,null,{"$error":"#N/A"},null,null,{"$error":"#N/A"},{"$error":"#N/A"}]
[{"$f":"IF(Protokół!$DJ$3=1,I152,IF(Protokół!$DJ$3=2,Q152,IF(Protokół!$DJ$3=3,Y152,IF(Protokół!$DJ$3=4,AG152,\"\"))))","v":0},{"$f":"IF(Protokół!$DJ$3=1,J152,IF(Protokół!$DJ$3=2,R152,IF(Protokół!$DJ$3=3,Z152,IF(Protokół!$DJ$3=4,AH152,\"\"))))","v":"00:00:00"},{"$f":"IF(Protokół!$DJ$3=1,K152,IF(Protokół!$DJ$3=2,S152,IF(Protokół!$DJ$3=3,AA152,IF(Protokół!$DJ$3=4,AI152,\"\"))))","v":{"$error":"#N/A"}},{"$f":"IF(Protokół!$DJ$3=1,L152,IF(Protokół!$DJ$3=2,T152,IF(Protokół!$DJ$3=3,AB152,IF(Protokół!$DJ$3=4,AJ152,\"\"))))","v":0},{"$f":"IF(Protokół!$DJ$3=1,M152,IF(Protokół!$DJ$3=2,U152,IF(Protokół!$DJ$3=3,AC152,IF(Protokół!$DJ$3=4,AK152,\"\"))))","v":0},{"$f":"IF(Protokół!$DJ$3=1,N152,IF(Protokół!$DJ$3=2,V152,IF(Protokół!$DJ$3=3,AD152,IF(Protokół!$DJ$3=4,AL152,\"\"))))","v":{"$error":"#N/A"}},{"$f":"IF(Protokół!$DJ$3=1,O152,IF(Protokół!$DJ$3=2,W152,IF(Protokół!$DJ$3=3,AE152,IF(Protokół!$DJ$3=4,AM152,\"\"))))","v":{"$error":"#N/A"}},{"$f":"IF(Protokół!$DJ$3=1,P152,IF(Protokół!$DJ$3=2,X152,IF(Protokół!$DJ$3=3,AF152,IF(Protokół!$DJ$3=4,AN152,\"\"))))","v":"00:00:00"},null,null,null,null,null,null,null,null,3151,"2021-06-26","Stargardzie",2,13,"II KS ATS Stargard","I KTS Koszalinianin Koszalin",null,null,null,null,null,null,null,null,null,null,null,{"$error":"#N/A"},null,null,{"$error":"#N/A"},{"$error":"#N/A"}]
[{"$f":"IF(Protokół!$DJ$3=1,I153,IF(Protokół!$DJ$3=2,Q153,IF(Protokół!$DJ$3=3,Y153,IF(Protokół!$DJ$3=4,AG153,\"\"))))","v":0},{"$f":"IF(Protokół!$DJ$3=1,J153,IF(Protokół!$DJ$3=2,R153,IF(Protokół!$DJ$3=3,Z153,IF(Protokół!$DJ$3=4,AH153,\"\"))))","v":"00:00:00"},{"$f":"IF(Protokół!$DJ$3=1,K153,IF(Protokół!$DJ$3=2,S153,IF(Protokół!$DJ$3=3,AA153,IF(Protokół!$DJ$3=4,AI153,\"\"))))","v":{"$error":"#N/A"}},{"$f":"IF(Protokół!$DJ$3=1,L153,IF(Protokół!$DJ$3=2,T153,IF(Protokół!$DJ$3=3,AB153,IF(Protokół!$DJ$3=4,AJ153,\"\"))))","v":0},{"$f":"IF(Protokół!$DJ$3=1,M153,IF(Protokół!$DJ$3=2,U153,IF(Protokół!$DJ$3=3,AC153,IF(Protokół!$DJ$3=4,AK153,\"\"))))","v":0},{"$f":"IF(Protokół!$DJ$3=1,N153,IF(Protokół!$DJ$3=2,V153,IF(Protokół!$DJ$3=3,AD153,IF(Protokół!$DJ$3=4,AL153,\"\"))))","v":{"$error":"#N/A"}},{"$f":"IF(Protokół!$DJ$3=1,O153,IF(Protokół!$DJ$3=2,W153,IF(Protokół!$DJ$3=3,AE153,IF(Protokół!$DJ$3=4,AM153,\"\"))))","v":{"$error":"#N/A"}},{"$f":"IF(Protokół!$DJ$3=1,P153,IF(Protokół!$DJ$3=2,X153,IF(Protokół!$DJ$3=3,AF153,IF(Protokół!$DJ$3=4,AN153,\"\"))))","v":"00:00:00"},null,null,null,null,null,null,null,null,3152,"2021-06-26","Chojnie",7,9,"UKS-T VICTORIA Chojna","LUKS Gryfice",null,null,null,null,null,null,null,null,null,null,null,{"$error":"#N/A"},null,null,{"$error":"#N/A"},{"$error":"#N/A"}]
[{"$f":"IF(Protokół!$DJ$3=1,I154,IF(Protokół!$DJ$3=2,Q154,IF(Protokół!$DJ$3=3,Y154,IF(Protokół!$DJ$3=4,AG154,\"\"))))","v":0},{"$f":"IF(Protokół!$DJ$3=1,J154,IF(Protokół!$DJ$3=2,R154,IF(Protokół!$DJ$3=3,Z154,IF(Protokół!$DJ$3=4,AH154,\"\"))))","v":"00:00:00"},{"$f":"IF(Protokół!$DJ$3=1,K154,IF(Protokół!$DJ$3=2,S154,IF(Protokół!$DJ$3=3,AA154,IF(Protokół!$DJ$3=4,AI154,\"\"))))","v":{"$error":"#N/A"}},{"$f":"IF(Protokół!$DJ$3=1,L154,IF(Protokół!$DJ$3=2,T154,IF(Protokół!$DJ$3=3,AB154,IF(Protokół!$DJ$3=4,AJ154,\"\"))))","v":0},{"$f":"IF(Protokół!$DJ$3=1,M154,IF(Protokół!$DJ$3=2,U154,IF(Protokół!$DJ$3=3,AC154,IF(Protokół!$DJ$3=4,AK154,\"\"))))","v":0},{"$f":"IF(Protokół!$DJ$3=1,N154,IF(Protokół!$DJ$3=2,V154,IF(Protokół!$DJ$3=3,AD154,IF(Protokół!$DJ$3=4,AL154,\"\"))))","v":{"$error":"#N/A"}},{"$f":"IF(Protokół!$DJ$3=1,O154,IF(Protokół!$DJ$3=2,W154,IF(Protokół!$DJ$3=3,AE154,IF(Protokół!$DJ$3=4,AM154,\"\"))))","v":{"$error":"#N/A"}},{"$f":"IF(Protokół!$DJ$3=1,P154,IF(Protokół!$DJ$3=2,X154,IF(Protokół!$DJ$3=3,AF154,IF(Protokół!$DJ$3=4,AN154,\"\"))))","v":"00:00:00"},null,null,null,null,null,null,null,null,3153,"2021-06-26","Białogardzie",3,12,"UKS Team Tenis 2005 Białogard","II UKS Champion Police",null,null,null,null,null,null,null,null,null,null,null,{"$error":"#N/A"},null,null,{"$error":"#N/A"},{"$error":"#N/A"}]
[{"$f":"IF(Protokół!$DJ$3=1,I155,IF(Protokół!$DJ$3=2,Q155,IF(Protokół!$DJ$3=3,Y155,IF(Protokół!$DJ$3=4,AG155,\"\"))))","v":0},{"$f":"IF(Protokół!$DJ$3=1,J155,IF(Protokół!$DJ$3=2,R155,IF(Protokół!$DJ$3=3,Z155,IF(Protokół!$DJ$3=4,AH155,\"\"))))","v":"00:00:00"},{"$f":"IF(Protokół!$DJ$3=1,K155,IF(Protokół!$DJ$3=2,S155,IF(Protokół!$DJ$3=3,AA155,IF(Protokół!$DJ$3=4,AI155,\"\"))))","v":{"$error":"#N/A"}},{"$f":"IF(Protokół!$DJ$3=1,L155,IF(Protokół!$DJ$3=2,T155,IF(Protokół!$DJ$3=3,AB155,IF(Protokół!$DJ$3=4,AJ155,\"\"))))","v":0},{"$f":"IF(Protokół!$DJ$3=1,M155,IF(Protokół!$DJ$3=2,U155,IF(Protokół!$DJ$3=3,AC155,IF(Protokół!$DJ$3=4,AK155,\"\"))))","v":0},{"$f":"IF(Protokół!$DJ$3=1,N155,IF(Protokół!$DJ$3=2,V155,IF(Protokół!$DJ$3=3,AD155,IF(Protokół!$DJ$3=4,AL155,\"\"))))","v":{"$error":"#N/A"}},{"$f":"IF(Protokół!$DJ$3=1,O155,IF(Protokół!$DJ$3=2,W155,IF(Protokół!$DJ$3=3,AE155,IF(Protokół!$DJ$3=4,AM155,\"\"))))","v":{"$error":"#N/A"}},{"$f":"IF(Protokół!$DJ$3=1,P155,IF(Protokół!$DJ$3=2,X155,IF(Protokół!$DJ$3=3,AF155,IF(Protokół!$DJ$3=4,AN155,\"\"))))","v":"00:00:00"},null,null,null,null,null,null,null,null,3154,"2021-06-26","Świdwinie",4,11,"MSZS Świdwin","Trzynastka Szczecin",null,null,null,null,null,null,null,null,null,null,null,{"$f":"VLOOKUP(AJ155,$AG$167:$AK$178,5,FALSE)","v":{"$error":"#N/A"}},null,null,{"$error":"#N/A"},{"$error":"#N/A"}]
[{"$f":"IF(Protokół!$DJ$3=1,I156,IF(Protokół!$DJ$3=2,Q156,IF(Protokół!$DJ$3=3,Y156,IF(Protokół!$DJ$3=4,AG156,\"\"))))","v":0},{"$f":"IF(Protokół!$DJ$3=1,J156,IF(Protokół!$DJ$3=2,R156,IF(Protokół!$DJ$3=3,Z156,IF(Protokół!$DJ$3=4,AH156,\"\"))))","v":"00:00:00"},{"$f":"IF(Protokół!$DJ$3=1,K156,IF(Protokół!$DJ$3=2,S156,IF(Protokół!$DJ$3=3,AA156,IF(Protokół!$DJ$3=4,AI156,\"\"))))","v":{"$error":"#N/A"}},{"$f":"IF(Protokół!$DJ$3=1,L156,IF(Protokół!$DJ$3=2,T156,IF(Protokół!$DJ$3=3,AB156,IF(Protokół!$DJ$3=4,AJ156,\"\"))))","v":0},{"$f":"IF(Protokół!$DJ$3=1,M156,IF(Protokół!$DJ$3=2,U156,IF(Protokół!$DJ$3=3,AC156,IF(Protokół!$DJ$3=4,AK156,\"\"))))","v":0},{"$f":"IF(Protokół!$DJ$3=1,N156,IF(Protokół!$DJ$3=2,V156,IF(Protokół!$DJ$3=3,AD156,IF(Protokół!$DJ$3=4,AL156,\"\"))))","v":{"$error":"#N/A"}},{"$f":"IF(Protokół!$DJ$3=1,O156,IF(Protokół!$DJ$3=2,W156,IF(Protokół!$DJ$3=3,AE156,IF(Protokół!$DJ$3=4,AM156,\"\"))))","v":{"$error":"#N/A"}},{"$f":"IF(Protokół!$DJ$3=1,P156,IF(Protokół!$DJ$3=2,X156,IF(Protokół!$DJ$3=3,AF156,IF(Protokół!$DJ$3=4,AN156,\"\"))))","v":"00:00:00"},null,null,null,null,null,null,null,null,3155,"2021-06-26","Wierzbięcinie",1,13,"II Visonex LUKS Top Wierzbięcin","I KTS Koszalinianin Koszalin",null,null,null,null,null,null,null,null,null,null,null,{"$error":"#N/A"},null,null,{"$error":"#N/A"},{"$error":"#N/A"}]
[{"$f":"IF(Protokół!$DJ$3=1,I157,IF(Protokół!$DJ$3=2,Q157,IF(Protokół!$DJ$3=3,Y157,IF(Protokół!$DJ$3=4,AG157,\"\"))))","v":0},{"$f":"IF(Protokół!$DJ$3=1,J157,IF(Protokół!$DJ$3=2,R157,IF(Protokół!$DJ$3=3,Z157,IF(Protokół!$DJ$3=4,AH157,\"\"))))","v":"00:00:00"},{"$f":"IF(Protokół!$DJ$3=1,K157,IF(Protokół!$DJ$3=2,S157,IF(Protokół!$DJ$3=3,AA157,IF(Protokół!$DJ$3=4,AI157,\"\"))))","v":{"$error":"#N/A"}},{"$f":"IF(Protokół!$DJ$3=1,L157,IF(Protokół!$DJ$3=2,T157,IF(Protokół!$DJ$3=3,AB157,IF(Protokół!$DJ$3=4,AJ157,\"\"))))","v":0},{"$f":"IF(Protokół!$DJ$3=1,M157,IF(Protokół!$DJ$3=2,U157,IF(Protokół!$DJ$3=3,AC157,IF(Protokół!$DJ$3=4,AK157,\"\"))))","v":0},{"$f":"IF(Protokół!$DJ$3=1,N157,IF(Protokół!$DJ$3=2,V157,IF(Protokół!$DJ$3=3,AD157,IF(Protokół!$DJ$3=4,AL157,\"\"))))","v":{"$error":"#N/A"}},{"$f":"IF(Protokół!$DJ$3=1,O157,IF(Protokół!$DJ$3=2,W157,IF(Protokół!$DJ$3=3,AE157,IF(Protokół!$DJ$3=4,AM157,\"\"))))","v":{"$error":"#N/A"}},{"$f":"IF(Protokół!$DJ$3=1,P157,IF(Protokół!$DJ$3=2,X157,IF(Protokół!$DJ$3=3,AF157,IF(Protokół!$DJ$3=4,AN157,\"\"))))","v":"00:00:00"},null,null,{"$f":"VLOOKUP(L157,$I$166:$M$173,5,FALSE)","v":{"$error":"#N/A"}},null,null,{"$f":"VLOOKUP(L157,$I$166:$M$173,2,FALSE)","v":{"$error":"#N/A"}},{"$f":"VLOOKUP(M157,$I$166:$M$173,2,FALSE)","v":{"$error":"#N/A"}},null,3156,"2021-06-26","Stargardzie",2,14,"II KS ATS Stargard","II KTS Koszalinianin Koszalin",null,null,null,null,null,null,null,null,null,null,null,{"$error":"#N/A"},null,null,{"$error":"#N/A"},{"$error":"#N/A"}]
[{"$f":"IF(Protokół!$DJ$3=1,I158,IF(Protokół!$DJ$3=2,Q158,IF(Protokół!$DJ$3=3,Y158,IF(Protokół!$DJ$3=4,AG158,\"\"))))","v":0},{"$f":"IF(Protokół!$DJ$3=1,J158,IF(Protokół!$DJ$3=2,R158,IF(Protokół!$DJ$3=3,Z158,IF(Protokół!$DJ$3=4,AH158,\"\"))))","v":"00:00:00"},{"$f":"IF(Protokół!$DJ$3=1,K158,IF(Protokół!$DJ$3=2,S158,IF(Protokół!$DJ$3=3,AA158,IF(Protokół!$DJ$3=4,AI158,\"\"))))","v":{"$error":"#N/A"}},{"$f":"IF(Protokół!$DJ$3=1,L158,IF(Protokół!$DJ$3=2,T158,IF(Protokół!$DJ$3=3,AB158,IF(Protokół!$DJ$3=4,AJ158,\"\"))))","v":0},{"$f":"IF(Protokół!$DJ$3=1,M158,IF(Protokół!$DJ$3=2,U158,IF(Protokół!$DJ$3=3,AC158,IF(Protokół!$DJ$3=4,AK158,\"\"))))","v":0},{"$f":"IF(Protokół!$DJ$3=1,N158,IF(Protokół!$DJ$3=2,V158,IF(Protokół!$DJ$3=3,AD158,IF(Protokół!$DJ$3=4,AL158,\"\"))))","v":{"$error":"#N/A"}},{"$f":"IF(Protokół!$DJ$3=1,O158,IF(Protokół!$DJ$3=2,W158,IF(Protokół!$DJ$3=3,AE158,IF(Protokół!$DJ$3=4,AM158,\"\"))))","v":{"$error":"#N/A"}},{"$f":"IF(Protokół!$DJ$3=1,P158,IF(Protokół!$DJ$3=2,X158,IF(Protokół!$DJ$3=3,AF158,IF(Protokół!$DJ$3=4,AN158,\"\"))))","v":"00:00:00"},null,null,{"$f":"VLOOKUP(L158,$I$166:$M$173,5,FALSE)","v":{"$error":"#N/A"}},null,null,{"$f":"VLOOKUP(L158,$I$166:$M$173,2,FALSE)","v":{"$error":"#N/A"}},{"$f":"VLOOKUP(M158,$I$166:$M$173,2,FALSE)","v":{"$error":"#N/A"}},null,null,null,null,null,null,null,null,null,null,null,null,null,null,null,null,null,null,null,{"$error":"#N/A"},null,null,{"$error":"#N/A"},{"$error":"#N/A"}]
[{"$f":"Protokół!BO3","v":5002},{"$f":"IFERROR(IF(A159=0,\"\",VLOOKUP(A159,A2:H158,2,FALSE)),\"\")","v":"2020-10-17"},{"$f":"IFERROR(IF(A159=0,\"\",VLOOKUP(A159,A2:H158,3,FALSE)),\"\")","v":"Szczecinie"},{"$f":"IFERROR(IF(A159=0,\"\",VLOOKUP(A159,A2:H158,4,FALSE)),\"\")","v":4},{"$f":"IFERROR(IF(A159=0,\"\",VLOOKUP(A159,A2:H158,5,FALSE)),\"\")","v":2},{"$f":"IFERROR(IF(A159=0,\"\",VLOOKUP(A159,A2:H158,6,FALSE)),\"\")","v":"SL Salos Szczecin"},{"$f":"IFERROR(IF(A159=0,\"\",VLOOKUP(A159,A2:H158,7,FALSE)),\"\")","v":"Flota Świnoujście"}]
[null,null,null,null,null,"ULKS Borne Sulinowo","II UKS Champion Police"]
[]
[null,null,"wielkopolski@pzts.pl;tenisistastolowy@poczta.onet.pl;lczajewski@gmail.com;szunajb@vp.pl",null,null,"wielkopolski@pzts.pl;protokolypdf@marchant.pl;ksats.stargard@gmail.com;jpawlas@o2.pl","II liga",{"$f":"Protokół!$DJ$3","v":4}]
[null,null,null,null,null,"jpawlas@o2.pl;protokolypdf@marchant.pl;ksats.stargard@gmail.com","III-V liga",null,null,null,null,null,null,null,null,null,"III Liga",null,null,null,null,null,null,null,"IV Liga",null,null,null,null,null,null,null,"V Liga"]
[]
[null,null,null,null,null,null,null,null,1,2,3,4,5]
[null,null,null,null,null,null,null,null,1,"TOP-SPIN Szczecin",null,null,"Szczecinie",null,null,null,1,2,3,4,5,null,null,null,1,2,3,4,5,null,null,null,1,2,3,4,5]
[{"$f":"Protokół!DJ3","v":4},null,null,null,null,null,null,null,2,"Visonex LUKS Top Wierzbięcin",null,null,"Wierzbięcinie",null,null,null,1,"II Visonex LUKS Top Wierzbięcin",null,null,"Wierzbięcinie",null,null,null,1,"Gryfin S Spin Szczecin",null,null,"Szczecinie",null,null,null,1,"III KKTS Kołobrzeg",null,null,"Kołobrzegu"]
[null,null,null,null,null,null,null,null,3,"WLKS Łobzonka Wyrzysk",null,null,"Wyrzysku",null,null,null,2,"II KS ATS Stargard",null,null,"Stargardzie",null,null,null,2,"III KS ATS Stargard",null,null,"Stargardzie",null,null,null,2,"Flota Świnoujście",null,null,"Świnoujściu"]
[null,null,null,null,null,"Temat e-maila","Adres e-mail odbiorców",null,4,"STS Dębno",null,null,"Dębnie",null,null,null,3,"UKS Team Tenis 2005 Białogard",null,null,"Białogardzie",null,null,null,3,"LKS Mewa Resko",null,null,"Resku",null,null,null,3,"II STS Dębno",null,null,"Dębnie"]
[null,null,null,null,null,{"$f":"CONCATENATE(\"Protokół meczu nr \",A159)","v":"Protokół meczu nr 5002"},{"$f":"IF(H162=1,F162,F163)","v":"jpawlas@o2.pl;protokolypdf@marchant.pl;ksats.stargard@gmail.com"},null,5,"KS ATS Stargard",null,null,"Stargardzie",null,null,null,4,"MSZS Świdwin",null,null,"Świdwinie",null,null,null,4,"II MSZS Świdwin",null,null,"Świdwinie",null,null,null,4,"SL Salos Szczecin",null,null,"Szczecinie"]
[null,null,null,null,null,"Treść e-maila",null,null,6,"UKS Nałęcz Majster Ostroróg",null,null,"Ostrorogu",null,null,null,5,"UKS Czarni Pieszcz",null,null,"Pieszczu",null,null,null,5,"I UKS Zalew Stepnica",null,null,"Stepnicy",null,null,null,5,"STS Czapla Czaplinek",null,null,"Czaplinku"]
[null,null,null,null,null,{"$f":"CONCATENATE(\"Witam. W załączniku przesyłam protokół meczu nr \",A159,\" rozegranego w \",Protokół!AI9,\" w dniu \",TEXT(Protokół!X9,\"DD-MMM-RRRR\"),\"r. \",\"pomiędzy \", Protokół!F11,\" a \",Protokół!AQ11,\". Pozdrawiam - sędzia główny meczu \",Protokół!W55,\" \",Protokół!E55,\".\")","v":"Witam. W załączniku przesyłam protokół meczu nr 5002 rozegranego w Szczecinie w dniu 17-paź-2020r. pomiędzy SL Salos Szczecin a Flota Świnoujście. Pozdrawiam - sędzia główny meczu  ."},null,null,7,"UKS CHAMPIN Police",null,null,"Policach",null,null,null,6,"KKTS Kołobrzeg",null,null,"Kołobrzegu",null,null,null,6,"II UKS Zalew Stepnica",null,null,"Stepnicy",null,null,null,6,"ULKS Tychowo",null,null,"Tychowie"]
[null,null,null,null,null,null,null,null,8,"STLS Szczecinek",null,null,"Szczecinku",null,null,null,7,"UKS-T VICTORIA Chojna",null,null,"Chojnie",null,null,null,7,"I UKS Chrobry Międzyzdroje",null,null,"Międzyzdrojach"]
["Sezon","2020-2021","Protokół meczu nr ","rozegranego dnia ",{"$f":"CONCATENATE(\"w \",TEXT(Protokół!X9,\"DD-MMM-RRRR\"),\"r. w \",Protokół!AI9)","v":"w 17-paź-2020r. w Szczecinie"},{"$f":"A159","v":5002},null,null,null,null,null,null,null,null,null,null,8,"xxxxx",null,null,null,null,null,null,8,"II KKTS Kołobrzeg",null,null,"Kołobrzegu"]
[null,null,null,null,null,null,null,null,null,null,null,null,null,null,null,null,9,"LUKS Gryfice",null,null,"Gryficach",null,null,null,9,"II STLA Szczecinek",null,null,"Szczecinku"]
[null,null,"II liga","III Liga","iV liga","V liga",null,null,null,null,null,null,null,null,null,null,10,"LUKS Fala Trzebiatów",null,null,"Trzebiatowie",null,null,null,10,"I ZTTS Złocieniec",null,null,"Złocieńcu"]
[1,null,0,0,0,0,null,null,null,null,null,null,null,null,null,null,11,"Trzynastka Szczecin",null,null,"Szczecinie-Zdunowie"]
[2,{"$f":"IF(Protokół!$DJ$3=1,KolejkaRunda1!C178,IF(Protokół!$DJ$3=2,KolejkaRunda1!D178,IF(Protokół!$DJ$3=3,KolejkaRunda1!E178,IF(Protokół!$DJ$3=4,KolejkaRunda1!F178,\"\"))))","v":5001},1,3001,4001,5001,{"$f":"A159","v":5002},null,null,null,null,null,null,null,null,null,12,"II UKS Champion Police",null,null,"Policach"]
[3,{"$f":"IF(Protokół!$DJ$3=1,KolejkaRunda1!C179,IF(Protokół!$DJ$3=2,KolejkaRunda1!D179,IF(Protokół!$DJ$3=3,KolejkaRunda1!E179,IF(Protokół!$DJ$3=4,KolejkaRunda1!F179,\"\"))))","v":5002},2,3002,4002,5002,null,null,null,null,null,null,null,null,null,null,13,"I KTS Koszalinianin Koszalin",null,null,"Koszalinie"]
[4,{"$f":"IF(Protokół!$DJ$3=1,KolejkaRunda1!C180,IF(Protokół!$DJ$3=2,KolejkaRunda1!D180,IF(Protokół!$DJ$3=3,KolejkaRunda1!E180,IF(Protokół!$DJ$3=4,KolejkaRunda1!F180,\"\"))))","v":5003},3,3003,4003,5003,null,null,null,null,null,null,null,null,null,null,14,"II KTS Koszalinianin Koszalin",null,null,"Koszalinie"]
[5,{"$f":"IF(Protokół!$DJ$3=1,KolejkaRunda1!C181,IF(Protokół!$DJ$3=2,KolejkaRunda1!D181,IF(Protokół!$DJ$3=3,KolejkaRunda1!E181,IF(Protokół!$DJ$3=4,KolejkaRunda1!F181,\"\"))))","v":5004},4,3004,4004,5004]
[6,{"$f":"IF(Protokół!$DJ$3=1,KolejkaRunda1!C182,IF(Protokół!$DJ$3=2,KolejkaRunda1!D182,IF(Protokół!$DJ$3=3,KolejkaRunda1!E182,IF(Protokół!$DJ$3=4,KolejkaRunda1!F182,\"\"))))","v":5005},5,3005,4005,5005]
[7,{"$f":"IF(Protokół!$DJ$3=1,KolejkaRunda1!C183,IF(Protokół!$DJ$3=2,KolejkaRunda1!D183,IF(Protokół!$DJ$3=3,KolejkaRunda1!E183,IF(Protokół!$DJ$3=4,KolejkaRunda1!F183,\"\"))))","v":5006},6,3006,4006,5006]
[8,{"$f":"IF(Protokół!$DJ$3=1,KolejkaRunda1!C184,IF(Protokół!$DJ$3=2,KolejkaRunda1!D184,IF(Protokół!$DJ$3=3,KolejkaRunda1!E184,IF(Protokół!$DJ$3=4,KolejkaRunda1!F184,\"\"))))","v":5007},7,3007,4007,5007]
[9,{"$f":"IF(Protokół!$DJ$3=1,KolejkaRunda1!C185,IF(Protokół!$DJ$3=2,KolejkaRunda1!D185,IF(Protokół!$DJ$3=3,KolejkaRunda1!E185,IF(Protokół!$DJ$3=4,KolejkaRunda1!F185,\"\"))))","v":5008},8,3008,4008,5008]
[10,{"$f":"IF(Protokół!$DJ$3=1,KolejkaRunda1!C186,IF(Protokół!$DJ$3=2,KolejkaRunda1!D186,IF(Protokół!$DJ$3=3,KolejkaRunda1!E186,IF(Protokół!$DJ$3=4,KolejkaRunda1!F186,\"\"))))","v":5009},9,3009,4009,5009]
[11,{"$f":"IF(Protokół!$DJ$3=1,KolejkaRunda1!C187,IF(Protokół!$DJ$3=2,KolejkaRunda1!D187,IF(Protokół!$DJ$3=3,KolejkaRunda1!E187,IF(Protokół!$DJ$3=4,KolejkaRunda1!F187,\"\"))))","v":5010},10,3010,4010,5010]
[12,{"$f":"IF(Protokół!$DJ$3=1,KolejkaRunda1!C188,IF(Protokół!$DJ$3=2,KolejkaRunda1!D188,IF(Protokół!$DJ$3=3,KolejkaRunda1!E188,IF(Protokół!$DJ$3=4,KolejkaRunda1!F188,\"\"))))","v":5011},11,3011,4011,5011]
[13,{"$f":"IF(Protokół!$DJ$3=1,KolejkaRunda1!C189,IF(Protokół!$DJ$3=2,KolejkaRunda1!D189,IF(Protokół!$DJ$3=3,KolejkaRunda1!E189,IF(Protokół!$DJ$3=4,KolejkaRunda1!F189,\"\"))))","v":5012},12,3012,4012,5012]
[14,{"$f":"IF(Protokół!$DJ$3=1,KolejkaRunda1!C190,IF(Protokół!$DJ$3=2,KolejkaRunda1!D190,IF(Protokół!$DJ$3=3,KolejkaRunda1!E190,IF(Protokół!$DJ$3=4,KolejkaRunda1!F190,\"\"))))","v":5013},13,3013,4013,5013]
[15,{"$f":"IF(Protokół!$DJ$3=1,KolejkaRunda1!C191,IF(Protokół!$DJ$3=2,KolejkaRunda1!D191,IF(Protokół!$DJ$3=3,KolejkaRunda1!E191,IF(Protokół!$DJ$3=4,KolejkaRunda1!F191,\"\"))))","v":5014},14,3014,4014,5014]
[16,{"$f":"IF(Protokół!$DJ$3=1,KolejkaRunda1!C192,IF(Protokół!$DJ$3=2,KolejkaRunda1!D192,IF(Protokół!$DJ$3=3,KolejkaRunda1!E192,IF(Protokół!$DJ$3=4,KolejkaRunda1!F192,\"\"))))","v":5015},15,3015,4015,5015]
[17,{"$f":"IF(Protokół!$DJ$3=1,KolejkaRunda1!C193,IF(Protokół!$DJ$3=2,KolejkaRunda1!D193,IF(Protokół!$DJ$3=3,KolejkaRunda1!E193,IF(Protokół!$DJ$3=4,KolejkaRunda1!F193,\"\"))))","v":5016},16,3016,4016,5016]
[18,{"$f":"IF(Protokół!$DJ$3=1,KolejkaRunda1!C194,IF(Protokół!$DJ$3=2,KolejkaRunda1!D194,IF(Protokół!$DJ$3=3,KolejkaRunda1!E194,IF(Protokół!$DJ$3=4,KolejkaRunda1!F194,\"\"))))","v":5017},17,3017,4017,5017]
[19,{"$f":"IF(Protokół!$DJ$3=1,KolejkaRunda1!C195,IF(Protokół!$DJ$3=2,KolejkaRunda1!D195,IF(Protokół!$DJ$3=3,KolejkaRunda1!E195,IF(Protokół!$DJ$3=4,KolejkaRunda1!F195,\"\"))))","v":5018},18,3018,4018,5018]
[20,{"$f":"IF(Protokół!$DJ$3=1,KolejkaRunda1!C196,IF(Protokół!$DJ$3=2,KolejkaRunda1!D196,IF(Protokół!$DJ$3=3,KolejkaRunda1!E196,IF(Protokół!$DJ$3=4,KolejkaRunda1!F196,\"\"))))","v":5019},19,3019,4019,5019]
[21,{"$f":"IF(Protokół!$DJ$3=1,KolejkaRunda1!C197,IF(Protokół!$DJ$3=2,KolejkaRunda1!D197,IF(Protokół!$DJ$3=3,KolejkaRunda1!E197,IF(Protokół!$DJ$3=4,KolejkaRunda1!F197,\"\"))))","v":5020},20,3020,4020,5020]
[22,{"$f":"IF(Protokół!$DJ$3=1,KolejkaRunda1!C198,IF(Protokół!$DJ$3=2,KolejkaRunda1!D198,IF(Protokół!$DJ$3=3,KolejkaRunda1!E198,IF(Protokół!$DJ$3=4,KolejkaRunda1!F198,\"\"))))","v":5021},21,3021,4021,5021]
[23,{"$f":"IF(Protokół!$DJ$3=1,KolejkaRunda1!C199,IF(Protokół!$DJ$3=2,KolejkaRunda1!D199,IF(Protokół!$DJ$3=3,KolejkaRunda1!E199,IF(Protokół!$DJ$3=4,KolejkaRunda1!F199,\"\"))))","v":5022},22,3022,4022,5022]
[24,{"$f":"IF(Protokół!$DJ$3=1,KolejkaRunda1!C200,IF(Protokół!$DJ$3=2,KolejkaRunda1!D200,IF(Protokół!$DJ$3=3,KolejkaRunda1!E200,IF(Protokół!$DJ$3=4,KolejkaRunda1!F200,\"\"))))","v":5023},23,3023,4023,5023]
[25,{"$f":"IF(Protokół!$DJ$3=1,KolejkaRunda1!C201,IF(Protokół!$DJ$3=2,KolejkaRunda1!D201,IF(Protokół!$DJ$3=3,KolejkaRunda1!E201,IF(Protokół!$DJ$3=4,KolejkaRunda1!F201,\"\"))))","v":5024},24,3024,4024,5024]
[26,{"$f":"IF(Protokół!$DJ$3=1,KolejkaRunda1!C202,IF(Protokół!$DJ$3=2,KolejkaRunda1!D202,IF(Protokół!$DJ$3=3,KolejkaRunda1!E202,IF(Protokół!$DJ$3=4,KolejkaRunda1!F202,\"\"))))","v":5025},25,3025,4025,5025]
[27,{"$f":"IF(Protokół!$DJ$3=1,KolejkaRunda1!C203,IF(Protokół!$DJ$3=2,KolejkaRunda1!D203,IF(Protokół!$DJ$3=3,KolejkaRunda1!E203,IF(Protokół!$DJ$3=4,KolejkaRunda1!F203,\"\"))))","v":5026},26,3026,4026,5026]
[28,{"$f":"IF(Protokół!$DJ$3=1,KolejkaRunda1!C204,IF(Protokół!$DJ$3=2,KolejkaRunda1!D204,IF(Protokół!$DJ$3=3,KolejkaRunda1!E204,IF(Protokół!$DJ$3=4,KolejkaRunda1!F204,\"\"))))","v":5027},27,3027,4027,5027]
[29,{"$f":"IF(Protokół!$DJ$3=1,KolejkaRunda1!C205,IF(Protokół!$DJ$3=2,KolejkaRunda1!D205,IF(Protokół!$DJ$3=3,KolejkaRunda1!E205,IF(Protokół!$DJ$3=4,KolejkaRunda1!F205,\"\"))))","v":5028},28,3028,4028,5028]
[30,{"$f":"IF(Protokół!$DJ$3=1,KolejkaRunda1!C206,IF(Protokół!$DJ$3=2,KolejkaRunda1!D206,IF(Protokół!$DJ$3=3,KolejkaRunda1!E206,IF(Protokół!$DJ$3=4,KolejkaRunda1!F206,\"\"))))","v":5029},29,3029,4029,5029,1,"R"]
[31,{"$f":"IF(Protokół!$DJ$3=1,KolejkaRunda1!C207,IF(Protokół!$DJ$3=2,KolejkaRunda1!D207,IF(Protokół!$DJ$3=3,KolejkaRunda1!E207,IF(Protokół!$DJ$3=4,KolejkaRunda1!F207,\"\"))))","v":5030},30,3030,4030,5030,2]
[32,{"$f":"IF(Protokół!$DJ$3=1,KolejkaRunda1!C208,IF(Protokół!$DJ$3=2,KolejkaRunda1!D208,IF(Protokół!$DJ$3=3,KolejkaRunda1!E208,IF(Protokół!$DJ$3=4,KolejkaRunda1!F208,\"\"))))","v":0},31,3031,4031,null,3]
[33,{"$f":"IF(Protokół!$DJ$3=1,KolejkaRunda1!C209,IF(Protokół!$DJ$3=2,KolejkaRunda1!D209,IF(Protokół!$DJ$3=3,KolejkaRunda1!E209,IF(Protokół!$DJ$3=4,KolejkaRunda1!F209,\"\"))))","v":0},32,3032,4032,null,4]
[34,{"$f":"IF(Protokół!$DJ$3=1,KolejkaRunda1!C210,IF(Protokół!$DJ$3=2,KolejkaRunda1!D210,IF(Protokół!$DJ$3=3,KolejkaRunda1!E210,IF(Protokół!$DJ$3=4,KolejkaRunda1!F210,\"\"))))","v":0},33,3033,4033,null,5]
[35,{"$f":"IF(Protokół!$DJ$3=1,KolejkaRunda1!C211,IF(Protokół!$DJ$3=2,KolejkaRunda1!D211,IF(Protokół!$DJ$3=3,KolejkaRunda1!E211,IF(Protokół!$DJ$3=4,KolejkaRunda1!F211,\"\"))))","v":0},34,3034,4034,null,6]
[36,{"$f":"IF(Protokół!$DJ$3=1,KolejkaRunda1!C212,IF(Protokół!$DJ$3=2,KolejkaRunda1!D212,IF(Protokół!$DJ$3=3,KolejkaRunda1!E212,IF(Protokół!$DJ$3=4,KolejkaRunda1!F212,\"\"))))","v":0},35,3035,4035,null,7]
[37,{"$f":"IF(Protokół!$DJ$3=1,KolejkaRunda1!C213,IF(Protokół!$DJ$3=2,KolejkaRunda1!D213,IF(Protokół!$DJ$3=3,KolejkaRunda1!E213,IF(Protokół!$DJ$3=4,KolejkaRunda1!F213,\"\"))))","v":0},36,3036,4036,null,8]
[38,{"$f":"IF(Protokół!$DJ$3=1,KolejkaRunda1!C214,IF(Protokół!$DJ$3=2,KolejkaRunda1!D214,IF(Protokół!$DJ$3=3,KolejkaRunda1!E214,IF(Protokół!$DJ$3=4,KolejkaRunda1!F214,\"\"))))","v":0},37,3037,4037,null,9]
[39,{"$f":"IF(Protokół!$DJ$3=1,KolejkaRunda1!C215,IF(Protokół!$DJ$3=2,KolejkaRunda1!D215,IF(Protokół!$DJ$3=3,KolejkaRunda1!E215,IF(Protokół!$DJ$3=4,KolejkaRunda1!F215,\"\"))))","v":0},38,3038,4038,null,10]
[40,{"$f":"IF(Protokół!$DJ$3=1,KolejkaRunda1!C216,IF(Protokół!$DJ$3=2,KolejkaRunda1!D216,IF(Protokół!$DJ$3=3,KolejkaRunda1!E216,IF(Protokół!$DJ$3=4,KolejkaRunda1!F216,\"\"))))","v":0},39,3039,4039,null,11]
[41,{"$f":"IF(Protokół!$DJ$3=1,KolejkaRunda1!C217,IF(Protokół!$DJ$3=2,KolejkaRunda1!D217,IF(Protokół!$DJ$3=3,KolejkaRunda1!E217,IF(Protokół!$DJ$3=4,KolejkaRunda1!F217,\"\"))))","v":0},40,3040,4040,null,12]
[42,{"$f":"IF(Protokół!$DJ$3=1,KolejkaRunda1!C218,IF(Protokół!$DJ$3=2,KolejkaRunda1!D218,IF(Protokół!$DJ$3=3,KolejkaRunda1!E218,IF(Protokół!$DJ$3=4,KolejkaRunda1!F218,\"\"))))","v":0},41,3041,4041,null,13]
[43,{"$f":"IF(Protokół!$DJ$3=1,KolejkaRunda1!C219,IF(Protokół!$DJ$3=2,KolejkaRunda1!D219,IF(Protokół!$DJ$3=3,KolejkaRunda1!E219,IF(Protokół!$DJ$3=4,KolejkaRunda1!F219,\"\"))))","v":0},42,3042,4042,null,14]
[44,{"$f":"IF(Protokół!$DJ$3=1,KolejkaRunda1!C220,IF(Protokół!$DJ$3=2,KolejkaRunda1!D220,IF(Protokół!$DJ$3=3,KolejkaRunda1!E220,IF(Protokół!$DJ$3=4,KolejkaRunda1!F220,\"\"))))","v":0},43,3043,4043,null,15]
[45,{"$f":"IF(Protokół!$DJ$3=1,KolejkaRunda1!C221,IF(Protokół!$DJ$3=2,KolejkaRunda1!D221,IF(Protokół!$DJ$3=3,KolejkaRunda1!E221,IF(Protokół!$DJ$3=4,KolejkaRunda1!F221,\"\"))))","v":0},44,3044,4044,null,16]
[46,{"$f":"IF(Protokół!$DJ$3=1,KolejkaRunda1!C222,IF(Protokół!$DJ$3=2,KolejkaRunda1!D222,IF(Protokół!$DJ$3=3,KolejkaRunda1!E222,IF(Protokół!$DJ$3=4,KolejkaRunda1!F222,\"\"))))","v":0},45,3045,4045,null,17]
[47,{"$f":"IF(Protokół!$DJ$3=1,KolejkaRunda1!C223,IF(Protokół!$DJ$3=2,KolejkaRunda1!D223,IF(Protokół!$DJ$3=3,KolejkaRunda1!E223,IF(Protokół!$DJ$3=4,KolejkaRunda1!F223,\"\"))))","v":0},46,3046,4046,null,18]
[48,{"$f":"IF(Protokół!$DJ$3=1,KolejkaRunda1!C224,IF(Protokół!$DJ$3=2,KolejkaRunda1!D224,IF(Protokół!$DJ$3=3,KolejkaRunda1!E224,IF(Protokół!$DJ$3=4,KolejkaRunda1!F224,\"\"))))","v":0},47,3047,4047,null,19]
[49,{"$f":"IF(Protokół!$DJ$3=1,KolejkaRunda1!C225,IF(Protokół!$DJ$3=2,KolejkaRunda1!D225,IF(Protokół!$DJ$3=3,KolejkaRunda1!E225,IF(Protokół!$DJ$3=4,KolejkaRunda1!F225,\"\"))))","v":0},48,3048,4048,null,20]
[50,{"$f":"IF(Protokół!$DJ$3=1,KolejkaRunda1!C226,IF(Protokół!$DJ$3=2,KolejkaRunda1!D226,IF(Protokół!$DJ$3=3,KolejkaRunda1!E226,IF(Protokół!$DJ$3=4,KolejkaRunda1!F226,\"\"))))","v":0},49,3049,4049,null,21]
[51,{"$f":"IF(Protokół!$DJ$3=1,KolejkaRunda1!C227,IF(Protokół!$DJ$3=2,KolejkaRunda1!D227,IF(Protokół!$DJ$3=3,KolejkaRunda1!E227,IF(Protokół!$DJ$3=4,KolejkaRunda1!F227,\"\"))))","v":0},50,3050,4050,null,22]
[52,{"$f":"IF(Protokół!$DJ$3=1,KolejkaRunda1!C228,IF(Protokół!$DJ$3=2,KolejkaRunda1!D228,IF(Protokół!$DJ$3=3,KolejkaRunda1!E228,IF(Protokół!$DJ$3=4,KolejkaRunda1!F228,\"\"))))","v":0},51,3051,4051,null,23]
[53,{"$f":"IF(Protokół!$DJ$3=1,KolejkaRunda1!C229,IF(Protokół!$DJ$3=2,KolejkaRunda1!D229,IF(Protokół!$DJ$3=3,KolejkaRunda1!E229,IF(Protokół!$DJ$3=4,KolejkaRunda1!F229,\"\"))))","v":0},52,3052,4052,null,24]
[54,{"$f":"IF(Protokół!$DJ$3=1,KolejkaRunda1!C230,IF(Protokół!$DJ$3=2,KolejkaRunda1!D230,IF(Protokół!$DJ$3=3,KolejkaRunda1!E230,IF(Protokół!$DJ$3=4,KolejkaRunda1!F230,\"\"))))","v":0},53,3053,4053,null,25]
[55,{"$f":"IF(Protokół!$DJ$3=1,KolejkaRunda1!C231,IF(Protokół!$DJ$3=2,KolejkaRunda1!D231,IF(Protokół!$DJ$3=3,KolejkaRunda1!E231,IF(Protokół!$DJ$3=4,KolejkaRunda1!F231,\"\"))))","v":0},54,3054,4054,null,26]
[56,{"$f":"IF(Protokół!$DJ$3=1,KolejkaRunda1!C232,IF(Protokół!$DJ$3=2,KolejkaRunda1!D232,IF(Protokół!$DJ$3=3,KolejkaRunda1!E232,IF(Protokół!$DJ$3=4,KolejkaRunda1!F232,\"\"))))","v":0},55,3055,4055,null,27]
[57,{"$f":"IF(Protokół!$DJ$3=1,KolejkaRunda1!C233,IF(Protokół!$DJ$3=2,KolejkaRunda1!D233,IF(Protokół!$DJ$3=3,KolejkaRunda1!E233,IF(Protokół!$DJ$3=4,KolejkaRunda1!F233,\"\"))))","v":0},56,3056,4056,null,28]
[58,{"$f":"IF(Protokół!$DJ$3=1,KolejkaRunda1!C234,IF(Protokół!$DJ$3=2,KolejkaRunda1!D234,IF(Protokół!$DJ$3=3,KolejkaRunda1!E234,IF(Protokół!$DJ$3=4,KolejkaRunda1!F234,\"\"))))","v":0},null,3057,4057]
[59,{"$f":"IF(Protokół!$DJ$3=1,KolejkaRunda1!C235,IF(Protokół!$DJ$3=2,KolejkaRunda1!D235,IF(Protokół!$DJ$3=3,KolejkaRunda1!E235,IF(Protokół!$DJ$3=4,KolejkaRunda1!F235,\"\"))))","v":0},null,3058,4058]
[60,{"$f":"IF(Protokół!$DJ$3=1,KolejkaRunda1!C236,IF(Protokół!$DJ$3=2,KolejkaRunda1!D236,IF(Protokół!$DJ$3=3,KolejkaRunda1!E236,IF(Protokół!$DJ$3=4,KolejkaRunda1!F236,\"\"))))","v":0},null,3059,4059]
[61,{"$f":"IF(Protokół!$DJ$3=1,KolejkaRunda1!C237,IF(Protokół!$DJ$3=2,KolejkaRunda1!D237,IF(Protokół!$DJ$3=3,KolejkaRunda1!E237,IF(Protokół!$DJ$3=4,KolejkaRunda1!F237,\"\"))))","v":0},null,3060,4060]
[62,{"$f":"IF(Protokół!$DJ$3=1,KolejkaRunda1!C238,IF(Protokół!$DJ$3=2,KolejkaRunda1!D238,IF(Protokół!$DJ$3=3,KolejkaRunda1!E238,IF(Protokół!$DJ$3=4,KolejkaRunda1!F238,\"\"))))","v":0},null,3061,4061]
[63,{"$f":"IF(Protokół!$DJ$3=1,KolejkaRunda1!C239,IF(Protokół!$DJ$3=2,KolejkaRunda1!D239,IF(Protokół!$DJ$3=3,KolejkaRunda1!E239,IF(Protokół!$DJ$3=4,KolejkaRunda1!F239,\"\"))))","v":0},null,3062,4062]
[64,{"$f":"IF(Protokół!$DJ$3=1,KolejkaRunda1!C240,IF(Protokół!$DJ$3=2,KolejkaRunda1!D240,IF(Protokół!$DJ$3=3,KolejkaRunda1!E240,IF(Protokół!$DJ$3=4,KolejkaRunda1!F240,\"\"))))","v":0},null,3063,4063]
[65,{"$f":"IF(Protokół!$DJ$3=1,KolejkaRunda1!C241,IF(Protokół!$DJ$3=2,KolejkaRunda1!D241,IF(Protokół!$DJ$3=3,KolejkaRunda1!E241,IF(Protokół!$DJ$3=4,KolejkaRunda1!F241,\"\"))))","v":0},null,3064,4064]
[66,{"$f":"IF(Protokół!$DJ$3=1,KolejkaRunda1!C242,IF(Protokół!$DJ$3=2,KolejkaRunda1!D242,IF(Protokół!$DJ$3=3,KolejkaRunda1!E242,IF(Protokół!$DJ$3=4,KolejkaRunda1!F242,\"\"))))","v":0},null,3065,4065]
[67,{"$f":"IF(Protokół!$DJ$3=1,KolejkaRunda1!C243,IF(Protokół!$DJ$3=2,KolejkaRunda1!D243,IF(Protokół!$DJ$3=3,KolejkaRunda1!E243,IF(Protokół!$DJ$3=4,KolejkaRunda1!F243,\"\"))))","v":0},null,3066,4066]
[68,{"$f":"IF(Protokół!$DJ$3=1,KolejkaRunda1!C244,IF(Protokół!$DJ$3=2,KolejkaRunda1!D244,IF(Protokół!$DJ$3=3,KolejkaRunda1!E244,IF(Protokół!$DJ$3=4,KolejkaRunda1!F244,\"\"))))","v":0},null,3067,4067]
[69,{"$f":"IF(Protokół!$DJ$3=1,KolejkaRunda1!C245,IF(Protokół!$DJ$3=2,KolejkaRunda1!D245,IF(Protokół!$DJ$3=3,KolejkaRunda1!E245,IF(Protokół!$DJ$3=4,KolejkaRunda1!F245,\"\"))))","v":0},null,3068,4068]
[70,{"$f":"IF(Protokół!$DJ$3=1,KolejkaRunda1!C246,IF(Protokół!$DJ$3=2,KolejkaRunda1!D246,IF(Protokół!$DJ$3=3,KolejkaRunda1!E246,IF(Protokół!$DJ$3=4,KolejkaRunda1!F246,\"\"))))","v":0},null,3069,4069]
[71,{"$f":"IF(Protokół!$DJ$3=1,KolejkaRunda1!C247,IF(Protokół!$DJ$3=2,KolejkaRunda1!D247,IF(Protokół!$DJ$3=3,KolejkaRunda1!E247,IF(Protokół!$DJ$3=4,KolejkaRunda1!F247,\"\"))))","v":0},null,3070,4070]
[72,{"$f":"IF(Protokół!$DJ$3=1,KolejkaRunda1!C248,IF(Protokół!$DJ$3=2,KolejkaRunda1!D248,IF(Protokół!$DJ$3=3,KolejkaRunda1!E248,IF(Protokół!$DJ$3=4,KolejkaRunda1!F248,\"\"))))","v":0},null,3071,4071]
[73,{"$f":"IF(Protokół!$DJ$3=1,KolejkaRunda1!C249,IF(Protokół!$DJ$3=2,KolejkaRunda1!D249,IF(Protokół!$DJ$3=3,KolejkaRunda1!E249,IF(Protokół!$DJ$3=4,KolejkaRunda1!F249,\"\"))))","v":0},null,3072,4072]
[74,{"$f":"IF(Protokół!$DJ$3=1,KolejkaRunda1!C250,IF(Protokół!$DJ$3=2,KolejkaRunda1!D250,IF(Protokół!$DJ$3=3,KolejkaRunda1!E250,IF(Protokół!$DJ$3=4,KolejkaRunda1!F250,\"\"))))","v":0},null,3073,4073]
[75,{"$f":"IF(Protokół!$DJ$3=1,KolejkaRunda1!C251,IF(Protokół!$DJ$3=2,KolejkaRunda1!D251,IF(Protokół!$DJ$3=3,KolejkaRunda1!E251,IF(Protokół!$DJ$3=4,KolejkaRunda1!F251,\"\"))))","v":0},null,3074,4074]
[76,{"$f":"IF(Protokół!$DJ$3=1,KolejkaRunda1!C252,IF(Protokół!$DJ$3=2,KolejkaRunda1!D252,IF(Protokół!$DJ$3=3,KolejkaRunda1!E252,IF(Protokół!$DJ$3=4,KolejkaRunda1!F252,\"\"))))","v":0},null,3075,4075]
[77,{"$f":"IF(Protokół!$DJ$3=1,KolejkaRunda1!C253,IF(Protokół!$DJ$3=2,KolejkaRunda1!D253,IF(Protokół!$DJ$3=3,KolejkaRunda1!E253,IF(Protokół!$DJ$3=4,KolejkaRunda1!F253,\"\"))))","v":0},null,3076,4076]
[78,{"$f":"IF(Protokół!$DJ$3=1,KolejkaRunda1!C254,IF(Protokół!$DJ$3=2,KolejkaRunda1!D254,IF(Protokół!$DJ$3=3,KolejkaRunda1!E254,IF(Protokół!$DJ$3=4,KolejkaRunda1!F254,\"\"))))","v":0},null,3077,4077]
[79,{"$f":"IF(Protokół!$DJ$3=1,KolejkaRunda1!C255,IF(Protokół!$DJ$3=2,KolejkaRunda1!D255,IF(Protokół!$DJ$3=3,KolejkaRunda1!E255,IF(Protokół!$DJ$3=4,KolejkaRunda1!F255,\"\"))))","v":0},null,3078,4078]
[80,{"$f":"IF(Protokół!$DJ$3=1,KolejkaRunda1!C256,IF(Protokół!$DJ$3=2,KolejkaRunda1!D256,IF(Protokół!$DJ$3=3,KolejkaRunda1!E256,IF(Protokół!$DJ$3=4,KolejkaRunda1!F256,\"\"))))","v":0},null,3079,4079]
[81,{"$f":"IF(Protokół!$DJ$3=1,KolejkaRunda1!C257,IF(Protokół!$DJ$3=2,KolejkaRunda1!D257,IF(Protokół!$DJ$3=3,KolejkaRunda1!E257,IF(Protokół!$DJ$3=4,KolejkaRunda1!F257,\"\"))))","v":0},null,3080,4080]
[82,{"$f":"IF(Protokół!$DJ$3=1,KolejkaRunda1!C258,IF(Protokół!$DJ$3=2,KolejkaRunda1!D258,IF(Protokół!$DJ$3=3,KolejkaRunda1!E258,IF(Protokół!$DJ$3=4,KolejkaRunda1!F258,\"\"))))","v":0},null,3081,4081]
[83,{"$f":"IF(Protokół!$DJ$3=1,KolejkaRunda1!C259,IF(Protokół!$DJ$3=2,KolejkaRunda1!D259,IF(Protokół!$DJ$3=3,KolejkaRunda1!E259,IF(Protokół!$DJ$3=4,KolejkaRunda1!F259,\"\"))))","v":0},null,3082,4082]
[84,{"$f":"IF(Protokół!$DJ$3=1,KolejkaRunda1!C260,IF(Protokół!$DJ$3=2,KolejkaRunda1!D260,IF(Protokół!$DJ$3=3,KolejkaRunda1!E260,IF(Protokół!$DJ$3=4,KolejkaRunda1!F260,\"\"))))","v":0},null,3083,4083]
[85,{"$f":"IF(Protokół!$DJ$3=1,KolejkaRunda1!C261,IF(Protokół!$DJ$3=2,KolejkaRunda1!D261,IF(Protokół!$DJ$3=3,KolejkaRunda1!E261,IF(Protokół!$DJ$3=4,KolejkaRunda1!F261,\"\"))))","v":0},null,3084,4084]
[86,{"$f":"IF(Protokół!$DJ$3=1,KolejkaRunda1!C262,IF(Protokół!$DJ$3=2,KolejkaRunda1!D262,IF(Protokół!$DJ$3=3,KolejkaRunda1!E262,IF(Protokół!$DJ$3=4,KolejkaRunda1!F262,\"\"))))","v":0},null,3085,4085]
[87,{"$f":"IF(Protokół!$DJ$3=1,KolejkaRunda1!C263,IF(Protokół!$DJ$3=2,KolejkaRunda1!D263,IF(Protokół!$DJ$3=3,KolejkaRunda1!E263,IF(Protokół!$DJ$3=4,KolejkaRunda1!F263,\"\"))))","v":0},null,3086,4086]
[88,{"$f":"IF(Protokół!$DJ$3=1,KolejkaRunda1!C264,IF(Protokół!$DJ$3=2,KolejkaRunda1!D264,IF(Protokół!$DJ$3=3,KolejkaRunda1!E264,IF(Protokół!$DJ$3=4,KolejkaRunda1!F264,\"\"))))","v":0},null,3087,4087]
[89,{"$f":"IF(Protokół!$DJ$3=1,KolejkaRunda1!C265,IF(Protokół!$DJ$3=2,KolejkaRunda1!D265,IF(Protokół!$DJ$3=3,KolejkaRunda1!E265,IF(Protokół!$DJ$3=4,KolejkaRunda1!F265,\"\"))))","v":0},null,3088,4088]
[90,{"$f":"IF(Protokół!$DJ$3=1,KolejkaRunda1!C266,IF(Protokół!$DJ$3=2,KolejkaRunda1!D266,IF(Protokół!$DJ$3=3,KolejkaRunda1!E266,IF(Protokół!$DJ$3=4,KolejkaRunda1!F266,\"\"))))","v":0},null,3089,4089]
[91,{"$f":"IF(Protokół!$DJ$3=1,KolejkaRunda1!C267,IF(Protokół!$DJ$3=2,KolejkaRunda1!D267,IF(Protokół!$DJ$3=3,KolejkaRunda1!E267,IF(Protokół!$DJ$3=4,KolejkaRunda1!F267,\"\"))))","v":0},null,3090,4090]
[null,{"$f":"IF(Protokół!$DJ$3=1,KolejkaRunda1!C268,IF(Protokół!$DJ$3=2,KolejkaRunda1!D268,IF(Protokół!$DJ$3=3,KolejkaRunda1!E268,IF(Protokół!$DJ$3=4,KolejkaRunda1!F268,\"\"))))","v":0},null,3091]
[null,{"$f":"IF(Protokół!$DJ$3=1,KolejkaRunda1!C269,IF(Protokół!$DJ$3=2,KolejkaRunda1!D269,IF(Protokół!$DJ$3=3,KolejkaRunda1!E269,IF(Protokół!$DJ$3=4,KolejkaRunda1!F269,\"\"))))","v":0},null,3092]
[null,{"$f":"IF(Protokół!$DJ$3=1,KolejkaRunda1!C270,IF(Protokół!$DJ$3=2,KolejkaRunda1!D270,IF(Protokół!$DJ$3=3,KolejkaRunda1!E270,IF(Protokół!$DJ$3=4,KolejkaRunda1!F270,\"\"))))","v":0},null,3093]
[null,{"$f":"IF(Protokół!$DJ$3=1,KolejkaRunda1!C271,IF(Protokół!$DJ$3=2,KolejkaRunda1!D271,IF(Protokół!$DJ$3=3,KolejkaRunda1!E271,IF(Protokół!$DJ$3=4,KolejkaRunda1!F271,\"\"))))","v":0},null,3094]
[null,{"$f":"IF(Protokół!$DJ$3=1,KolejkaRunda1!C272,IF(Protokół!$DJ$3=2,KolejkaRunda1!D272,IF(Protokół!$DJ$3=3,KolejkaRunda1!E272,IF(Protokół!$DJ$3=4,KolejkaRunda1!F272,\"\"))))","v":0},null,3095]
[null,{"$f":"IF(Protokół!$DJ$3=1,KolejkaRunda1!C273,IF(Protokół!$DJ$3=2,KolejkaRunda1!D273,IF(Protokół!$DJ$3=3,KolejkaRunda1!E273,IF(Protokół!$DJ$3=4,KolejkaRunda1!F273,\"\"))))","v":0},null,3096]
[null,{"$f":"IF(Protokół!$DJ$3=1,KolejkaRunda1!C274,IF(Protokół!$DJ$3=2,KolejkaRunda1!D274,IF(Protokół!$DJ$3=3,KolejkaRunda1!E274,IF(Protokół!$DJ$3=4,KolejkaRunda1!F274,\"\"))))","v":0},null,3097]
[null,{"$f":"IF(Protokół!$DJ$3=1,KolejkaRunda1!C275,IF(Protokół!$DJ$3=2,KolejkaRunda1!D275,IF(Protokół!$DJ$3=3,KolejkaRunda1!E275,IF(Protokół!$DJ$3=4,KolejkaRunda1!F275,\"\"))))","v":0},null,3098]
[null,{"$f":"IF(Protokół!$DJ$3=1,KolejkaRunda1!C276,IF(Protokół!$DJ$3=2,KolejkaRunda1!D276,IF(Protokół!$DJ$3=3,KolejkaRunda1!E276,IF(Protokół!$DJ$3=4,KolejkaRunda1!F276,\"\"))))","v":0},null,3099]
[null,{"$f":"IF(Protokół!$DJ$3=1,KolejkaRunda1!C277,IF(Protokół!$DJ$3=2,KolejkaRunda1!D277,IF(Protokół!$DJ$3=3,KolejkaRunda1!E277,IF(Protokół!$DJ$3=4,KolejkaRunda1!F277,\"\"))))","v":0},null,3100]
[null,{"$f":"IF(Protokół!$DJ$3=1,KolejkaRunda1!C278,IF(Protokół!$DJ$3=2,KolejkaRunda1!D278,IF(Protokół!$DJ$3=3,KolejkaRunda1!E278,IF(Protokół!$DJ$3=4,KolejkaRunda1!F278,\"\"))))","v":0},null,3101]
[null,{"$f":"IF(Protokół!$DJ$3=1,KolejkaRunda1!C279,IF(Protokół!$DJ$3=2,KolejkaRunda1!D279,IF(Protokół!$DJ$3=3,KolejkaRunda1!E279,IF(Protokół!$DJ$3=4,KolejkaRunda1!F279,\"\"))))","v":0},null,3102]
[null,{"$f":"IF(Protokół!$DJ$3=1,KolejkaRunda1!C280,IF(Protokół!$DJ$3=2,KolejkaRunda1!D280,IF(Protokół!$DJ$3=3,KolejkaRunda1!E280,IF(Protokół!$DJ$3=4,KolejkaRunda1!F280,\"\"))))","v":0},null,3103]
[null,{"$f":"IF(Protokół!$DJ$3=1,KolejkaRunda1!C281,IF(Protokół!$DJ$3=2,KolejkaRunda1!D281,IF(Protokół!$DJ$3=3,KolejkaRunda1!E281,IF(Protokół!$DJ$3=4,KolejkaRunda1!F281,\"\"))))","v":0},null,3104]
[null,{"$f":"IF(Protokół!$DJ$3=1,KolejkaRunda1!C282,IF(Protokół!$DJ$3=2,KolejkaRunda1!D282,IF(Protokół!$DJ$3=3,KolejkaRunda1!E282,IF(Protokół!$DJ$3=4,KolejkaRunda1!F282,\"\"))))","v":0},null,3105]
[null,{"$f":"IF(Protokół!$DJ$3=1,KolejkaRunda1!C283,IF(Protokół!$DJ$3=2,KolejkaRunda1!D283,IF(Protokół!$DJ$3=3,KolejkaRunda1!E283,IF(Protokół!$DJ$3=4,KolejkaRunda1!F283,\"\"))))","v":0},null,3106]
[null,{"$f":"IF(Protokół!$DJ$3=1,KolejkaRunda1!C284,IF(Protokół!$DJ$3=2,KolejkaRunda1!D284,IF(Protokół!$DJ$3=3,KolejkaRunda1!E284,IF(Protokół!$DJ$3=4,KolejkaRunda1!F284,\"\"))))","v":0},null,3107]
[null,{"$f":"IF(Protokół!$DJ$3=1,KolejkaRunda1!C285,IF(Protokół!$DJ$3=2,KolejkaRunda1!D285,IF(Protokół!$DJ$3=3,KolejkaRunda1!E285,IF(Protokół!$DJ$3=4,KolejkaRunda1!F285,\"\"))))","v":0},null,3108]
[null,{"$f":"IF(Protokół!$DJ$3=1,KolejkaRunda1!C286,IF(Protokół!$DJ$3=2,KolejkaRunda1!D286,IF(Protokół!$DJ$3=3,KolejkaRunda1!E286,IF(Protokół!$DJ$3=4,KolejkaRunda1!F286,\"\"))))","v":0},null,3109]
[null,{"$f":"IF(Protokół!$DJ$3=1,KolejkaRunda1!C287,IF(Protokół!$DJ$3=2,KolejkaRunda1!D287,IF(Protokół!$DJ$3=3,KolejkaRunda1!E287,IF(Protokół!$DJ$3=4,KolejkaRunda1!F287,\"\"))))","v":0},null,3110]
[null,{"$f":"IF(Protokół!$DJ$3=1,KolejkaRunda1!C288,IF(Protokół!$DJ$3=2,KolejkaRunda1!D288,IF(Protokół!$DJ$3=3,KolejkaRunda1!E288,IF(Protokół!$DJ$3=4,KolejkaRunda1!F288,\"\"))))","v":0},null,3111]
[null,{"$f":"IF(Protokół!$DJ$3=1,KolejkaRunda1!C289,IF(Protokół!$DJ$3=2,KolejkaRunda1!D289,IF(Protokół!$DJ$3=3,KolejkaRunda1!E289,IF(Protokół!$DJ$3=4,KolejkaRunda1!F289,\"\"))))","v":0},null,3112]
[null,{"$f":"IF(Protokół!$DJ$3=1,KolejkaRunda1!C290,IF(Protokół!$DJ$3=2,KolejkaRunda1!D290,IF(Protokół!$DJ$3=3,KolejkaRunda1!E290,IF(Protokół!$DJ$3=4,KolejkaRunda1!F290,\"\"))))","v":0},null,3113]
[null,{"$f":"IF(Protokół!$DJ$3=1,KolejkaRunda1!C291,IF(Protokół!$DJ$3=2,KolejkaRunda1!D291,IF(Protokół!$DJ$3=3,KolejkaRunda1!E291,IF(Protokół!$DJ$3=4,KolejkaRunda1!F291,\"\"))))","v":0},null,3114]
[null,{"$f":"IF(Protokół!$DJ$3=1,KolejkaRunda1!C292,IF(Protokół!$DJ$3=2,KolejkaRunda1!D292,IF(Protokół!$DJ$3=3,KolejkaRunda1!E292,IF(Protokół!$DJ$3=4,KolejkaRunda1!F292,\"\"))))","v":0},null,3115]
[null,{"$f":"IF(Protokół!$DJ$3=1,KolejkaRunda1!C293,IF(Protokół!$DJ$3=2,KolejkaRunda1!D293,IF(Protokół!$DJ$3=3,KolejkaRunda1!E293,IF(Protokół!$DJ$3=4,KolejkaRunda1!F293,\"\"))))","v":0},null,3116]
[null,{"$f":"IF(Protokół!$DJ$3=1,KolejkaRunda1!C294,IF(Protokół!$DJ$3=2,KolejkaRunda1!D294,IF(Protokół!$DJ$3=3,KolejkaRunda1!E294,IF(Protokół!$DJ$3=4,KolejkaRunda1!F294,\"\"))))","v":0},null,3117]
[null,{"$f":"IF(Protokół!$DJ$3=1,KolejkaRunda1!C295,IF(Protokół!$DJ$3=2,KolejkaRunda1!D295,IF(Protokół!$DJ$3=3,KolejkaRunda1!E295,IF(Protokół!$DJ$3=4,KolejkaRunda1!F295,\"\"))))","v":0},null,3118]
[null,{"$f":"IF(Protokół!$DJ$3=1,KolejkaRunda1!C296,IF(Protokół!$DJ$3=2,KolejkaRunda1!D296,IF(Protokół!$DJ$3=3,KolejkaRunda1!E296,IF(Protokół!$DJ$3=4,KolejkaRunda1!F296,\"\"))))","v":0},null,3119]
[null,{"$f":"IF(Protokół!$DJ$3=1,KolejkaRunda1!C297,IF(Protokół!$DJ$3=2,KolejkaRunda1!D297,IF(Protokół!$DJ$3=3,KolejkaRunda1!E297,IF(Protokół!$DJ$3=4,KolejkaRunda1!F297,\"\"))))","v":0},null,3120]
[null,{"$f":"IF(Protokół!$DJ$3=1,KolejkaRunda1!C298,IF(Protokół!$DJ$3=2,KolejkaRunda1!D298,IF(Protokół!$DJ$3=3,KolejkaRunda1!E298,IF(Protokół!$DJ$3=4,KolejkaRunda1!F298,\"\"))))","v":0},null,3121]
[null,{"$f":"IF(Protokół!$DJ$3=1,KolejkaRunda1!C299,IF(Protokół!$DJ$3=2,KolejkaRunda1!D299,IF(Protokół!$DJ$3=3,KolejkaRunda1!E299,IF(Protokół!$DJ$3=4,KolejkaRunda1!F299,\"\"))))","v":0},null,3122]
[null,{"$f":"IF(Protokół!$DJ$3=1,KolejkaRunda1!C300,IF(Protokół!$DJ$3=2,KolejkaRunda1!D300,IF(Protokół!$DJ$3=3,KolejkaRunda1!E300,IF(Protokół!$DJ$3=4,KolejkaRunda1!F300,\"\"))))","v":0},null,3123]
[null,{"$f":"IF(Protokół!$DJ$3=1,KolejkaRunda1!C301,IF(Protokół!$DJ$3=2,KolejkaRunda1!D301,IF(Protokół!$DJ$3=3,KolejkaRunda1!E301,IF(Protokół!$DJ$3=4,KolejkaRunda1!F301,\"\"))))","v":0},null,3124]
[null,{"$f":"IF(Protokół!$DJ$3=1,KolejkaRunda1!C302,IF(Protokół!$DJ$3=2,KolejkaRunda1!D302,IF(Protokół!$DJ$3=3,KolejkaRunda1!E302,IF(Protokół!$DJ$3=4,KolejkaRunda1!F302,\"\"))))","v":0},null,3125]
[null,{"$f":"IF(Protokół!$DJ$3=1,KolejkaRunda1!C303,IF(Protokół!$DJ$3=2,KolejkaRunda1!D303,IF(Protokół!$DJ$3=3,KolejkaRunda1!E303,IF(Protokół!$DJ$3=4,KolejkaRunda1!F303,\"\"))))","v":0},null,3126]
[null,{"$f":"IF(Protokół!$DJ$3=1,KolejkaRunda1!C304,IF(Protokół!$DJ$3=2,KolejkaRunda1!D304,IF(Protokół!$DJ$3=3,KolejkaRunda1!E304,IF(Protokół!$DJ$3=4,KolejkaRunda1!F304,\"\"))))","v":0},null,3127]
[null,{"$f":"IF(Protokół!$DJ$3=1,KolejkaRunda1!C305,IF(Protokół!$DJ$3=2,KolejkaRunda1!D305,IF(Protokół!$DJ$3=3,KolejkaRunda1!E305,IF(Protokół!$DJ$3=4,KolejkaRunda1!F305,\"\"))))","v":0},null,3128]
[null,{"$f":"IF(Protokół!$DJ$3=1,KolejkaRunda1!C306,IF(Protokół!$DJ$3=2,KolejkaRunda1!D306,IF(Protokół!$DJ$3=3,KolejkaRunda1!E306,IF(Protokół!$DJ$3=4,KolejkaRunda1!F306,\"\"))))","v":0},null,3129]
[null,{"$f":"IF(Protokół!$DJ$3=1,KolejkaRunda1!C307,IF(Protokół!$DJ$3=2,KolejkaRunda1!D307,IF(Protokół!$DJ$3=3,KolejkaRunda1!E307,IF(Protokół!$DJ$3=4,KolejkaRunda1!F307,\"\"))))","v":0},null,3130]
[null,{"$f":"IF(Protokół!$DJ$3=1,KolejkaRunda1!C308,IF(Protokół!$DJ$3=2,KolejkaRunda1!D308,IF(Protokół!$DJ$3=3,KolejkaRunda1!E308,IF(Protokół!$DJ$3=4,KolejkaRunda1!F308,\"\"))))","v":0},null,3131]
[null,{"$f":"IF(Protokół!$DJ$3=1,KolejkaRunda1!C309,IF(Protokół!$DJ$3=2,KolejkaRunda1!D309,IF(Protokół!$DJ$3=3,KolejkaRunda1!E309,IF(Protokół!$DJ$3=4,KolejkaRunda1!F309,\"\"))))","v":0},null,3132]
[null,{"$f":"IF(Protokół!$DJ$3=1,KolejkaRunda1!C310,IF(Protokół!$DJ$3=2,KolejkaRunda1!D310,IF(Protokół!$DJ$3=3,KolejkaRunda1!E310,IF(Protokół!$DJ$3=4,KolejkaRunda1!F310,\"\"))))","v":0},null,3133]
[null,{"$f":"IF(Protokół!$DJ$3=1,KolejkaRunda1!C311,IF(Protokół!$DJ$3=2,KolejkaRunda1!D311,IF(Protokół!$DJ$3=3,KolejkaRunda1!E311,IF(Protokół!$DJ$3=4,KolejkaRunda1!F311,\"\"))))","v":0},null,3134]
[null,{"$f":"IF(Protokół!$DJ$3=1,KolejkaRunda1!C312,IF(Protokół!$DJ$3=2,KolejkaRunda1!D312,IF(Protokół!$DJ$3=3,KolejkaRunda1!E312,IF(Protokół!$DJ$3=4,KolejkaRunda1!F312,\"\"))))","v":0},null,3135]
[null,{"$f":"IF(Protokół!$DJ$3=1,KolejkaRunda1!C313,IF(Protokół!$DJ$3=2,KolejkaRunda1!D313,IF(Protokół!$DJ$3=3,KolejkaRunda1!E313,IF(Protokół!$DJ$3=4,KolejkaRunda1!F313,\"\"))))","v":0},null,3136]
[null,{"$f":"IF(Protokół!$DJ$3=1,KolejkaRunda1!C314,IF(Protokół!$DJ$3=2,KolejkaRunda1!D314,IF(Protokół!$DJ$3=3,KolejkaRunda1!E314,IF(Protokół!$DJ$3=4,KolejkaRunda1!F314,\"\"))))","v":0},null,3137]
[null,{"$f":"IF(Protokół!$DJ$3=1,KolejkaRunda1!C315,IF(Protokół!$DJ$3=2,KolejkaRunda1!D315,IF(Protokół!$DJ$3=3,KolejkaRunda1!E315,IF(Protokół!$DJ$3=4,KolejkaRunda1!F315,\"\"))))","v":0},null,3138]
[null,{"$f":"IF(Protokół!$DJ$3=1,KolejkaRunda1!C316,IF(Protokół!$DJ$3=2,KolejkaRunda1!D316,IF(Protokół!$DJ$3=3,KolejkaRunda1!E316,IF(Protokół!$DJ$3=4,KolejkaRunda1!F316,\"\"))))","v":0},null,3139]
[null,{"$f":"IF(Protokół!$DJ$3=1,KolejkaRunda1!C317,IF(Protokół!$DJ$3=2,KolejkaRunda1!D317,IF(Protokół!$DJ$3=3,KolejkaRunda1!E317,IF(Protokół!$DJ$3=4,KolejkaRunda1!F317,\"\"))))","v":0},null,3140]
[null,{"$f":"IF(Protokół!$DJ$3=1,KolejkaRunda1!C318,IF(Protokół!$DJ$3=2,KolejkaRunda1!D318,IF(Protokół!$DJ$3=3,KolejkaRunda1!E318,IF(Protokół!$DJ$3=4,KolejkaRunda1!F318,\"\"))))","v":0},null,3141]
[null,{"$f":"IF(Protokół!$DJ$3=1,KolejkaRunda1!C319,IF(Protokół!$DJ$3=2,KolejkaRunda1!D319,IF(Protokół!$DJ$3=3,KolejkaRunda1!E319,IF(Protokół!$DJ$3=4,KolejkaRunda1!F319,\"\"))))","v":0},null,3142]
[null,{"$f":"IF(Protokół!$DJ$3=1,KolejkaRunda1!C320,IF(Protokół!$DJ$3=2,KolejkaRunda1!D320,IF(Protokół!$DJ$3=3,KolejkaRunda1!E320,IF(Protokół!$DJ$3=4,KolejkaRunda1!F320,\"\"))))","v":0},null,3143]
[null,{"$f":"IF(Protokół!$DJ$3=1,KolejkaRunda1!C321,IF(Protokół!$DJ$3=2,KolejkaRunda1!D321,IF(Protokół!$DJ$3=3,KolejkaRunda1!E321,IF(Protokół!$DJ$3=4,KolejkaRunda1!F321,\"\"))))","v":0},null,3144]
[null,{"$f":"IF(Protokół!$DJ$3=1,KolejkaRunda1!C322,IF(Protokół!$DJ$3=2,KolejkaRunda1!D322,IF(Protokół!$DJ$3=3,KolejkaRunda1!E322,IF(Protokół!$DJ$3=4,KolejkaRunda1!F322,\"\"))))","v":0},null,3145]
[null,{"$f":"IF(Protokół!$DJ$3=1,KolejkaRunda1!C323,IF(Protokół!$DJ$3=2,KolejkaRunda1!D323,IF(Protokół!$DJ$3=3,KolejkaRunda1!E323,IF(Protokół!$DJ$3=4,KolejkaRunda1!F323,\"\"))))","v":0},null,3146]
[null,{"$f":"IF(Protokół!$DJ$3=1,KolejkaRunda1!C324,IF(Protokół!$DJ$3=2,KolejkaRunda1!D324,IF(Protokół!$DJ$3=3,KolejkaRunda1!E324,IF(Protokół!$DJ$3=4,KolejkaRunda1!F324,\"\"))))","v":0},null,3147]
[null,{"$f":"IF(Protokół!$DJ$3=1,KolejkaRunda1!C325,IF(Protokół!$DJ$3=2,KolejkaRunda1!D325,IF(Protokół!$DJ$3=3,KolejkaRunda1!E325,IF(Protokół!$DJ$3=4,KolejkaRunda1!F325,\"\"))))","v":0},null,3148]
[null,{"$f":"IF(Protokół!$DJ$3=1,KolejkaRunda1!C326,IF(Protokół!$DJ$3=2,KolejkaRunda1!D326,IF(Protokół!$DJ$3=3,KolejkaRunda1!E326,IF(Protokół!$DJ$3=4,KolejkaRunda1!F326,\"\"))))","v":0},null,3149]
[null,{"$f":"IF(Protokół!$DJ$3=1,KolejkaRunda1!C327,IF(Protokół!$DJ$3=2,KolejkaRunda1!D327,IF(Protokół!$DJ$3=3,KolejkaRunda1!E327,IF(Protokół!$DJ$3=4,KolejkaRunda1!F327,\"\"))))","v":0},null,3150]
[null,{"$f":"IF(Protokół!$DJ$3=1,KolejkaRunda1!C328,IF(Protokół!$DJ$3=2,KolejkaRunda1!D328,IF(Protokół!$DJ$3=3,KolejkaRunda1!E328,IF(Protokół!$DJ$3=4,KolejkaRunda1!F328,\"\"))))","v":0},null,3151]
[null,{"$f":"IF(Protokół!$DJ$3=1,KolejkaRunda1!C329,IF(Protokół!$DJ$3=2,KolejkaRunda1!D329,IF(Protokół!$DJ$3=3,KolejkaRunda1!E329,IF(Protokół!$DJ$3=4,KolejkaRunda1!F329,\"\"))))","v":0},null,3152]
[null,{"$f":"IF(Protokół!$DJ$3=1,KolejkaRunda1!C330,IF(Protokół!$DJ$3=2,KolejkaRunda1!D330,IF(Protokół!$DJ$3=3,KolejkaRunda1!E330,IF(Protokół!$DJ$3=4,KolejkaRunda1!F330,\"\"))))","v":0},null,3153]
[null,{"$f":"IF(Protokół!$DJ$3=1,KolejkaRunda1!C331,IF(Protokół!$DJ$3=2,KolejkaRunda1!D331,IF(Protokół!$DJ$3=3,KolejkaRunda1!E331,IF(Protokół!$DJ$3=4,KolejkaRunda1!F331,\"\"))))","v":0},null,3154]
[null,{"$f":"IF(Protokół!$DJ$3=1,KolejkaRunda1!C332,IF(Protokół!$DJ$3=2,KolejkaRunda1!D332,IF(Protokół!$DJ$3=3,KolejkaRunda1!E332,IF(Protokół!$DJ$3=4,KolejkaRunda1!F332,\"\"))))","v":0},null,3155]
[null,{"$f":"IF(Protokół!$DJ$3=1,KolejkaRunda1!C333,IF(Protokół!$DJ$3=2,KolejkaRunda1!D333,IF(Protokół!$DJ$3=3,KolejkaRunda1!E333,IF(Protokół!$DJ$3=4,KolejkaRunda1!F333,\"\"))))","v":0},null,3156]

{"sheet":"kluby i zawodnicy","index":6,"n_rows":8238,"n_cols":299,"rows_kept":8238,"cut":false,"hidden":true,"merged":[]}
["ATS Stargard","ANDRZEJEWSKA Paulina",4469,null,{"$f":"Protokół!DJ3","v":4},1,{"$f":"IF($E$1=1,BZ1,IF($E$1=2,DO1,IF($E$1=3,#REF!,IF($E$1=4,IG1,\"\"))))","v":"III KKTS Kołobrzeg"},"nr lic","Nazwisko","Imię",2,{"$f":"IF($E$1=1,CE1,IF($E$1=2,DT1,IF($E$1=3,GM1,IF($E$1=4,IL1,\"\"))))","v":"Flota Świnoujście"},"nr lic","Nazwisko","Imię",3,{"$f":"IF($E$1=1,CJ1,IF($E$1=2,DY1,IF($E$1=3,GR1,IF($E$1=4,IQ1,\"\"))))","v":"II STS Dębno"},"nr lic","Nazwisko","Imię",4,{"$f":"IF($E$1=1,CO1,IF($E$1=2,ED1,IF($E$1=3,GW1,IF($E$1=4,IV1,\"\"))))","v":"SL Salos Szczecin"},"nr lic","Nazwisko","Imię",5,{"$f":"IF($E$1=1,CT1,IF($E$1=2,EI1,IF($E$1=3,HB1,IF($E$1=4,JA1,\"\"))))","v":"STS Czapla Czplinek"},"nr lic","Nazwisko","Imię",6,{"$f":"IF($E$1=1,CY1,IF($E$1=2,EN1,IF($E$1=3,HG1,IF($E$1=4,JF1,\"\"))))","v":"ULKS Tychowo"},"nr lic","Nazwisko","Imię",7,{"$f":"IF($E$1=1,DD1,IF($E$1=2,ES1,IF($E$1=3,HL1,IF($E$1=4,JK1,\"\"))))","v":0},"nr lic","Nazwisko","Imię",8,{"$f":"IF($E$1=1,DI1,IF($E$1=2,EX1,IF($E$1=3,HQ1,IF($E$1=4,JP1,\"\"))))","v":0},"nr lic","Nazwisko","Imię",9,{"$f":"IF($E$1=1,\"\",IF($E$1=2,FC1,IF($E$1=3,HV1,IF($E$1=4,JU1,\"\"))))","v":0},"nr lic","Nazwisko","Imię",10,{"$f":"IF($E$1=1,\"\",IF($E$1=2,FH1,IF($E$1=3,IA1,IF($E$1=4,JZ1,\"\"))))","v":0},"nr lic","Nazwisko","Imię",11,{"$f":"IF($E$1=1,\"\",IF($E$1=2,FM1,IF($E$1=3,IF1,IF($E$1=4,KE1,\"\"))))","v":0},"nr lic","Nazwisko","Imię",12,{"$f":"IF($E$1=1,\"\",IF($E$1=2,FR1,IF($E$1=3,IK1,IF($E$1=4,KJ1,\"\"))))","v":0},"nr lic","Nazwisko","Imię",13,{"$f":"IF($E$1=1,\"\",IF($E$1=2,FW1,IF($E$1=3,IP1,IF($E$1=4,KO1,\"\"))))","v":0},"nr lic","Nazwisko","Imię",14,{"$f":"IF($E$1=1,\"\",IF($E$1=2,GB1,IF($E$1=3,IU1,IF($E$1=4,KT1,\"\"))))","v":0},"nr lic","Nazwisko","Imię","II liga",1,{"$f":"VLOOKUP(BY1,KolejkaRunda1!$I$166:$L$173,2)","v":"TOP-SPIN Szczecin"},"nr lic","Nazwisko","Imię",2,{"$f":"VLOOKUP(CD1,KolejkaRunda1!$I$166:$L$173,2)","v":"Visonex LUKS Top Wierzbięcin"},"nr lic","Nazwisko","Imię",3,{"$f":"VLOOKUP(CI1,KolejkaRunda1!$I$166:$L$173,2)","v":"WLKS Łobzonka Wyrzysk"},"nr lic","Nazwisko","Imię",4,"STS DĘBNO","nr lic","Nazwisko","Imię",5,{"$f":"VLOOKUP(CS1,KolejkaRunda1!$I$166:$L$173,2)","v":"KS ATS Stargard"},"nr lic","Nazwisko","Imię",6,{"$f":"VLOOKUP(CX1,KolejkaRunda1!$I$166:$L$173,2)","v":"UKS Nałęcz Majster Ostroróg"},"nr lic","Nazwisko","Imię",7,{"$f":"VLOOKUP(DC1,KolejkaRunda1!$I$166:$L$173,2)","v":"UKS CHAMPIN Police"},"nr lic","Nazwisko","Imię",8,"STLS Szczecinek","nr lic","Nazwisko","Imię","III liga",1,"II Visonex LUKS TOP Wierzbięcin","nr lic","Nazwisko","Imię",2,"II KS ATS Stargard","nr lic","Nazwisko","Imię",3,"UKS TEAM TENIS 2005 Białogard","nr lic","Nazwisko","Imię",4,"MSZS Świdwin","nr lic","Nazwisko","Imię",5,"UKS Czarni Pieszcz","nr lic","Nazwisko","Imię",6,"KKTS Kołobrzeg","nr lic","Nazwisko","Imię",7,"UKS-T VICTORIA Chojna","nr lic","Nazwisko","Imię",8,"XXXXX","nr lic","Nazwisko","Imię",9,"LUKS Gryfice","nr lic","Nazwisko","Imię",10,"LUKS Fala Trzebiatów","nr lic","Nazwisko","Imię",11,"Trzynastka Szczecin","nr lic","Nazwisko","Imię",12,"II UKS Champion Police","nr lic","Nazwisko","Imię",13,"KTS Koszalinianin Koszalin","nr lic","Nazwisko","Imię",14,"II KTS Koszalinianin Koszalin","nr lic","Nazwisko","Imię","IV liga",1,"Gryfin S Spin Szczecin","nr lic","Nazwisko","Imię",2,"III KS ATS Stargard","nr lic","Nazwisko","Imię",3,"LKS Mewa Resko","nr lic","Nazwisko","Imię",4,"II MSZS Świdwin","nr lic","Nazwisko","Imię",5,"UKS Zalew Stepnica","nr lic","Nazwisko","Imię",6,"II UKS Zalew Stepnica","nr lic","Nazwisko","Imię",7,"UKS Chrobry Międzyzdroje","nr lic","Nazwisko","Imię",8,"II KKTS Kołobrzeg","nr lic","Nazwisko","Imię",9,"II STLA Szczecinek","nr lic","Nazwisko","Imię",10,"ZTTS Złocieniec","nr lic","Nazwisko","Imię","V liga",1,"III KKTS Kołobrzeg","nr lic","Nazwisko","Imię",2,"Flota Świnoujście","nr lic","Nazwisko","Imię",3,"II STS Dębno","nr lic","Nazwisko","Imię",4,"SL Salos Szczecin","nr lic","Nazwisko","Imię",5,"STS Czapla Czplinek","nr lic","Nazwisko","Imię",6,"ULKS Tychowo","nr lic","Nazwisko","Imię",7,null,"nr lic","Nazwisko","Imię",8,null,"nr lic","Nazwisko","Imię",9,null,"nr lic","Nazwisko","Imię",10,null,"nr lic","Nazwisko","Imię",11,null,"nr lic","Nazwisko","Imię",12,null,"nr lic","Nazwisko","Imię"]
["ATS Stargard","ANDRZEJEWSKI Przemysław",4481,null,"II liga - 1",null,{"$f":"IF($E$1=1,BZ2,IF($E$1=2,DO2,IF($E$1=3,GH2,IF($E$1=4,IG2,\"\"))))","v":"Banachowicz Aleksander"},{"$f":"IF($E$1=1,CA2,IF($E$1=2,DP2,IF($E$1=3,GI2,IF($E$1=4,IH2,\"\"))))","v":1451},{"$f":"IF($E$1=1,CB2,IF($E$1=2,DQ2,IF($E$1=3,GJ2,IF($E$1=4,II2,\"\"))))","v":"Banachowicz"},{"$f":"IF($E$1=1,CC2,IF($E$1=2,DR2,IF($E$1=3,GK2,IF($E$1=4,IJ2,\"\"))))","v":"Aleksander"},null,"Dębal Dariusz",{"$f":"IF($E$1=1,CF2,IF($E$1=2,DU2,IF($E$1=3,GN2,IF($E$1=4,IM2,\"\"))))","v":10104},{"$f":"IF($E$1=1,CG2,IF($E$1=2,DV2,IF($E$1=3,GO2,IF($E$1=4,IN2,\"\"))))","v":"Dębal"},{"$f":"IF($E$1=1,CH2,IF($E$1=2,DW2,IF($E$1=3,GP2,IF($E$1=4,IO2,\"\"))))","v":"Dariusz"},null,"Barabas Jacek",{"$f":"IF($E$1=1,CK2,IF($E$1=2,DZ2,IF($E$1=3,GS2,IF($E$1=4,IR2,\"\"))))","v":625},{"$f":"IF($E$1=1,CL2,IF($E$1=2,EA2,IF($E$1=3,GT2,IF($E$1=4,IS2,\"\"))))","v":"Barabas"},{"$f":"IF($E$1=1,CM2,IF($E$1=2,EB2,IF($E$1=3,GU2,IF($E$1=4,IT2,\"\"))))","v":"Jacek"},null,"Dworak Jędrzej",{"$f":"IF($E$1=1,CP2,IF($E$1=2,EE2,IF($E$1=3,GX2,IF($E$1=4,IW2,\"\"))))","v":5797},{"$f":"IF($E$1=1,CQ2,IF($E$1=2,EF2,IF($E$1=3,GY2,IF($E$1=4,IX2,\"\"))))","v":"Dworak"},{"$f":"IF($E$1=1,CR2,IF($E$1=2,EG2,IF($E$1=3,GZ2,IF($E$1=4,IY2,\"\"))))","v":"Jędrzej"},null,"Kapysz Arkadiusz Piotr",{"$f":"IF($E$1=1,CU2,IF($E$1=2,EJ2,IF($E$1=3,HC2,IF($E$1=4,JB2,\"\"))))","v":1352},{"$f":"IF($E$1=1,CV2,IF($E$1=2,EK2,IF($E$1=3,HD2,IF($E$1=4,JC2,\"\"))))","v":"Kapysz"},{"$f":"IF($E$1=1,CW2,IF($E$1=2,EL2,IF($E$1=3,HE2,IF($E$1=4,JD2,\"\"))))","v":"Arkadiusz Piotr"},null,"Banaś Waldemar",{"$f":"IF($E$1=1,CZ2,IF($E$1=2,EO2,IF($E$1=3,HH2,IF($E$1=4,JG2,\"\"))))","v":10587},{"$f":"IF($E$1=1,DA2,IF($E$1=2,EP2,IF($E$1=3,HI2,IF($E$1=4,JH2,\"\"))))","v":"Banaś"},{"$f":"IF($E$1=1,DB2,IF($E$1=2,EQ2,IF($E$1=3,HJ2,IF($E$1=4,JI2,\"\"))))","v":"Waldemar"},null,0,{"$f":"IF($E$1=1,DE2,IF($E$1=2,ET2,IF($E$1=3,HM2,IF($E$1=4,JL2,\"\"))))","v":0},{"$f":"IF($E$1=1,DF2,IF($E$1=2,EU2,IF($E$1=3,HN2,IF($E$1=4,JM2,\"\"))))","v":0},{"$f":"IF($E$1=1,DG2,IF($E$1=2,EV2,IF($E$1=3,HO2,IF($E$1=4,JN2,\"\"))))","v":0},null,0,{"$f":"IF($E$1=1,DJ2,IF($E$1=2,EY2,IF($E$1=3,HR2,IF($E$1=4,JQ2,\"\"))))","v":0},{"$f":"IF($E$1=1,DK2,IF($E$1=2,EZ2,IF($E$1=3,HS2,IF($E$1=4,JR2,\"\"))))","v":0},{"$f":"IF($E$1=1,DL2,IF($E$1=2,FA2,IF($E$1=3,HT2,IF($E$1=4,JS2,\"\"))))","v":0},null,{"$f":"IF($E$1=1,\"\",IF($E$1=2,FC2,IF($E$1=3,HV2,IF($E$1=4,JU2,\"\"))))","v":0},{"$f":"IF($E$1=1,\"\",IF($E$1=2,FD2,IF($E$1=3,HW2,IF($E$1=4,JV2,\"\"))))","v":0},{"$f":"IF($E$1=1,\"\",IF($E$1=2,FE2,IF($E$1=3,HX2,IF($E$1=4,JW2,\"\"))))","v":0},{"$f":"IF($E$1=1,\"\",IF($E$1=2,FF2,IF($E$1=3,HY2,IF($E$1=4,JX2,\"\"))))","v":0},null,{"$f":"IF($E$1=1,\"\",IF($E$1=2,FH2,IF($E$1=3,IA2,IF($E$1=4,JZ2,\"\"))))","v":0},{"$f":"IF($E$1=1,\"\",IF($E$1=2,FI2,IF($E$1=3,IB2,IF($E$1=4,KA2,\"\"))))","v":0},{"$f":"IF($E$1=1,\"\",IF($E$1=2,FJ2,IF($E$1=3,IC2,IF($E$1=4,KB2,\"\"))))","v":0},{"$f":"IF($E$1=1,\"\",IF($E$1=2,FK2,IF($E$1=3,ID2,IF($E$1=4,KC2,\"\"))))","v":0},null,{"$f":"IF($E$1=1,\"\",IF($E$1=2,FM2,IF($E$1=3,IF2,IF($E$1=4,KE2,\"\"))))","v":0},{"$f":"IF($E$1=1,\"\",IF($E$1=2,FN2,IF($E$1=3,IG2,IF($E$1=4,KF2,\"\"))))","v":0},{"$f":"IF($E$1=1,\"\",IF($E$1=2,FO2,IF($E$1=3,IH2,IF($E$1=4,KG2,\"\"))))","v":0},{"$f":"IF($E$1=1,\"\",IF($E$1=2,FP2,IF($E$1=3,II2,IF($E$1=4,KH2,\"\"))))","v":0},null,{"$f":"IF($E$1=1,\"\",IF($E$1=2,FR2,IF($E$1=3,IK2,IF($E$1=4,KJ2,\"\"))))","v":0},{"$f":"IF($E$1=1,\"\",IF($E$1=2,FS2,IF($E$1=3,IL2,IF($E$1=4,KK2,\"\"))))","v":0},{"$f":"IF($E$1=1,\"\",IF($E$1=2,FT2,IF($E$1=3,IM2,IF($E$1=4,KL2,\"\"))))","v":0},{"$f":"IF($E$1=1,\"\",IF($E$1=2,FU2,IF($E$1=3,IN2,IF($E$1=4,KM2,\"\"))))","v":0},null,{"$f":"IF($E$1=1,\"\",IF($E$1=2,FW2,IF($E$1=3,IP2,IF($E$1=4,KO2,\"\"))))","v":0},{"$f":"IF($E$1=1,\"\",IF($E$1=2,FX2,IF($E$1=3,IQ2,IF($E$1=4,KP2,\"\"))))","v":0},{"$f":"IF($E$1=1,\"\",IF($E$1=2,FY2,IF($E$1=3,IR2,IF($E$1=4,KQ2,\"\"))))","v":0},{"$f":"IF($E$1=1,\"\",IF($E$1=2,FZ2,IF($E$1=3,IS2,IF($E$1=4,KR2,\"\"))))","v":0},null,{"$f":"IF($E$1=1,\"\",IF($E$1=2,GB2,IF($E$1=3,IU2,IF($E$1=4,KT2,\"\"))))","v":0},{"$f":"IF($E$1=1,\"\",IF($E$1=2,GC2,IF($E$1=3,IV2,IF($E$1=4,KU2,\"\"))))","v":0},{"$f":"IF($E$1=1,\"\",IF($E$1=2,GD2,IF($E$1=3,IW2,IF($E$1=4,KV2,\"\"))))","v":0},{"$f":"IF($E$1=1,\"\",IF($E$1=2,GE2,IF($E$1=3,IX2,IF($E$1=4,KW2,\"\"))))","v":0},null,null,{"$f":"CONCATENATE(CB2,\" \",CC2)","v":"Buczek Rafał"},7167,"Buczek","Rafał",null,{"$f":"CONCATENATE(CG2,\" \",CH2)","v":"Amilianowicz Kamil"},41604,"Amilianowicz","Kamil",null,{"$f":"CONCATENATE(CL2,\" \",CM2)","v":"Berka Ryszard"},2824,"Berka","Ryszard",null,{"$f":"CONCATENATE(CQ2,\" \",CR2)","v":"Barabas Jacek"},625,"Barabas","Jacek",null,{"$f":"CONCATENATE(CV2,\" \",CW2)","v":"Andrzejewski Przemysław"},3563,"Andrzejewski","Przemysław",null,{"$f":"CONCATENATE(DA2,\" \",DB2)","v":"Białasik Klaudia"},5854,"Białasik","Klaudia",null,{"$f":"CONCATENATE(DF2,\" \",DG2)","v":"Chudzik Julian"},10650,"Chudzik","Julian",null,{"$f":"CONCATENATE(DK2,\" \",DL2)","v":"Barnaś Emil"},973,"Barnaś","Emil",null,null,{"$f":"CE2","v":"Amilianowicz Kamil"},{"$f":"CF2","v":41604},"Amilianowicz","Kamil",null,{"$f":"CT2","v":"Andrzejewski Przemysław"},{"$f":"CU2","v":3563},"Andrzejewski","Przemysław",null,{"$f":"CONCATENATE(EA2,\" \",EB2)","v":"Bartkowiak Jarosław"},1491,"Bartkowiak","Jarosław",null,{"$f":"CONCATENATE(EF2,\" \",EG2)","v":"Byzdra Grzegorz"},955,"Byzdra","Grzegorz",null,{"$f":"CONCATENATE(EK2,\" \",EL2)","v":"Chabros Natalia"},3146,"Chabros","Natalia",null,{"$f":"CONCATENATE(EP2,\" \",EQ2)","v":"Banachowicz Aleksander"},1451,"Banachowicz","Aleksander",null,{"$f":"CONCATENATE(EU2,\" \",EV2)","v":"Bałachowski Tomasz"},6579,"Bałachowski","Tomasz",null,{"$f":"CONCATENATE(EZ2,\" \",FA2)","v":" "},null,null,null,null,{"$f":"CONCATENATE(FE2,\" \",FF2)","v":"Cerkaski Arkadiusz"},8983,"Cerkaski","Arkadiusz",null,{"$f":"CONCATENATE(FJ2,\" \",FK2)","v":"Bąk Tomasz"},2808,"Bąk","Tomasz",null,{"$f":"CONCATENATE(FO2,\" \",FP2)","v":"Kiłyk Paweł"},6920,"Kiłyk","Paweł",null,{"$f":"DD2","v":"Chudzik Julian"},{"$f":"DE2","v":10650},"Chudzik","Julian",null,{"$f":"CONCATENATE(FY2,\" \",FZ2)","v":"Basandowski Adam"},8909,"Basandowski","Adam",null,{"$f":"FW2","v":"Basandowski Adam"},{"$f":"FX2","v":8909},"Basandowski","Adam",null,null,{"$f":"CONCATENATE(GJ2,\" \",GK2)","v":"Bednarski Tomasz"},8866,"Bednarski","Tomasz",null,{"$f":"CT2","v":"Andrzejewski Przemysław"},{"$f":"CU2","v":3563},"Andrzejewski","Przemysław",null,{"$f":"CONCATENATE(GT2,\" \",GU2)","v":"Dziewiór Szymon"},1640,"Dziewiór","Szymon",null,{"$f":"ED2","v":"Byzdra Grzegorz"},{"$f":"EE2","v":955},"Byzdra","Grzegorz",null,{"$f":"CONCATENATE(HD2,\" \",HE2)","v":"Antoszczyk Adam"},6699,"Antoszczyk","Adam",null,{"$f":"HB2","v":"Antoszczyk Adam"},{"$f":"HC2","v":6699},"Antoszczyk","Adam",null,{"$f":"CONCATENATE(HN2,\" \",HO2)","v":"Banachowicz Artur"},791,"Banachowicz","Artur",null,{"$f":"EN2","v":"Banachowicz Aleksander"},{"$f":"EO2","v":1451},"Banachowicz","Aleksander",null,{"$f":"DI2","v":"Barnaś Emil"},{"$f":"DJ2","v":973},"Barnaś","Emil",null,{"$f":"CONCATENATE(IC2,\" \",ID2)","v":"Bolt Waldemar"},5558,"Bolt","Waldemar",null,null,{"$f":"HQ2","v":"Banachowicz Aleksander"},{"$f":"HR2","v":1451},"Banachowicz","Aleksander",null,{"$f":"CONCATENATE(IN2,\" \",IO2)","v":"Dębal Dariusz"},10104,"Dębal","Dariusz",null,{"$f":"CO2","v":"Barabas Jacek"},{"$f":"CP2","v":625},"Barabas","Jacek",null,{"$f":"CONCATENATE(IX2,\" \",IY2)","v":"Dworak Jędrzej"},5797,"Dworak","Jędrzej",null,{"$f":"CONCATENATE(JC2,\" \",JD2)","v":"Kapysz Arkadiusz Piotr"},1352,"Kapysz","Arkadiusz Piotr",null,{"$f":"CONCATENATE(JH2,\" \",JI2)","v":"Banaś Waldemar"},10587,"Banaś","Waldemar"]
["ATS Stargard","BIEŃKOWSKI Adam",4467,null,"III liga - 2",null,{"$f":"IF($E$1=1,BZ3,IF($E$1=2,DO3,IF($E$1=3,GH3,IF($E$1=4,IG3,\"\"))))","v":"Dziędziura Maciej"},1452,"Dziędziura","Maciej",null,"Iwanów Marcin",10105,"Iwanów","Marcin",null,"Bielak Albert",626,"Bielak","Albert",null,"Garstecki Dawid",14175,"Garstecki","Dawid",null,"Mikulak Zdzisław",1353,"Mikulak","Zdzisław",null,"Bodnar Mirosław",9832,"Bodnar","Mirosław",null,0,0,0,0,null,0,0,0,0,null,{"$f":"IF($E$1=1,KE3,IF($E$1=2,FC3,IF($E$1=3,HV3,IF($E$1=4,JU3,\"\"))))","v":0},{"$f":"IF($E$1=1,KF3,IF($E$1=2,FD3,IF($E$1=3,HW3,IF($E$1=4,JV3,\"\"))))","v":0},{"$f":"IF($E$1=1,KG3,IF($E$1=2,FE3,IF($E$1=3,HX3,IF($E$1=4,JW3,\"\"))))","v":0},{"$f":"IF($E$1=1,KH3,IF($E$1=2,FF3,IF($E$1=3,HY3,IF($E$1=4,JX3,\"\"))))","v":0},null,0,0,0,0,null,0,0,0,0,null,0,0,0,0,null,0,0,0,0,null,0,0,0,0,null,null,"Czerniawski Marcin",7174,"Czerniawski","Marcin",null,"Dobrowolański Bartosz",21347,"Dobrowolański","Bartosz",null,"Hałas Wojciech",2825,"Hałas","Wojciech",null,"Bielak Albert",626,"Bielak","Albert",null,"Bieńkowski Sylwester",3564,"Bieńkowski","Sylwester",null,"Borowik Dominika",5859,"Borowik","Dominika",null,"Diduch Bartosz",2295,"Diduch","Bartosz",null,"Kochanowski Krystian",2170,"Kochanowski","Krystian",null,null,{"$f":"CE3","v":"Dobrowolański Bartosz"},{"$f":"CF3","v":21347},{"$f":"CG3","v":"Dobrowolański"},{"$f":"CH3","v":"Bartosz"},null,{"$f":"CT3","v":"Bieńkowski Sylwester"},{"$f":"CU3","v":3564},{"$f":"CV3","v":"Bieńkowski"},{"$f":"CW3","v":"Sylwester"},null,"Dzida Henryk",1492,"Dzida","Henryk",null,"Czerniawko Bartek",956,"Czerniawko","Bartek",null,"Gastół Hanna",3145,"Gastół","Hanna",null,"Dziędziura Maciej",1452,"Dziędziura","Maciej",null,"Bałachowski Robert",6578,"Bałachowski","Robert",null,null,null,null,null,null,"Cerkaski Krzysztof",8984,"Cerkaski","Krzysztof",null,"Bednarski Bartosz",2820,"Bednarski","Bartosz",null,"Kociuba Marcin",6924,"Kociuba","Marcin",null,{"$f":"DD3","v":"Diduch Bartosz"},{"$f":"DE3","v":2295},{"$f":"DF3","v":"Diduch"},{"$f":"DG3","v":"Bartosz"},null,"Basandowski Paweł",8908,"Basandowski","Paweł",null,{"$f":"FW3","v":"Basandowski Paweł"},{"$f":"FX3","v":8908},{"$f":"FY3","v":"Basandowski"},{"$f":"FZ3","v":"Paweł"},null,null,"Będzik Oliwia",8869,"Będzik","Oliwia",null,{"$f":"CT3","v":"Bieńkowski Sylwester"},{"$f":"CU3","v":3564},{"$f":"CV3","v":"Bieńkowski"},{"$f":"CW3","v":"Sylwester"},null,"Góra Marcel",1641,"Góra","Marcel",null,{"$f":"ED3","v":"Czerniawko Bartek"},{"$f":"EE3","v":956},{"$f":"EF3","v":"Czerniawko"},{"$f":"EG3","v":"Bartek"},null,"Babicz Krzysztof",6688,"Babicz","Krzysztof",null,{"$f":"HB3","v":"Babicz Krzysztof"},{"$f":"HC3","v":6688},{"$f":"HD3","v":"Babicz"},{"$f":"HE3","v":"Krzysztof"},null,"Bartkiewicz Patryk",793,"Bartkiewicz","Patryk",null,{"$f":"EN3","v":"Dziędziura Maciej"},{"$f":"EO3","v":1452},{"$f":"EP3","v":"Dziędziura"},{"$f":"EQ3","v":"Maciej"},null,{"$f":"DI3","v":"Kochanowski Krystian"},{"$f":"DJ3","v":2170},{"$f":"DK3","v":"Kochanowski"},{"$f":"DL3","v":"Krystian"},null,"Kamiński Ireneusz",5561,"Kamiński","Ireneusz",null,null,{"$f":"HQ3","v":"Dziędziura Maciej"},{"$f":"HR3","v":1452},{"$f":"HS3","v":"Dziędziura"},{"$f":"HT3","v":"Maciej"},null,"Iwanów Marcin",10105,"Iwanów","Marcin",null,{"$f":"CO3","v":"Bielak Albert"},{"$f":"CP3","v":626},{"$f":"CQ3","v":"Bielak"},{"$f":"CR3","v":"Albert"},null,"Garstecki Dawid",14175,"Garstecki","Dawid",null,"Mikulak Zdzisław",1353,"Mikulak","Zdzisław",null,"Bodnar Mirosław",9832,"Bodnar","Mirosław"]
["ATS Stargard","BIEŃKOWSKI Sylwester",4486,null,"IV liga - 3",null,"Friedrich Agnieszka",1453,"Friedrich","Agnieszka",null,"Kruszyna Artur",10106,"Kruszyna","Artur",null,"Czarnak Robert",627,"Czarnak","Robert",null,"Karczyński Eryk",5798,"Karczyński","Eryk",null,"Polewczak Roman",10138,"Polewczak","Roman",null,"Kujawski Piotr",9834,"Kujawski","Piotr",null,0,0,0,0,null,0,0,0,0,null,0,0,0,0,null,0,0,0,0,null,0,0,0,0,null,0,0,0,0,null,0,0,0,0,null,0,0,0,0,null,null,"Drożdżal Sylwester",7168,"Drożdżal","Sylwester",null,"Jemilianowicz Bartosz",20998,"Jemilianowicz","Bartosz",null,"Jagodziński Karol",2830,"Jagodziński","Karol",null,"Czarnak Robert",627,"Czarnak","Robert",null,"But Jacek",3565,"But","Jacek",null,"Buśko Przemysław",5844,"Buśko","Przemysław",null,"Gałamaga Bartosz",2296,"Gałamaga","Bartosz",null,"Krawczyk Andrzej",974,"Krawczyk","Andrzej",null,null,"Jemilianowicz Bartosz",20998,"Jemilianowicz","Bartosz",null,"But Jacek",3565,"But","Jacek",null,"Iwan Krzysztof",1493,"Iwan","Krzysztof",null,"Gąsiorowski Dariusz",957,"Gąsiorowski","Dariusz",null,"Gazda Jacek",3140,"Gazda","Jacek",null,"Friedrich Agnieszka",1453,"Friedrich","Agnieszka",null,"Gawlas Michał",6587,"Gawlas","Michał",null,null,null,null,null,null,"Grabowski Stanisław",8985,"Grabowski","Stanisław",null,"Bednarski Adam",2818,"Bednarski","Adam",null,"Kociuba Paweł",6923,"Kociuba","Paweł",null,"Gałamaga Bartosz",2296,"Gałamaga","Bartosz",null,"Bojke Paweł",8911,"Bojke","Paweł",null,"Bojke Paweł",8911,"Bojke","Paweł",null,null,"Bodnarczuk Dominik",12794,"Bodnarczuk","Dominik",null,"But Jacek",3565,"But","Jacek",null,"Kuc Wojciech",1637,"Kuc","Wojciech",null,"Gąsiorowski Dariusz",957,"Gąsiorowski","Dariusz",null,"Bruski Igor",6700,"Bruski","Igor",null,"Bruski Igor",6700,"Bruski","Igor",null,"Bartkiewicz Marek",792,"Bartkiewicz","Marek",null,"Friedrich Agnieszka",1453,"Friedrich","Agnieszka",null,"Krawczyk Andrzej",974,"Krawczyk","Andrzej",null,"Krasuski Zbigniew",5563,"Krasuski","Zbigniew",null,null,"Friedrich Agnieszka",1453,"Friedrich","Agnieszka",null,"Kruszyna Artur",10106,"Kruszyna","Artur",null,"Czarnak Robert",627,"Czarnak","Robert",null,{"$f":"CONCATENATE(IX4,\" \",IY4)","v":"Karczyński Eryk"},5798,"Karczyński","Eryk",null,"Polewczak Roman",10138,"Polewczak","Roman",null,"Kujawski Piotr",9834,"Kujawski","Piotr"]
["ATS Stargard","BUT Jacek",4490,null,"V liga - 4",null,"Gałązka Jakub",1468,"Gałązka","Jakub",null,"Rybarczyk Bronisław",10107,"Rybarczyk","Bronisław",null,"Dobropolski Stanisław",628,"Dobropolski","Stanisław",null,"Łyskawa Jakub",5799,"Łyskawa","Jakub",null,"Romanowicz Piotr",1358,"Romanowicz","Piotr",null,"Lipiński Grzegorz",9831,"Lipiński","Grzegorz",null,0,0,0,0,null,0,0,0,0,null,0,0,0,0,null,0,0,0,0,null,0,0,0,0,null,0,0,0,0,null,0,0,0,0,null,0,0,0,0,null,null,"Duży Cezary",10289,"Duży","Cezary",null,"Jemilianowicz Ewa",54178,"Jemilianowicz","Ewa",null,"Jagodziński Jakub",2826,"Jagodziński","Jakub",null,"Dobropolski Stanisław",628,"Dobropolski","Stanisław",null,"Czajewski Leszek",3566,"Czajewski","Leszek",null,"Cembrowicz Tomasz",5847,"Cembrowicz","Tomasz",null,"Jurkiewicz Marcin",2281,"Jurkiewicz","Marcin",null,"Lebiecki Jakub",2172,"Lebiecki","Jakub",null,null,"Jemilianowicz Ewa",54178,"Jemilianowicz","Ewa",null,"Czajewski Leszek",3566,"Czajewski","Leszek",null,"Łazowski Krzysztof",1494,"Łazowski","Krzysztof",null,"Gumowski Jakub",12546,"Gumowski","Jakub",null,"Kozera Karol",10198,"Kozera","Karol",null,"Gałązka Jakub",1468,"Gałązka","Jakub",null,"Grabczak Michał",6580,"Grabczak","Michał",null,null,null,null,null,null,"Grzesiak Kacper",8989,"Grzesiak","Kacper",null,"Bernatowicz Zuzanna",2815,"Bernatowicz","Zuzanna",null,"Koper Szymon",6922,"Koper","Szymon",null,"Jurkiewicz Marcin",2281,"Jurkiewicz","Marcin",null,"Bykowski Michał",8910,"Bykowski","Michał",null,"Bykowski Michał",8910,"Bykowski","Michał",null,null,"Mazuryk Paweł",12792,"Mazuryk","Paweł",null,"Czajewski Leszek",3566,"Czajewski","Leszek",null,"Lewandowski Romuald",1638,"Lewandowski","Romuald",null,"Gumowski Jakub",12546,"Gumowski","Jakub",null,"Budny Oliwer",12162,"Budny","Oliwer",null,"Budny Oliwer",12162,"Budny","Oliwer",null,"Celoch Maja",12185,"Celoch","Maja",null,"Gałązka Jakub",1468,"Gałązka","Jakub",null,"Lebiecki Jakub",2172,"Lebiecki","Jakub",null,"Stanek Robert",5556,"Stanek","Robert",null,null,"Gałązka Jakub",1468,"Gałązka","Jakub",null,"Rybarczyk Bronisław",10107,"Rybarczyk","Bronisław",null,"Dobropolski Stanisław",628,"Dobropolski","Stanisław",null,"Łyskawa Jakub",5799,"Łyskawa","Jakub",null,{"$f":"CONCATENATE(JC5,\" \",JD5)","v":"Romanowicz Piotr"},1358,"Romanowicz","Piotr",null,"Lipiński Grzegorz",9831,"Lipiński","Grzegorz"]
["ATS Stargard","CZAJEWSKI Leszek",4472,null,null,null,"Hajkowicz Mateusz",1454,"Hajkowicz","Mateusz",null,"Skuza Paweł",10103,"Skuza","Paweł",null,"Gałkowski Lesław",629,"Gałkowski","Lesław",null,"Majchrzak Michał",5800,"Majchrzak","Michał",null,"Romanowicz Waldemar",1354,"Romanowicz","Waldemar",null,"Rakowski Piotr",9833,"Rakowski","Piotr",null,0,0,0,0,null,0,0,0,0,null,0,0,0,0,null,0,0,0,0,null,0,0,0,0,null,0,0,0,0,null,0,0,0,0,null,0,0,0,0,null,null,"Gacek Szymon",7169,"Gacek","Szymon",null,"Korkosz Józef",4147,"Korkosz","Józef",null,"Jańczak Magdalena",2831,"Jańczak","Magdalena",null,"Gałkowski Lesław",629,"Gałkowski","Lesław",null,"Dobrzański Mirosław",3567,"Dobrzański","Mirosław",null,"Cembrowicz Katarzyna",5846,"Cembrowicz","Katarzyna",null,"Kaźimirski Kacper",10649,"Kaźimirski","Kacper",null,"Lewandowski Patryk",975,"Lewandowski","Patryk",null,null,"Korkosz Józef",4147,"Korkosz","Józef",null,"Dobrzański Mirosław",3567,"Dobrzański","Mirosław",null,"Płuciennik Edward",1495,"Płuciennik","Edward",null,"Iwaniec Paweł",12547,"Iwaniec","Paweł",null,{"$f":"CONCATENATE(EK6,\" \",EL6)","v":"Kubacki Adam"},3137,"Kubacki","Adam",null,"Hajkowicz Mateusz",1454,"Hajkowicz","Mateusz",null,"Jachowicz Mikołaj",6588,"Jachowicz","Mikołaj",null,null,null,null,null,null,"Jaskulski Bogusław",8986,"Jaskulski","Bogusław",null,"Deptuła Aleksandra",2814,"Deptuła","Aleksandra",null,"Koper Łukasz",6921,"Koper","Łukasz",null,"Kaźimirski Kacper",10649,"Kaźimirski","Kacper",null,"Czuczak Daniel",8912,"Czuczak","Daniel",null,"Czuczak Daniel",8912,"Czuczak","Daniel",null,null,"Pietryga Łukasz",8870,"Pietryga","Łukasz",null,"Dobrzański Mirosław",3567,"Dobrzański","Mirosław",null,"Szymczak Mateusz",1636,"Szymczak","Mateusz",null,"Iwaniec Paweł",12547,"Iwaniec","Paweł",null,"Chabraszewski Wiesław",6689,"Chabraszewski","Wiesław",null,"Chabraszewski Wiesław",6689,"Chabraszewski","Wiesław",null,"Falkowska Martyna",802,"Falkowska","Martyna",null,"Hajkowicz Mateusz",1454,"Hajkowicz","Mateusz",null,"Lewandowski Patryk",975,"Lewandowski","Patryk",null,"Wąchnicki Leszek",5564,"Wąchnicki","Leszek",null,null,"Hajkowicz Mateusz",1454,"Hajkowicz","Mateusz",null,"Skuza Paweł",10103,"Skuza","Paweł",null,"Gałkowski Lesław",629,"Gałkowski","Lesław",null,"Majchrzak Michał",5800,"Majchrzak","Michał",null,"Romanowicz Waldemar",1354,"Romanowicz","Waldemar",null,"Rakowski Piotr",9833,"Rakowski","Piotr"]
["ATS Stargard","DOBRZAŃSKI Mirosław",4478,null,null,null,"Komers Mateusz",1469,"Komers","Mateusz",null,"Wawrzycki Kamil",10102,"Wawrzycki","Kamil",null,"Gałza Andrzej",630,"Gałza","Andrzej",null,"Majchrzak Robert",5794,"Majchrzak","Robert",null,"Skoczylas Tomasz",1355,"Skoczylas","Tomasz",null,"Starzyński Zbigniew",9830,"Starzyński","Zbigniew",null,0,0,0,0,null,0,0,0,0,null,0,0,0,0,null,0,0,0,0,null,0,0,0,0,null,0,0,0,0,null,0,0,0,0,null,0,0,0,0,null,null,"Heiduk Thomas",7170,"Heiduk","Thomas",null,"Olejnik Mikołaj",39270,"Olejnik","Mikołaj",null,"Jańczak Patryk",2827,"Jańczak","Patryk",null,"Gałza Andrzej",630,"Gałza","Andrzej",null,"Froseth Martin",3585,"Froseth","Martin",null,"Cembrowicz Jakub",5845,"Cembrowicz","Jakub",null,"Kiljanek Kamil",2282,"Kiljanek","Kamil",null,"Milczarek Klaudiusz",2173,"Milczarek","Klaudiusz",null,null,"Olejnik Mikołaj",39270,"Olejnik","Mikołaj",null,"Froseth Martin",3585,"Froseth","Martin",null,"Połuboczko Maciej",1496,"Połuboczko","Maciej",null,"Klasiński Zdzisław",958,"Klasiński","Zdzisław",null,"Kwiatkowski Wiktor",3142,"Kwiatkowski","Wiktor",null,"Komers Mateusz",1469,"Komers","Mateusz",null,"Kłonowski Karol",6581,"Kłonowski","Karol",null,null,null,null,null,null,"Jaskulski Mariusz",8987,"Jaskulski","Mariusz",null,"Deptuła Małgorzata",2812,"Deptuła","Małgorzata",null,"Kukkuk Sławomir",6916,"Kukkuk","Sławomir",null,"Kiljanek Kamil",2282,"Kiljanek","Kamil",null,"Czuczak Olivier",8903,"Czuczak","Olivier",null,"Czuczak Olivier",8903,"Czuczak","Olivier",null,null,"Rosik Iwona",8867,"Rosik","Iwona",null,"Froseth Martin",3585,"Froseth","Martin",null,"Wojtasik Andrzej",14255,"Wojtasik","Andrzej",null,"Klasiński Zdzisław",958,"Klasiński","Zdzisław",null,"Chodyniecka Judyta",6701,"Chodyniecka","Judyta",null,"Chodyniecka Judyta",6701,"Chodyniecka","Judyta",null,"Idzik Magda",803,"Idzik","Magda",null,"Komers Mateusz",1469,"Komers","Mateusz",null,"Milczarek Klaudiusz",2173,"Milczarek","Klaudiusz",null,"Witek Stanisław",5559,"Witek","Stanisław",null,null,"Komers Mateusz",1469,"Komers","Mateusz",null,"Wawrzycki Kamil",10102,"Wawrzycki","Kamil",null,"Gałza Andrzej",630,"Gałza","Andrzej",null,"Majchrzak Robert",5794,"Majchrzak","Robert",null,"Skoczylas Tomasz",1355,"Skoczylas","Tomasz",null,"Starzyński Zbigniew",9830,"Starzyński","Zbigniew"]
["ATS Stargard","KŁYS Krzysztof",4479,null,null,null,"Kozłowski Ryszard",1455,"Kozłowski","Ryszard",null,"Wierzbicki Krzysztof",10108,"Wierzbicki","Krzysztof",null,"Hołodniak Olaf",631,"Hołodniak","Olaf",null,"Makutynowicz Jakub",5801,"Makutynowicz","Jakub",null,"Skrzypiec Aleksandra",1351,"Skrzypiec","Aleksandra",null,0,0,0,0,null,0,0,0,0,null,0,0,0,0,null,0,0,0,0,null,0,0,0,0,null,0,0,0,0,null,0,0,0,0,null,0,0,0,0,null,0,0,0,0,null,null,"Karolak Sławomir",7171,"Karolak","Sławomir",null,"Owczarek Łukasz",4144,"Owczarek","Łukasz",null,"Kałużny Jan",2832,"Kałużny","Jan",null,"Hołodniak Olaf",631,"Hołodniak","Olaf",null,"Głodała Natalia",3582,"Głodała","Natalia",null,"Cichacki Janusz",5848,"Cichacki","Janusz",null,"Kluczyński Michał",2283,"Kluczyński","Michał",null,"Mysłowski Andrzej",976,"Mysłowski","Andrzej",null,null,"Owczarek Łukasz",4144,"Owczarek","Łukasz",null,"Głodała Natalia",3582,"Głodała","Natalia",null,"Radek Mariusz",10307,"Radek","Mariusz",null,"Kucharzyk Adrian",12548,"Kucharzyk","Adrian",null,"Kwiatkowski Łukasz",3135,"Kwiatkowski","Łukasz",null,"Kozłowski Ryszard",1455,"Kozłowski","Ryszard",null,"Marchewka Patryk",6590,"Marchewka","Patryk",null,null,null,null,null,null,"Powroźnik Krzysztof",8988,"Powroźnik","Krzysztof",null,"Domańska Agata",2810,"Domańska","Agata",null,"Kukkuk Piotr",6915,"Kukkuk","Piotr",null,"Kluczyński Michał",2283,"Kluczyński","Michał",null,"Dudka Julia",8913,"Dudka","Julia",null,"Dudka Julia",8913,"Dudka","Julia",null,null,"Samborski Artur",8868,"Samborski","Artur",null,"Głodała Natalia",3582,"Głodała","Natalia",null,"Znajewski Dariusz",1639,"Znajewski","Dariusz",null,"Kucharzyk Adrian",12548,"Kucharzyk","Adrian",null,"Cyga Artur",12164,"Cyga","Artur",null,"Cyga Artur",12164,"Cyga","Artur",null,"Kiedrowska Joanna",2245,"Kiedrowska","Joanna",null,"Kozłowski Ryszard",1455,"Kozłowski","Ryszard",null,"Mysłowski Andrzej",976,"Mysłowski","Andrzej",null,"Wojdyła Gerard",5557,"Wojdyła","Gerard",null,null,"Kozłowski Ryszard",1455,"Kozłowski","Ryszard",null,"Wierzbicki Krzysztof",10108,"Wierzbicki","Krzysztof",null,"Hołodniak Olaf",631,"Hołodniak","Olaf",null,"Makutynowicz Jakub",5801,"Makutynowicz","Jakub",null,"Skrzypiec Aleksandra",1351,"Skrzypiec","Aleksandra"]
["ATS Stargard","KŁYS Marcin",4480,null,null,null,"Kraśniewski Mariusz",1456,"Kraśniewski","Mariusz",null,"Wyrzykowski Morjan",10101,"Wyrzykowski","Morjan",null,"Kędzia Hanna",638,"Kędzia","Hanna",null,"Mokanek Marcel",14274,"Mokanek","Marcel",null,"Szatkowski Ryszard",1356,"Szatkowski","Ryszard",null,0,0,0,0,null,0,0,0,0,null,0,0,0,0,null,0,0,0,0,null,0,0,0,0,null,0,0,0,0,null,0,0,0,0,null,0,0,0,0,null,0,0,0,0,null,null,"Kmiecik Zuzanna",7176,"Kmiecik","Zuzanna",null,"Piotrowski Tadeusz",56640,"Piotrowski","Tadeusz",null,"Kartosz Jakub",2833,"Kartosz","Jakub",null,"Kędzia Hanna",638,"Kędzia","Hanna",null,"Iwanyk Michał",10382,"Iwanyk","Michał",null,"Iracki Michał",5849,"Iracki","Michał",null,"Leończyk Miłosz",2294,"Leończyk","Miłosz",null,"Purlis Sylwia",977,"Purlis","Sylwia",null,null,"Piotrowski Tadeusz",56640,"Piotrowski","Tadeusz",null,"Iwanyk Michał",10382,"Iwanyk","Michał",null,"Rudka Mirosław",1497,"Rudka","Mirosław",null,"Kula Marcel",968,"Kula","Marcel",null,"Lenkiewicz Leon",3136,"Lenkiewicz","Leon",null,"Kraśniewski Mariusz",1456,"Kraśniewski","Mariusz",null,"Marchewka Miłosz",6589,"Marchewka","Miłosz",null,null,null,null,null,null,null,null,null,null,null,"Galewski Krzysztof",12429,"Galewski","Krzysztof",null,"Kukkuk Adam",6914,"Kukkuk","Adam",null,"Leończyk Miłosz",2294,"Leończyk","Miłosz",null,"Dudka Damian",6525,"Dudka","Damian",null,"Dudka Damian",6525,"Dudka","Damian",null,null,"Sorokin Alexey",8865,"Sorokin","Alexey",null,"Iwanyk Michał",10382,"Iwanyk","Michał",null,null,null,null,null,null,"Kula Marcel",968,"Kula","Marcel",null,"Czarnof Nikodem",6703,"Czarnof","Nikodem",null,"Czarnof Nikodem",6703,"Czarnof","Nikodem",null,"Kołodziej Ewa",2246,"Kołodziej","Ewa",null,"Kraśniewski Mariusz",1456,"Kraśniewski","Mariusz",null,"Purlis Sylwia",977,"Purlis","Sylwia",null,"Woroniecki Tomasz",5562,"Woroniecki","Tomasz",null,null,"Kraśniewski Mariusz",1456,"Kraśniewski","Mariusz",null,"Wyrzykowski Morjan",10101,"Wyrzykowski","Morjan",null,"Kędzia Hanna",638,"Kędzia","Hanna",null,"Mokanek Marcel",14274,"Mokanek","Marcel",null,"Szatkowski Ryszard",1356,"Szatkowski","Ryszard"]
["ATS Stargard","KUKKUK Adam",4465,null,null,null,"Kuczma Henryk",1457,"Kuczma","Henryk",null,0,0,0,0,null,"Kulczycki Łukasz",632,"Kulczycki","Łukasz",null,"Nowakowski Mieszko",5802,"Nowakowski","Mieszko",null,"Tomczak Jarosław",1359,"Tomczak","Jarosław",null,0,0,0,0,null,0,0,0,0,null,0,0,0,0,null,0,0,0,0,null,0,0,0,0,null,0,0,0,0,null,0,0,0,0,null,0,0,0,0,null,0,0,0,0,null,null,"Kmiecik Karin",7175,"Kmiecik","Karin",null,"Pyra Konrad",45156,"Pyra","Konrad",null,"Lewandowski Jakub",2834,"Lewandowski","Jakub",null,"Kulczycki Łukasz",632,"Kulczycki","Łukasz",null,"Katana Mateusz",14261,"Katana","Mateusz",null,"Jenek Adrianna",5850,"Jenek","Adrianna",null,"Łachut Karolina",2297,"Łachut","Karolina",null,"Radziński Mariusz",979,"Radziński","Mariusz",null,null,"Pyra Konrad",45156,"Pyra","Konrad",null,"Katana Mateusz",14261,"Katana","Mateusz",null,null,null,null,null,null,"Kula Piotr",959,"Kula","Piotr",null,"Muca Samanta",3141,"Muca","Samanta",null,"Kuczma Henryk",1457,"Kuczma","Henryk",null,"Moliński Grzegorz",6582,"Moliński","Grzegorz",null,null,null,null,null,null,null,null,null,null,null,"Grzelak Nikodem",2822,"Grzelak","Nikodem",null,"Pawłusiewicz Marek",6917,"Pawłusiewicz","Marek",null,"Łachut Karolina",2297,"Łachut","Karolina",null,"Gaweł Henryk",12002,"Gaweł","Henryk",null,"Gaweł Henryk",12002,"Gaweł","Henryk",null,null,"Stanisławczyk Patryk",8871,"Stanisławczyk","Patryk",null,"Katana Mateusz",14261,"Katana","Mateusz",null,null,null,null,null,null,"Kula Piotr",959,"Kula","Piotr",null,"Czarnof Gabriel",6702,"Czarnof","Gabriel",null,"Czarnof Gabriel",6702,"Czarnof","Gabriel",null,"Kornel Piotr",794,"Kornel","Piotr",null,"Kuczma Henryk",1457,"Kuczma","Henryk",null,"Radziński Mariusz",979,"Radziński","Mariusz",null,"Wrzesiński Dariusz",5560,"Wrzesiński","Dariusz",null,null,"Kuczma Henryk",1457,"Kuczma","Henryk",null,null,null,null,null,null,"Kulczycki Łukasz",632,"Kulczycki","Łukasz",null,"Nowakowski Mieszko",5802,"Nowakowski","Mieszko",null,"Tomczak Jarosław",1359,"Tomczak","Jarosław"]
["ATS Stargard","KUKKUK Mateusz",4474,null,null,null,"Lampa Szymon",1470,"Lampa","Szymon",null,0,0,0,0,null,"Maciaszek Krzysztof",633,"Maciaszek","Krzysztof",null,"Spychalski Łukasz",5803,"Spychalski","Łukasz",null,"Twarogowski Stefan",1357,"Twarogowski","Stefan",null,0,0,0,0,null,0,0,0,0,null,0,0,0,0,null,0,0,0,0,null,0,0,0,0,null,0,0,0,0,null,0,0,0,0,null,0,0,0,0,null,0,0,0,0,null,null,"Kobyłecki Igor",10291,"Kobyłecki","Igor",null,"Pyra Kacper",43298,"Pyra","Kacper",null,"Olszewska Alicja",2835,"Olszewska","Alicja",null,"Maciaszek Krzysztof",633,"Maciaszek","Krzysztof",null,"Kisała Zbigniew",3568,"Kisała","Zbigniew",null,"Kasprzak Natalia",5851,"Kasprzak","Natalia",null,"Milczarek Szymon",2298,"Milczarek","Szymon",null,"Radziński Adam",978,"Radziński","Adam",null,null,"Pyra Kacper",43298,"Pyra","Kacper",null,"Kisała Zbigniew",3568,"Kisała","Zbigniew",null,null,null,null,null,null,"Kuligowski Jakub",967,"Kuligowski","Jakub",null,"Muca Paweł",3134,"Muca","Paweł",null,"Lampa Szymon",1470,"Lampa","Szymon",null,"Olejnik Michał",6583,"Olejnik","Michał",null,null,null,null,null,null,null,null,null,null,null,"Grzelak Grzegorz",2806,"Grzelak","Grzegorz",null,"Pszeniczka Janusz",6918,"Pszeniczka","Janusz",null,"Milczarek Szymon",2298,"Milczarek","Szymon",null,"Grzegorczuk Katarzyna",6528,"Grzegorczuk","Katarzyna",null,"Grzegorczuk Katarzyna",6528,"Grzegorczuk","Katarzyna",null,null,"Szymańska Maria",8956,"Szymańska","Maria",null,"Kisała Zbigniew",3568,"Kisała","Zbigniew",null,null,null,null,null,null,"Kuligowski Jakub",967,"Kuligowski","Jakub",null,"Dębowski Fabian",6704,"Dębowski","Fabian",null,"Dębowski Fabian",6704,"Dębowski","Fabian",null,"Kosiński Dawid",1498,"Kosiński","Dawid",null,"Lampa Szymon",1470,"Lampa","Szymon",null,"Radziński Adam",978,"Radziński","Adam",null,"Zaczkowski Dariusz",5565,"Zaczkowski","Dariusz",null,null,"Lampa Szymon",1470,"Lampa","Szymon",null,null,null,null,null,null,"Maciaszek Krzysztof",633,"Maciaszek","Krzysztof",null,"Spychalski Łukasz",5803,"Spychalski","Łukasz",null,"Twarogowski Stefan",1357,"Twarogowski","Stefan"]
["ATS Stargard","ŁUKASIEWICZ Jacek",4476,null,null,null,"Lisek Rafał",1458,"Lisek","Rafał",null,0,0,0,0,null,"Rudomina Kamil",634,"Rudomina","Kamil",null,"Szczawiński Szymon",5804,"Szczawiński","Szymon",null,0,0,0,0,null,0,0,0,0,null,0,0,0,0,null,0,0,0,0,null,0,0,0,0,null,0,0,0,0,null,0,0,0,0,null,0,0,0,0,null,0,0,0,0,null,0,0,0,0,null,null,"Łosińska Kinga",7172,"Łosińska","Kinga",null,"Rachwał Antoni",39269,"Rachwał","Antoni",null,"Ożga Patryk",2836,"Ożga","Patryk",null,"Rudomina Kamil",634,"Rudomina","Kamil",null,"Kłys Krzysztof",3569,"Kłys","Krzysztof",null,"Kujawa Rafał",5853,"Kujawa","Rafał",null,"Oleszkiewicz Piotr",10648,"Oleszkiewicz","Piotr",null,"Stawowczyk Antoni",2174,"Stawowczyk","Antoni",null,null,"Rachwał Antoni",39269,"Rachwał","Antoni",null,"Kłys Krzysztof",3569,"Kłys","Krzysztof",null,null,null,null,null,null,"Laskiewicz Karol",969,"Laskiewicz","Karol",null,"Pieniążek Maciej",3144,"Pieniążek","Maciej",null,"Lisek Rafał",1458,"Lisek","Rafał",null,"Sędziak Marcin",12123,"Sędziak","Marcin",null,null,null,null,null,null,null,null,null,null,null,"Grzesiak Arkadiusz",2804,"Grzesiak","Arkadiusz",null,"Zwierkowski Roman",6919,"Zwierkowski","Roman",null,"Oleszkiewicz Piotr",10648,"Oleszkiewicz","Piotr",null,"Kałuziński Mariusz",6533,"Kałuziński","Mariusz",null,"Kałuziński Mariusz",6533,"Kałuziński","Mariusz",null,null,"Woźniak Adam",12793,"Woźniak","Adam",null,"Kłys Krzysztof",3569,"Kłys","Krzysztof",null,null,null,null,null,null,"Laskiewicz Karol",969,"Laskiewicz","Karol",null,"Durzyński Błażej",6705,"Durzyński","Błażej",null,"Durzyński Błażej",6705,"Durzyński","Błażej",null,"Kozioł Sandra",2250,"Kozioł","Sandra",null,"Lisek Rafał",1458,"Lisek","Rafał",null,"Stawowczyk Antoni",2174,"Stawowczyk","Antoni",null,"Żelazek Waldemar",5566,"Żelazek","Waldemar",null,null,"Lisek Rafał",1458,"Lisek","Rafał",null,null,null,null,null,null,"Rudomina Kamil",634,"Rudomina","Kamil",null,"Szczawiński Szymon",5804,"Szczawiński","Szymon"]
["ATS Stargard","MUSIAŁ Sebastian",4466,null,null,null,"Lubiński Filip",1471,"Lubiński","Filip",null,0,0,0,0,null,"Sawoch Artur",635,"Sawoch","Artur",null,"Zarzycki Paweł",5796,"Zarzycki","Paweł",null,0,0,0,0,null,0,0,0,0,null,0,0,0,0,null,0,0,0,0,null,0,0,0,0,null,0,0,0,0,null,0,0,0,0,null,0,0,0,0,null,0,0,0,0,null,0,0,0,0,null,null,"Łukasiewicz Jacek",7173,"Łukasiewicz","Jacek",null,"Wajda Hubert",40946,"Wajda","Hubert",null,"Pijanowski Krzysztof",2828,"Pijanowski","Krzysztof",null,"Sawoch Artur",635,"Sawoch","Artur",null,"Kucyrka Leszek",3570,"Kucyrka","Leszek",null,"Kujawa Filip",5852,"Kujawa","Filip",null,"Pogorzelski Mariusz",2284,"Pogorzelski","Mariusz",null,"Stawowczyk Szymon",980,"Stawowczyk","Szymon",null,null,"Wajda Hubert",40946,"Wajda","Hubert",null,"Kucyrka Leszek",3570,"Kucyrka","Leszek",null,null,null,null,null,null,"Marko Franciszek",970,"Marko","Franciszek",null,"Pieniążek Maria",3143,"Pieniążek","Maria",null,"Lubiński Filip",1471,"Lubiński","Filip",null,"Stadnik Maciej",6584,"Stadnik","Maciej",null,null,null,null,null,null,null,null,null,null,null,"Humienik Kacper",2816,"Humienik","Kacper",null,null,null,null,null,null,"Pogorzelski Mariusz",2284,"Pogorzelski","Mariusz",null,"Knauber Filip",8907,"Knauber","Filip",null,"Knauber Filip",8907,"Knauber","Filip",null,null," ",null,null,null,null,"Kucyrka Leszek",3570,"Kucyrka","Leszek",null,null,null,null,null,null,"Marko Franciszek",970,"Marko","Franciszek",null,"Ignaciuk Mateusz",6690,"Ignaciuk","Mateusz",null,"Ignaciuk Mateusz",6690,"Ignaciuk","Mateusz",null,"Kuchta Kacper",11733,"Kuchta","Kacper",null,"Lubiński Filip",1471,"Lubiński","Filip",null,"Stawowczyk Szymon",980,"Stawowczyk","Szymon",null,null,null,null,null,null,null,"Lubiński Filip",1471,"Lubiński","Filip",null,null,null,null,null,null,"Sawoch Artur",635,"Sawoch","Artur",null,"Zarzycki Paweł",5796,"Zarzycki","Paweł"]
["ATS Stargard","MYSIOREK Jacek",4488,null,null,null,"Łącki Marek",1459,"Łącki","Marek",null,0,0,0,0,null,"Truszkowski Marcin",636,"Truszkowski","Marcin",null,"Zarzycki Adam",5795,"Zarzycki","Adam",null,0,0,0,0,null,0,0,0,0,null,0,0,0,0,null,0,0,0,0,null,0,0,0,0,null,0,0,0,0,null,0,0,0,0,null,0,0,0,0,null,0,0,0,0,null,0,0,0,0,null,null,"Pawłowski Dawid",10499,"Pawłowski","Dawid",null,"Wajda Dawid",40947,"Wajda","Dawid",null,"Puciłowski Wiktor",2837,"Puciłowski","Wiktor",null,"Truszkowski Marcin",636,"Truszkowski","Marcin",null,"Pawłasek Fryderyk",3571,"Pawłasek","Fryderyk",null,"Różak Jakub",5855,"Różak","Jakub",null,"Smoliński Rafał",2285,"Smoliński","Rafał",null,"Ulański Łukasz",2176,"Ulański","Łukasz",null,null,"Wajda Dawid",40947,"Wajda","Dawid",null,"Pawłasek Fryderyk",3571,"Pawłasek","Fryderyk",null,null,null,null,null,null,"Pawlukiewicz Natan",12545,"Pawlukiewicz","Natan",null,"Ptaszkowski Arkadiusz",3139,"Ptaszkowski","Arkadiusz",null,"Łącki Marek",1459,"Łącki","Marek",null,"Zagajewska Paulina",6586,"Zagajewska","Paulina",null,null,null,null,null,null,null,null,null,null,null,"Jaroszewicz Bartosz",2805,"Jaroszewicz","Bartosz",null,null,null,null,null,null,"Smoliński Rafał",2285,"Smoliński","Rafał",null,"Knauber Mateusz",8906,"Knauber","Mateusz",null,"Knauber Mateusz",8906,"Knauber","Mateusz",null,null," ",null,null,null,null,"Pawłasek Fryderyk",3571,"Pawłasek","Fryderyk",null,null,null,null,null,null,"Pawlukiewicz Natan",12545,"Pawlukiewicz","Natan",null,"Jankowska Zofia",12166,"Jankowska","Zofia",null,"Jankowska Zofia",12166,"Jankowska","Zofia",null,"Kurek Jakub",805,"Kurek","Jakub",null,"Łącki Marek",1459,"Łącki","Marek",null,"Ulański Łukasz",2176,"Ulański","Łukasz",null,null,null,null,null,null,null,"Łącki Marek",1459,"Łącki","Marek",null,null,null,null,null,null,"Truszkowski Marcin",636,"Truszkowski","Marcin",null,"Zarzycki Adam",5795,"Zarzycki","Adam"]
["ATS Stargard","PAWŁASEK Fryderyk",4482,null,null,null,"Osiak Piotr",1460,"Osiak","Piotr",null,0,0,0,0,null,"Trzópek Adrian",639,"Trzópek","Adrian",null,"Zięcina Łukasz",5805,"Zięcina","Łukasz",null,0,0,0,0,null,0,0,0,0,null,0,0,0,0,null,0,0,0,0,null,0,0,0,0,null,0,0,0,0,null,0,0,0,0,null,0,0,0,0,null,0,0,0,0,null,0,0,0,0,null,null,"Poźniak Dariusz",9983,"Poźniak","Dariusz",null,"Witkowski Mateusz",12891,"Witkowski","Mateusz",null,"Wawrzyniak Aleksandra",2838,"Wawrzyniak","Aleksandra",null,"Trzópek Adrian",639,"Trzópek","Adrian",null,"Pawłasek Magdalena",3583,"Pawłasek","Magdalena",null,"Starosta Bartosz",5856,"Starosta","Bartosz",null,"Szarycki Rafał",2286,"Szarycki","Rafał",null,"Ulański Krzysztof",2175,"Ulański","Krzysztof",null,null,"Witkowski Mateusz",12891,"Witkowski","Mateusz",null,"Pawłasek Magdalena",3583,"Pawłasek","Magdalena",null,null,null,null,null,null,"Potyralska Nikola",972,"Potyralska","Nikola",null,"Zdzitowiecki Aleksander",3138,"Zdzitowiecki","Aleksander",null,"Osiak Piotr",1460,"Osiak","Piotr",null,"Zając Patryk",6585,"Zając","Patryk",null,null,null,null,null,null,null,null,null,null,null,"Kalinowski Mirosław",2809,"Kalinowski","Mirosław",null,null,null,null,null,null,"Szarycki Rafał",2286,"Szarycki","Rafał",null,"Kunowski Adam",8905,"Kunowski","Adam",null,"Kunowski Adam",8905,"Kunowski","Adam",null,null," ",null,null,null,null,"Pawłasek Magdalena",3583,"Pawłasek","Magdalena",null,null,null,null,null,null,"Potyralska Nikola",972,"Potyralska","Nikola",null,"Kaliciak Wiktoria",12160,"Kaliciak","Wiktoria",null,"Kaliciak Wiktoria",12160,"Kaliciak","Wiktoria",null,"Łebek Alicja",2247,"Łebek","Alicja",null,"Osiak Piotr",1460,"Osiak","Piotr",null,"Ulański Krzysztof",2175,"Ulański","Krzysztof",null,null,null,null,null,null,null,"Osiak Piotr",1460,"Osiak","Piotr",null,null,null,null,null,null,"Trzópek Adrian",639,"Trzópek","Adrian",null,"Zięcina Łukasz",5805,"Zięcina","Łukasz"]
["ATS Stargard","PAWŁASEK Michał",4475,null,null,null,"Remplewicz Maciej",1461,"Remplewicz","Maciej",null,0,0,0,0,null,"Zornig Julia",641,"Zornig","Julia",null,0,0,0,0,null,0,0,0,0,null,0,0,0,0,null,0,0,0,0,null,0,0,0,0,null,0,0,0,0,null,0,0,0,0,null,0,0,0,0,null,0,0,0,0,null,0,0,0,0,null,0,0,0,0,null,null,"Szczurowski Artur",9985,"Szczurowski","Artur",null,"Zubrzycki Daniel",28319,"Zubrzycki","Daniel",null,"Witczak Marek",2829,"Witczak","Marek",null,"Zornig Julia",641,"Zornig","Julia",null,"Rajewski Krzysztof",3572,"Rajewski","Krzysztof",null,"Welke Daniel",5857,"Welke","Daniel",null,"Szczerba Damian",2287,"Szczerba","Damian",null,"Żurowski Wiktor",2171,"Żurowski","Wiktor",null,null,"Zubrzycki Daniel",28319,"Zubrzycki","Daniel",null,"Rajewski Krzysztof",3572,"Rajewski","Krzysztof",null,null,null,null,null,null,"Potyralski Dominik",965,"Potyralski","Dominik",null,null,null,null,null,null,"Remplewicz Maciej",1461,"Remplewicz","Maciej",null,"Zawalski Krzysztof",6591,"Zawalski","Krzysztof",null,null,null,null,null,null,null,null,null,null,null,"Kordowska Izabela",2807,"Kordowska","Izabela",null,null,null,null,null,null,"Szczerba Damian",2287,"Szczerba","Damian",null,"Kwaśnicki Krzysztof",6527,"Kwaśnicki","Krzysztof",null,"Kwaśnicki Krzysztof",6527,"Kwaśnicki","Krzysztof",null,null," ",null,null,null,null,"Rajewski Krzysztof",3572,"Rajewski","Krzysztof",null,null,null,null,null,null,"Potyralski Dominik",965,"Potyralski","Dominik",null,"Kaliciak Cezary",12159,"Kaliciak","Cezary",null,"Kaliciak Cezary",12159,"Kaliciak","Cezary",null,"Łukowska Maja",806,"Łukowska","Maja",null,"Remplewicz Maciej",1461,"Remplewicz","Maciej",null,"Żurowski Wiktor",2171,"Żurowski","Wiktor",null,null,null,null,null,null,null,"Remplewicz Maciej",1461,"Remplewicz","Maciej",null,null,null,null,null,null,"Zornig Julia",641,"Zornig","Julia"]
["ATS Stargard","PODGÓRSKI Jakub",8724,null,null,null,"Rosiński Piotr",1462,"Rosiński","Piotr",null,0,0,0,0,null,"Zornig Jakub",640,"Zornig","Jakub",null,0,0,0,0,null,0,0,0,0,null,0,0,0,0,null,0,0,0,0,null,0,0,0,0,null,0,0,0,0,null,0,0,0,0,null,0,0,0,0,null,0,0,0,0,null,0,0,0,0,null,0,0,0,0,null,null,"Wesołek Dawid",10290,"Wesołek","Dawid",null,null,null,{"$f":"IF(CE17<>\"\",LEFT(CE17,FIND(\" \",CE17)-1),\"\")","v":""},{"$f":"IF(CE17<>\"\",MID(CE17, FIND(\" \", CE17)+1,50),\"\")","v":""},null," ",null,null,null,null,"Zornig Jakub",640,"Zornig","Jakub",null,"Rojek Aleksandra",3584,"Rojek","Aleksandra",null,"Woźny Marcin",5860,"Woźny","Marcin",null,"Sztortz Mikołaj",2299,"Sztortz","Mikołaj",null," ",null,null,null,null,null,0,0,"","",null,"Rojek Aleksandra",3584,"Rojek","Aleksandra",null,null,null,null,null,null,"Solus Wiktor",971,"Solus","Wiktor",null,null,null,null,null,null,"Rosiński Piotr",1462,"Rosiński","Piotr",null,null,null,null,null,null,null,null,null,null,null,null,null,null,null,null,"Majchrzak Klaudia",2813,"Majchrzak","Klaudia",null,null,null,null,null,null,"Sztortz Mikołaj",2299,"Sztortz","Mikołaj",null,"Laskowski Kryspin",8914,"Laskowski","Kryspin",null,{"$f":"FW17","v":"Laskowski Kryspin"},{"$f":"FX17","v":8914},{"$f":"FY17","v":"Laskowski"},{"$f":"FZ17","v":"Kryspin"},null,null," ",null,null,null,null,"Rojek Aleksandra",3584,"Rojek","Aleksandra",null,null,null,null,null,null,"Solus Wiktor",971,"Solus","Wiktor",null,"Kania Karolina",6692,"Kania","Karolina",null,"Kania Karolina",6692,"Kania","Karolina",null,"Maciejczak Natalia",12193,"Maciejczak","Natalia",null,"Rosiński Piotr",1462,"Rosiński","Piotr",null," ",0,0,0,null,null,null,null,null,null,null,"Rosiński Piotr",1462,"Rosiński","Piotr",null,null,null,null,null,null,"Zornig Jakub",640,"Zornig","Jakub"]
["ATS Stargard","RAJEWSKI Krzysztof",4473,null,null,null,"Sichau Marek",1463,"Sichau","Marek",null,0,0,0,0,null,"Zornig Arne Gerd",637,"Zornig Arne","Gerd",null,0,0,0,0,null,0,0,0,0,null,0,0,0,0,null,0,0,0,0,null,0,0,0,0,null,0,0,0,0,null,0,0,0,0,null,0,0,0,0,null,0,0,0,0,null,0,0,0,0,null,0,0,0,0,null,null," ",null,null,null,null,null,null,"","",null," ",null,null,null,null,"Zornig Arne Gerd",637,"Zornig Arne","Gerd",null,"Szczepański Ludwik",3573,"Szczepański","Ludwik",null,"Zielińska Marta",5858,"Zielińska","Marta",null,"Toczek Martyna",2300,"Toczek","Martyna",null," ",null,null,null,null,null,0,0,"","",null,"Szczepański Ludwik",3573,"Szczepański","Ludwik",null,null,null,null,null,null,"Spychalski Grzegorz",960,"Spychalski","Grzegorz",null,null,null,null,null,null,"Sichau Marek",1463,"Sichau","Marek",null,null,null,null,null,null,null,null,null,null,null,null,null,null,null,null,"Radomska Wiktoria",2817,"Radomska","Wiktoria",null,null,null,null,null,null,"Toczek Martyna",2300,"Toczek","Martyna",null,"Majewski Radosław",8916,"Majewski","Radosław",null,"Majewski Radosław",8916,"Majewski","Radosław",null,null," ",null,null,null,null,"Szczepański Ludwik",3573,"Szczepański","Ludwik",null,null,null,null,null,null,"Spychalski Grzegorz",960,"Spychalski","Grzegorz",null,"Kania Karol",6691,"Kania","Karol",null,"Kania Karol",6691,"Kania","Karol",null,"Marchalewski Jarosław",795,"Marchalewski","Jarosław",null,"Sichau Marek",1463,"Sichau","Marek",null," ",0,0,0,null,null,null,null,null,null,null,"Sichau Marek",1463,"Sichau","Marek",null,null,null,null,null,null,"Zornig Arne Gerd",637,"Zornig Arne","Gerd"]
["ATS Stargard","SALAMON Roman",4484,null,null,null,"Stańczyk Antoni",1472,"Stańczyk","Antoni",null,0,0,0,0,null," ",0,0,0,null,0,0,0,0,null,0,0,0,0,null,0,0,0,0,null,0,0,0,0,null,0,0,0,0,null,0,0,0,0,null,0,0,0,0,null,0,0,0,0,null,0,0,0,0,null,0,0,0,0,null,0,0,0,0,null,null," ",null,null,null,null,null,null,"","",null," ",null,null,null,null," ",null,null,null,null,"Szczurowski Sylwester",3574,"Szczurowski","Sylwester",null," ",null,null,null,null,"Wojciechowski Robert",2289,"Wojciechowski","Robert",null," ",null,null,null,null,null,0,0,"","",null,"Szczurowski Sylwester",3574,"Szczurowski","Sylwester",null,null,null,null,null,null,"Stachniak Damian",961,"Stachniak","Damian",null,null,null,null,null,null,"Stańczyk Antoni",1472,"Stańczyk","Antoni",null,null,null,null,null,null,null,null,null,null,null,null,null,null,null,null,"Rodziewicz Katarzyna",2819,"Rodziewicz","Katarzyna",null,null,null,null,null,null,"Wojciechowski Robert",2289,"Wojciechowski","Robert",null,"Majewski Krzysztof",8915,"Majewski","Krzysztof",null,"Majewski Krzysztof",8915,"Majewski","Krzysztof",null,null," ",null,null,null,null,"Szczurowski Sylwester",3574,"Szczurowski","Sylwester",null,null,null,null,null,null,"Stachniak Damian",961,"Stachniak","Damian",null,"Kosiński Patryk",6706,"Kosiński","Patryk",null,"Kosiński Patryk",6706,"Kosiński","Patryk",null,"Migacz Anna",796,"Migacz","Anna",null,"Stańczyk Antoni",1472,"Stańczyk","Antoni",null," ",0,0,0,null,null,null,null,null,null,null,"Stańczyk Antoni",1472,"Stańczyk","Antoni",null,null,null,null,null,null," ",0,0,0]
["ATS Stargard","SOKOŁOWSKI Bartosz",4468,null,null,null,"Stańczyk Bartosz",1450,"Stańczyk","Bartosz",null,0,0,0,0,null," ",0,0,0,null,0,0,0,0,null,0,0,0,0,null,0,0,0,0,null,0,0,0,0,null,0,0,0,0,null,0,0,0,0,null,0,0,0,0,null,0,0,0,0,null,0,0,0,0,null,0,0,0,0,null,0,0,0,0,null,null," ",null,null,null,null,null,null,"","",null," ",null,null,null,null," ",null,null,null,null,"Tomaszuk Kamil",3575,"Tomaszuk","Kamil",null," ",null,null,null,null,"Wojciechowski Paweł",2288,"Wojciechowski","Paweł",null," ",null,null,null,null,null,0,0,"","",null,"Tomaszuk Kamil",3575,"Tomaszuk","Kamil",null,null,null,null,null,null,"Wojnar Adam",962,"Wojnar","Adam",null,null,null,null,null,null,"Stańczyk Bartosz",1450,"Stańczyk","Bartosz",null,null,null,null,null,null,null,null,null,null,null,null,null,null,null,null,"Romańska Nela",2823,"Romańska","Nela",null,null,null,null,null,null,"Wojciechowski Paweł",2288,"Wojciechowski","Paweł",null,"Małaczek Franciszek",8917,"Małaczek","Franciszek",null,"Małaczek Franciszek",8917,"Małaczek","Franciszek",null,null," ",null,null,null,null,"Tomaszuk Kamil",3575,"Tomaszuk","Kamil",null,null,null,null,null,null,"Wojnar Adam",962,"Wojnar","Adam",null,"Kozioł Jan",12167,"Kozioł","Jan",null,"Kozioł Jan",12167,"Kozioł","Jan",null,"Ogińska Agata",807,"Ogińska","Agata",null,"Stańczyk Bartosz",1450,"Stańczyk","Bartosz",null," ",0,0,0,null,null,null,null,null,null,null,"Stańczyk Bartosz",1450,"Stańczyk","Bartosz",null,null,null,null,null,null," ",0,0,0]
["ATS Stargard","SUDAJ Mariusz",4477,null,null,null,"Sukurenko Karol",1473,"Sukurenko","Karol",null,0,0,0,0,null," ",0,0,0,null,0,0,0,0,null,0,0,0,0,null,0,0,0,0,null,0,0,0,0,null,0,0,0,0,null,0,0,0,0,null,0,0,0,0,null,0,0,0,0,null,0,0,0,0,null,0,0,0,0,null,0,0,0,0,null,null," ",null,null,null,null,null,null,"","",null," ",null,null,null,null," ",null,null,null,null,"Tymejczyk Bogusław",3576,"Tymejczyk","Bogusław",null," ",null,null,null,null,"Wojewoda Jakub",2290,"Wojewoda","Jakub",null," ",null,null,null,null,null,0,0,"","",null,"Tymejczyk Bogusław",3576,"Tymejczyk","Bogusław",null,null,null,null,null,null,"Wołyniec Jakub",963,"Wołyniec","Jakub",null,null,null,null,null,null,"Sukurenko Karol",1473,"Sukurenko","Karol",null,null,null,null,null,null,null,null,null,null,null,null,null,null,null,null,"Sufryt Rafał",2811,"Sufryt","Rafał",null,null,null,null,null,null,"Wojewoda Jakub",2290,"Wojewoda","Jakub",null,"Marczak Cyprian",8918,"Marczak","Cyprian",null,"Marczak Cyprian",8918,"Marczak","Cyprian",null,null," ",null,null,null,null,"Tymejczyk Bogusław",3576,"Tymejczyk","Bogusław",null,null,null,null,null,null,"Wołyniec Jakub",963,"Wołyniec","Jakub",null,"Krauze Jakub",6707,"Krauze","Jakub",null,"Krauze Jakub",6707,"Krauze","Jakub",null,"Osińska Oliwia",808,"Osińska","Oliwia",null,"Sukurenko Karol",1473,"Sukurenko","Karol",null," ",0,0,0,null,null,null,null,null,null,null,"Sukurenko Karol",1473,"Sukurenko","Karol",null,null,null,null,null,null," ",0,0,0]
[null,null,null,null,null,null,"Sukurenko Piotr",1464,"Sukurenko","Piotr",null,0,0,0,0,null,0,0,0,0,null,0,0,0,0,null,0,0,0,0,null,0,0,0,0,null,0,0,0,0,null,0,0,0,0,null,0,0,0,0,null,0,0,0,0,null,0,0,0,0,null,0,0,0,0,null,0,0,0,0,null,0,0,0,0,null,null," ",null,null,null,null,null,null,"","",null," ",null,null,null,null,null,null,null,null,null,"Wandachowicz Jacek",3577,"Wandachowicz","Jacek",null," ",null,null,null,null,"Wymiatał Robert",2291,"Wymiatał","Robert",null," ",null,null,null,null,null,0,0,"","",null,"Wandachowicz Jacek",3577,"Wandachowicz","Jacek",null,null,null,null,null,null,"Zachar Jakub",966,"Zachar","Jakub",null,null,null,null,null,null,"Sukurenko Piotr",1464,"Sukurenko","Piotr",null,null,null,null,null,null,null,null,null,null,null,null,null,null,null,null,"Tabiszewski Szymon",2821,"Tabiszewski","Szymon",null,null,null,null,null,null,"Wymiatał Robert",2291,"Wymiatał","Robert",null,"Marczak Marcin",6524,"Marczak","Marcin",null,"Marczak Marcin",6524,"Marczak","Marcin",null,null," ",null,null,null,null,"Wandachowicz Jacek",3577,"Wandachowicz","Jacek",null,null,null,null,null,null,"Zachar Jakub",966,"Zachar","Jakub",null,"Krawczyk Jakub",12165,"Krawczyk","Jakub",null,"Krawczyk Jakub",12165,"Krawczyk","Jakub",null,"Rębek Kacper",809,"Rębek","Kacper",null,"Sukurenko Piotr",1464,"Sukurenko","Piotr",null," ",0,0,0,null,null,null,null,null,null,null,"Sukurenko Piotr",1464,"Sukurenko","Piotr",null,null,null,null,null,null,0,0,0,0]
[null,null,null,null,null,null,"Szmagliński Dariusz",1465,"Szmagliński","Dariusz",null,0,0,0,0,null,0,0,0,0,null,0,0,0,0,null,0,0,0,0,null,0,0,0,0,null,0,0,0,0,null,0,0,0,0,null,0,0,0,0,null,0,0,0,0,null,0,0,0,0,null,0,0,0,0,null,0,0,0,0,null,0,0,0,0,null,null," ",null,null,null,null,null,null,"","",null," ",null,null,null,null,null,null,null,null,null,"Węgorowski Maciej",3578,"Węgorowski","Maciej",null," ",null,null,null,null,"Zieliński Wiktor",2292,"Zieliński","Wiktor",null," ",null,null,null,null,null,0,0,"","",null,"Węgorowski Maciej",3578,"Węgorowski","Maciej",null,null,null,null,null,null,"Zborowski Maksymilian",14216,"Zborowski","Maksymilian",null,null,null,null,null,null,"Szmagliński Dariusz",1465,"Szmagliński","Dariusz",null,null,null,null,null,null,null,null,null,null,null,null,null,null,null,null,null,null,null,null,null,null,null,null,null,null,"Zieliński Wiktor",2292,"Zieliński","Wiktor",null,"Matejek Mariusz",6522,"Matejek","Mariusz",null,"Matejek Mariusz",6522,"Matejek","Mariusz",null,null," ",null,null,null,null,"Węgorowski Maciej",3578,"Węgorowski","Maciej",null,null,null,null,null,null,"Zborowski Maksymilian",14216,"Zborowski","Maksymilian",null,"Leśniewski Nikodem",12163,"Leśniewski","Nikodem",null,"Leśniewski Nikodem",12163,"Leśniewski","Nikodem",null,"Rużewicz Jakub",11732,"Rużewicz","Jakub",null,"Szmagliński Dariusz",1465,"Szmagliński","Dariusz",null," ",0,0,0,null,null,null,null,null,null,null,"Szmagliński Dariusz",1465,"Szmagliński","Dariusz",null,null,null,null,null,null,0,0,0,0]
[null,null,null,null,null,null,"Telej Robert",1466,"Telej","Robert",null,0,0,0,0,null,0,0,0,0,null,0,0,0,0,null,0,0,0,0,null,0,0,0,0,null,0,0,0,0,null,0,0,0,0,null,0,0,0,0,null,0,0,0,0,null,0,0,0,0,null,0,0,0,0,null,0,0,0,0,null,0,0,0,0,null,null," ",null,null,null,null,null,null,"","",null," ",null,null,null,null,null,null,null,null,null,"Wilczyński Bogdan",3579,"Wilczyński","Bogdan",null," ",null,null,null,null,"Złotucha Aleksander",2301,"Złotucha","Aleksander",null," ",null,null,null,null,null,0,0,"","",null,"Wilczyński Bogdan",3579,"Wilczyński","Bogdan",null,null,null,null,null,null,{"$f":"CONCATENATE(EF24,\" \",EG24)","v":"Zelek Dawid"},964,"Zelek","Dawid",null,null,null,null,null,null,"Telej Robert",1466,"Telej","Robert",null,null,null,null,null,null,null,null,null,null,null,null,null,null,null,null,null,null,null,null,null,null,null,null,null,null,"Złotucha Aleksander",2301,"Złotucha","Aleksander",null,"Mętel Karol",6535,"Mętel","Karol",null,"Mętel Karol",6535,"Mętel","Karol",null,null," ",null,null,null,null,"Wilczyński Bogdan",3579,"Wilczyński","Bogdan",null,null,null,null,null,null,"Zelek Dawid",964,"Zelek","Dawid",null,"Liśkiewicz Igor",6708,"Liśkiewicz","Igor",null,"Liśkiewicz Igor",6708,"Liśkiewicz","Igor",null,"Sokołowska Jagoda",810,"Sokołowska","Jagoda",null,"Telej Robert",1466,"Telej","Robert",null," ",0,0,0,null,null,null,null,null,null,null,"Telej Robert",1466,"Telej","Robert",null,null,null,null,null,null,0,0,0,0]
[null,null,null,null,null,null,"Wilczyński Ryszard",1467,"Wilczyński","Ryszard",null,0,0,0,0,null,0,0,0,0,null,0,0,0,0,null,0,0,0,0,null,0,0,0,0,null,0,0,0,0,null,0,0,0,0,null,0,0,0,0,null,0,0,0,0,null,0,0,0,0,null,0,0,0,0,null,0,0,0,0,null,0,0,0,0,null,null," ",null,null,null,null,null,null,"","",null," ",null,null,null,null,null,null,null,null,null,"Wojtaś Jan",3580,"Wojtaś","Jan",null," ",null,null,null,null,"Żukowski Janusz",2293,"Żukowski","Janusz",null," ",null,null,null,null,null,0,0,"","",null,"Wojtaś Jan",3580,"Wojtaś","Jan",null,null,null,null,null,null,null,null,null,null,null,null,null,null,null,null,"Wilczyński Ryszard",1467,"Wilczyński","Ryszard",null,null,null,null,null,null,null,null,null,null,null,null,null,null,null,null,null,null,null,null,null,null,null,null,null,null,"Żukowski Janusz",2293,"Żukowski","Janusz",null,"Miśko Wiesław",6534,"Miśko","Wiesław",null,"Miśko Wiesław",6534,"Miśko","Wiesław",null,null," ",null,null,null,null,"Wojtaś Jan",3580,"Wojtaś","Jan",null,null,null,null,null,null,0,0,0,0,null,"Macul Tomasz",6693,"Macul","Tomasz",null,"Macul Tomasz",6693,"Macul","Tomasz",null,"Stasiak Magdalena",797,"Stasiak","Magdalena",null,"Wilczyński Ryszard",1467,"Wilczyński","Ryszard",null," ",0,0,0,null,null,null,null,null,null,null,"Wilczyński Ryszard",1467,"Wilczyński","Ryszard",null,null,null,null,null,null,0,0,0,0]
[null,null,null,null,null,null,0,0,0,0,null,0,0,0,0,null,0,0,0,0,null,0,0,0,0,null,0,0,0,0,null,0,0,0,0,null,0,0,0,0,null,0,0,0,0,null,0,0,0,0,null,0,0,0,0,null,0,0,0,0,null,0,0,0,0,null,0,0,0,0,null,0,0,0,0,null,null,null,null,{"$f":"IF(BZ26<>\"\",LEFT(BZ26,FIND(\" \",BZ26)-1),\"\")","v":""},{"$f":"IF(BZ26<>\"\",MID(BZ26, FIND(\" \", BZ26)+1,50),\"\")","v":""},null,null,null,"","",null," ",null,null,null,null,null,null,null,null,null,"Zadorska Natalia",3581,"Zadorska","Natalia",null," ",null,null,null,null," ",null,null,null,null," ",null,null,null,null,null,0,0,"","",null,"Zadorska Natalia",3581,"Zadorska","Natalia",null,null,null,null,null,null,null,null,null,null,null,null,null,null,null,null,null,null,null,null,null,null,null,null,null,null,null,null,null,null,null,null,null,null,null,null,null,null,null,null,null,null,null,null,null,null," ",0,0,0,null,"Plust Stanisław",8919,"Plust","Stanisław",null,"Plust Stanisław",8919,"Plust","Stanisław",null,null," ",null,null,null,null,"Zadorska Natalia",3581,"Zadorska","Natalia",null,null,null,null,null,null,0,0,0,0,null,"Merta Wanessa",6710,"Merta","Wanessa",null,"Merta Wanessa",6710,"Merta","Wanessa",null,"Świąć Jan",11734,"Świąć","Jan",null,0,0,0,0,null," ",0,0,0,null,null,null,null,null,null,null,0,0,0,0,null,null,null,null,null,null,0,0,0,0]
[null,null,null,null,null,null,0,0,0,0,null,0,0,0,0,null,0,0,0,0,null,0,0,0,0,null,0,0,0,0,null,0,0,0,0,null,0,0,0,0,null,0,0,0,0,null,0,0,0,0,null,0,0,0,0,null,0,0,0,0,null,0,0,0,0,null,0,0,0,0,null,0,0,0,0,null,null,null,null,"","",null,null,null,"","",null," ",null,null,null,null,null,null,null,null,null," ",null,null,null,null,null,null,null,null,null,null,null,null,null,null," ",null,null,null,null,null,0,0,"","",null," ",0,0,0,null,null,null,{"$f":"IF(DY27<>\"\",LEFT(DY27,FIND(\" \",DY27)-1),\"\")","v":""},{"$f":"IF(DY27<>\"\",MID(DY27, FIND(\" \", DY27)+1,50),\"\")","v":""},null,null,null,null,null,null,null,null,null,null,null,null,null,null,null,null,null,null,null,null,null,null,null,null,null,null,null,null,null,null,null,null,null,null,null,null,null,null,null,null,null,0,0,0,0,null,"Plust Paweł",8902,"Plust","Paweł",null,"Plust Paweł",8902,"Plust","Paweł",null,null," ",null,null,null,null," ",0,0,0,null,null,null,null,null,null,0,0,0,0,null,"Merta Olaf",6709,"Merta","Olaf",null,"Merta Olaf",6709,"Merta","Olaf",null,"Wandachowicz Sylwia",2248,"Wandachowicz","Sylwia",null,0,0,0,0,null," ",0,0,0,null,null,null,null,null,null,null,0,0,0,0,null,null,null,null,null,null,0,0,0,0]
[null,null,null,null,null,null,0,0,0,0,null,0,0,0,0,null,0,0,"","",null,0,0,0,0,null,0,0,0,0,null,0,0,0,0,null,0,0,0,0,null,0,0,0,0,null,{"$f":"IF($E$1=1,\"\",IF($E$1=2,FC28,IF($E$1=3,HV28,IF($E$1=4,JU28,\"\"))))","v":0},{"$f":"IF($E$1=1,\"\",IF($E$1=2,FD28,IF($E$1=3,HW28,IF($E$1=4,JV28,\"\"))))","v":0},{"$f":"IF($E$1=1,\"\",IF($E$1=2,FE28,IF($E$1=3,HX28,IF($E$1=4,JW28,\"\"))))","v":0},{"$f":"IF($E$1=1,\"\",IF($E$1=2,FF28,IF($E$1=3,HY28,IF($E$1=4,JX28,\"\"))))","v":0},null,0,0,0,0,null,0,0,0,0,null,0,0,0,0,null,0,0,0,0,null,0,0,0,0,null,null,null,null,"","",null,null,null,"","",null," ",null,null,null,null,null,null,{"$f":"IF(CO28<>\"\",LEFT(CO28,FIND(\" \",CO28)-1),\"\")","v":""},{"$f":"IF(CO28<>\"\",MID(CO28, FIND(\" \", CO28)+1,50),\"\")","v":""},null," ",null,null,null,null,null,null,{"$f":"IF(CY28<>\"\",LEFT(CY28,FIND(\" \",CY28)-1),\"\")","v":""},{"$f":"IF(CY28<>\"\",MID(CY28, FIND(\" \", CY28)+1,50),\"\")","v":""},null,null,null,null,null,null," ",null,null,null,null,null,0,0,"","",null," ",0,0,0,null,null,null,"","",null,null,null,null,null,null,null,null,null,null,null,null,null,null,null,null,null,null,null,null,null,null,null,null,null,null,null,null,null,null,null,null,null,null,null,null,null,null,null,null,null,0,0,0,0,null,"Polańczyk Jakub",8920,"Polańczyk","Jakub",null,"Polańczyk Jakub",8920,"Polańczyk","Jakub",null,null," ",null,null,null,null," ",0,0,0,null,null,null,null,null,null,0,0,0,0,null,"Miklewicz Olaf",6711,"Miklewicz","Olaf",null,"Miklewicz Olaf",6711,"Miklewicz","Olaf",null,"Weremiuk Mirosław",798,"Weremiuk","Mirosław",null,0,0,0,0,null," ",0,0,0,null,null,null,null,null,null,null,0,0,0,0,null,null,null,null,null,null,0,0,"",""]
[null,null,null,null,null,null,0,0,0,0,null,0,0,0,0,null,0,0,"","",null,0,0,0,0,null,0,0,0,0,null,0,0,0,0,null,0,0,0,0,null,0,0,0,0,null,0,0,0,0,null,0,0,0,0,null,0,0,0,0,null,0,0,0,0,null,0,0,0,0,null,0,0,0,0,null,null,null,null,"","",null,null,null,"","",null," ",null,null,null,null,null,null,"","",null," ",null,null,null,null,null,null,"","",null,null,null,null,null,null," ",null,null,null,null,null,0,0,"","",null," ",0,0,0,null,null,null,"","",null,null,null,null,null,null,null,null,null,null,null,null,null,null,null,null,null,null,null,null,null,null,null,null,null,null,null,null,null,null,null,null,null,null,null,null,null,null,null,null,null,0,0,0,0,null,"Romanowski Edward",6532,"Romanowski","Edward",null,"Romanowski Edward",6532,"Romanowski","Edward",null,null," ",null,null,null,null," ",0,0,0,null,null,null,null,null,null,0,0,0,0,null,"Modrzejewski Wiktor",6712,"Modrzejewski","Wiktor",null,"Modrzejewski Wiktor",6712,"Modrzejewski","Wiktor",null,"Witkowska-Krawczyk Wioleta",2249,"Witkowska-Krawczyk","Wioleta",null,0,0,0,0,null," ",0,0,0,null,null,null,null,null,null,null,0,0,0,0,null,null,null,null,null,null,0,0,"",""]
[null,null,null,null,null,null,0,0,0,0,null,0,0,0,0,null,0,0,"","",null,0,0,0,0,null,0,0,0,0,null,0,0,0,0,null,0,0,0,0,null,0,0,0,0,null,0,0,0,0,null,0,0,0,0,null,0,0,0,0,null,0,0,0,0,null,0,0,0,0,null,0,0,0,0,null,null,null,null,"","",null,null,null,"","",null," ",null,null,null,null,null,null,"","",null," ",null,null,null,null,null,null,"","",null,null,null,null,null,null," ",null,null,null,null,null,0,0,"","",null," ",0,0,0,null,null,null,"","",null,null,null,null,null,null,null,null,null,null,null,null,null,null,null,null,null,null,null,null,null,null,null,null,null,null,null,null,null,null,null,null,null,null,null,null,null,null,null,null,null,0,0,0,0,null,"Rosołowski Sebastian",6526,"Rosołowski","Sebastian",null,"Rosołowski Sebastian",6526,"Rosołowski","Sebastian",null,null," ",null,null,null,null," ",0,0,0,null,null,null,null,null,null,0,0,0,0,null,"Modrzejewski Wojciech",6698,"Modrzejewski","Wojciech",null,"Modrzejewski Wojciech",6698,"Modrzejewski","Wojciech",null,"Witkowski Zdzisław",800,"Witkowski","Zdzisław",null,0,0,0,0,null," ",0,0,0,null,null,null,null,null,null,null,0,0,0,0,null,null,null,null,null,null,0,0,"",""]
[null,null,null,null,null,null,0,0,0,0,null,0,0,0,0,null,0,0,"","",null,0,0,0,0,null,0,0,0,0,null,0,0,0,0,null,0,0,0,0,null,0,0,0,0,null,0,0,0,0,null,0,0,0,0,null,0,0,0,0,null,0,0,0,0,null,0,0,0,0,null,0,0,0,0,null,null,null,null,"","",null,null,null,"","",null," ",null,null,null,null,null,null,"","",null," ",null,null,null,null,null,null,"","",null,null,null,null,null,null," ",null,null,null,null,null,0,0,"","",null," ",0,0,0,null,null,null,"","",null,null,null,null,null,null,null,null,null,null,null,null,null,null,null,null,null,null,null,null,null,null,null,null,null,null,null,null,null,null,null,null,null,null,null,null,null,null,null,null,null,0,0,0,0,null,{"$f":"CONCATENATE(FY31,\" \",FZ31)","v":"Różański Maciej"},10607,"Różański","Maciej",null,"Różański Maciej",10607,"Różański","Maciej",null,null," ",null,null,null,null," ",0,0,0,null,null,null,null,null,null,0,0,0,0,null,"Moralewicz Ireneusz",6694,"Moralewicz","Ireneusz",null,{"$f":"HB31","v":"Moralewicz Ireneusz"},{"$f":"HC31","v":6694},{"$f":"HD31","v":"Moralewicz"},{"$f":"HE31","v":"Ireneusz"},null,"Witkowski Waldemar",799,"Witkowski","Waldemar",null,0,0,0,0,null," ",0,0,0,null,null,null,null,null,null,null,0,0,0,0,null,null,null,null,null,null,0,0,"",""]
[null,null,null,null,null,null,0,0,0,0,null,0,0,0,0,null,0,0,"","",null,0,0,0,0,null,0,0,0,0,null,0,0,0,0,null,0,0,0,0,null,0,0,0,0,null,0,0,0,0,null,0,0,0,0,null,0,0,0,0,null,0,0,0,0,null,0,0,0,0,null,0,0,0,0,null,null,null,null,"","",null,null,null,"","",null," ",null,null,null,null,null,null,"","",null," ",null,null,null,null,null,null,"","",null,null,null,null,null,null," ",null,null,null,null,null,0,0,"","",null," ",0,0,0,null,null,null,"","",null,null,null,null,null,null,null,null,null,null,null,null,null,null,null,null,null,null,null,null,null,null,null,null,null,null,null,null,null,null,null,null,null,null,null,null,null,null,null,null,null,0,0,0,0,null,"Ryłów Mariusz",6529,"Ryłów","Mariusz",null,"Ryłów Mariusz",6529,"Ryłów","Mariusz",null,null," ",null,null,null,null," ",0,0,0,null,null,null,null,null,null,0,0,0,0,null,"Nasionek Dorota",6695,"Nasionek","Dorota",null,"Nasionek Dorota",6695,"Nasionek","Dorota",null,"Zhemelo Bohdana",812,"Zhemelo","Bohdana",null,0,0,0,0,null," ",0,0,0,null,null,null,null,null,null,null,0,0,0,0,null,null,null,null,null,null,0,0,"",""]
[null,null,null,null,null,null,0,0,0,0,null,0,0,0,0,null,0,0,"","",null,0,0,0,0,null,0,0,0,0,null,0,0,0,0,null,0,0,0,0,null,0,0,0,0,null,0,0,0,0,null,0,0,0,0,null,0,0,0,0,null,0,0,0,0,null,0,0,0,0,null,0,0,0,0,null,null,null,null,"","",null,null,null,"","",null," ",null,null,null,null,null,null,"","",null," ",null,null,null,null,null,null,"","",null,null,null,null,null,null," ",null,null,null,null,null,0,0,"","",null," ",0,0,0,null,null,null,"","",null,null,null,null,null,null,null,null,null,null,null,null,null,null,null,null,null,null,null,null,null,null,null,null,null,null,null,null,null,null,null,null,null,null,null,null,null,null,null,null,null,0,0,0,0,null,"Simson Marcin",8921,"Simson","Marcin",null,"Simson Marcin",8921,"Simson","Marcin",null,null," ",null,null,null,null," ",0,0,0,null,null,null,null,null,null,0,0,0,0,null,"Porębski Alan",6713,"Porębski","Alan",null,"Porębski Alan",6713,"Porębski","Alan",null,"Żmuda-Trzebiatowski Kazimierz",801,"Żmuda-Trzebiatowski","Kazimierz",null,0,0,0,0,null," ",0,0,0,null,null,null,null,null,null,null,0,0,0,0,null,null,null,null,null,null,0,0,"",""]
[null,null,null,null,null,null,0,0,0,0,null,0,0,0,0,null,0,0,"","",null,0,0,0,0,null,0,0,0,0,null,0,0,0,0,null,0,0,0,0,null,0,0,0,0,null,0,0,0,0,null,0,0,0,0,null,0,0,0,0,null,0,0,0,0,null,0,0,0,0,null,0,0,0,0,null,null,null,null,"","",null,null,null,"","",null," ",null,null,null,null,null,null,"","",null," ",null,null,null,null,null,null,"","",null,null,null,null,null,null," ",null,null,null,null,null,0,0,"","",null," ",0,0,0,null,null,null,"","",null,null,null,null,null,null,null,null,null,null,null,null,null,null,null,null,null,null,null,null,null,null,null,null,null,null,null,null,null,null,null,null,null,null,null,null,null,null,null,null,null,0,0,0,0,null,"Walna Weronika",6536,"Walna","Weronika",null,"Walna Weronika",6536,"Walna","Weronika",null,null," ",null,null,null,null," ",0,0,0,null,null,null,null,null,null,0,0,0,0,null,"Saładajczyk Oskar",6696,"Saładajczyk","Oskar",null,"Saładajczyk Oskar",6696,"Saładajczyk","Oskar",null," ",null,null,null,null,0,0,0,0,null," ",0,0,0,null,null,null,null,null,null,null,0,0,0,0,null,null,null,null,null,null,0,0,"",""]
["KTS KOSZALINIANIN Koszalin","LIGNOWSKI Kazimierz",3220,null,null,null,0,0,0,0,null,0,0,0,0,null,0,0,"","",null,0,0,0,0,null,0,0,0,0,null,0,0,0,0,null,0,0,0,0,null,0,0,0,0,null,0,0,0,0,null,0,0,0,0,null,0,0,0,0,null,0,0,0,0,null,0,0,0,0,null,0,0,0,0,null,null,null,null,"","",null,null,null,"","",null," ",null,null,null,null,null,null,"","",null,{"$f":"CONCATENATE(CV35,\" \",CW35)","v":" "},null,null,null,null,null,null,"","",null,null,null,{"$f":"IF(DD35<>\"\",LEFT(DD35,FIND(\" \",DD35)-1),\"\")","v":""},{"$f":"IF(DD35<>\"\",MID(DD35, FIND(\" \", DD35)+1,50),\"\")","v":""},null," ",null,null,null,null,null,0,0,"","",null," ",0,0,0,null,null,null,"","",null,null,null,null,null,null,null,null,null,null,null,null,null,null,null,null,null,null,null,null,null,null,null,null,null,null,null,null,null,null,null,null,null,null,null,null,null,null,null,null,null,0,0,"","",null,"Wąsowicz Andrzej",6531,"Wąsowicz","Andrzej",null,"Wąsowicz Andrzej",6531,"Wąsowicz","Andrzej",null,null," ",null,null,null,null," ",0,0,0,null,null,null,null,null,null,0,0,0,0,null,"Sosnowski Szymon",6714,"Sosnowski","Szymon",null,"Sosnowski Szymon",6714,"Sosnowski","Szymon",null," ",null,null,null,null,0,0,0,0,null," ",0,0,0,null,null,null,null,null,null,null,0,0,0,0,null,null,null,null,null,null,0,0,"",""]
["KTS KOSZALINIANIN Koszalin","LUBARCZYK Michał",3209,null,null,null,0,0,0,0,null,0,0,0,0,null,0,0,"","",null,0,0,0,0,null,0,0,0,0,null,0,0,0,0,null,0,0,0,0,null,0,0,0,0,null,0,0,0,0,null,0,0,0,0,null,0,0,0,0,null,0,0,0,0,null,0,0,0,0,null,0,0,0,0,null,null,null,null,"","",null,null,null,"","",null," ",null,null,null,null,null,null,"","",null," ",null,null,null,null,null,null,"","",null,null,null,"","",null," ",null,null,null,null,null,0,0,"","",null," ",0,0,0,null,null,null,"","",null,null,null,null,null,null,null,null,null,null,null,null,null,null,null,null,null,null,null,null,null,null,null,null,null,null,null,null,null,null,null,null,null,null,null,null,null,null,null,null,null,0,0,"","",null,"Wiśniewski Paweł",8904,"Wiśniewski","Paweł",null,"Wiśniewski Paweł",8904,"Wiśniewski","Paweł",null,null,null,null,null,null,null," ",0,0,0,null,null,null,null,null,null,0,0,0,0,null,"Szemraj Filip",6715,"Szemraj","Filip",null,"Szemraj Filip",6715,"Szemraj","Filip",null," ",null,null,null,null,0,0,0,0,null," ",0,0,0,null,null,null,null,null,null,null,0,0,0,0,null,null,null,null,null,null,0,0,"",""]
["KTS KOSZALINIANIN Koszalin","MATEJEK Mariusz",3216,null,null,null,0,0,0,0,null,0,0,0,0,null,0,0,"","",null,0,0,0,0,null,0,0,0,0,null,0,0,0,0,null,0,0,0,0,null,0,0,0,0,null,0,0,0,0,null,0,0,0,0,null,0,0,0,0,null,0,0,0,0,null,0,0,0,0,null,0,0,0,0,null,null,null,null,"","",null,null,null,"","",null," ",null,null,null,null,null,null,"","",null," ",null,null,null,null,null,null,"","",null,null,null,"","",null," ",null,null,null,null,null,0,0,"","",null," ",0,0,0,null,null,null,"","",null,null,null,null,null,null,null,null,null,null,null,null,null,null,null,null,null,null,null,null,null,null,null,null,null,null,null,null,null,null,null,null,null,null,null,null,null,null,null,null,null,0,0,"","",null,"Zbylut Władysław",6523,"Zbylut","Władysław",null,"Zbylut Władysław",6523,"Zbylut","Władysław",null,null,null,null,null,null,null," ",0,0,0,null,null,null,null,null,null,0,0,0,0,null,"Tołstyko Alicja",6716,"Tołstyko","Alicja",null,"Tołstyko Alicja",6716,"Tołstyko","Alicja",null," ",null,null,null,null,0,0,0,0,null," ",0,0,0,null,null,null,null,null,null,null,0,0,0,0,null,null,null,null,null,null,0,0,"",""]
["KTS KOSZALINIANIN Koszalin","MIKOŁAJCZYK Mirosław",3225,null,null,null,0,0,0,0,null,0,0,0,0,null,0,0,"","",null,0,0,0,0,null,0,0,0,0,null,0,0,0,0,null,0,0,0,0,null,0,0,0,0,null,0,0,0,0,null,0,0,0,0,null,0,0,0,0,null,0,0,0,0,null,0,0,0,0,null,0,0,0,0,null,null,null,null,"","",null,null,null,"","",null," ",null,null,null,null,null,null,"","",null," ",null,null,null,null,null,null,"","",null,null,null,"","",null," ",null,null,null,null,null,0,0,"","",null," ",0,0,0,null,null,null,"","",null,null,null,null,null,null,null,null,null,null,null,null,null,null,null,null,null,null,null,null,null,null,null,null,null,null,null,null,null,null,null,null,null,null,null,null,null,null,null,null,null,0,0,"","",null,"Żyła Bartosz",6530,"Żyła","Bartosz",null,"Żyła Bartosz",6530,"Żyła","Bartosz",null,null,null,null,{"$f":"IF(GH38<>\"\",LEFT(GH38,FIND(\" \",GH38)-1),\"\")","v":""},{"$f":"IF(GH38<>\"\",MID(GH38, FIND(\" \", GH38)+1,50),\"\")","v":""},null," ",0,0,0,null,null,null,null,null,null,0,0,0,0,null,"Wawrzyńska Daria",12168,"Wawrzyńska","Daria",null,"Wawrzyńska Daria",12168,"Wawrzyńska","Daria",null," ",null,null,null,null,0,0,0,0,null," ",0,0,0,null,null,null,{"$f":"IF(IA38<>\"\",LEFT(IA38,FIND(\" \",IA38)-1),\"\")","v":""},{"$f":"IF(IA38<>\"\",MID(IA38, FIND(\" \", IA38)+1,50),\"\")","v":""},null,null,0,0,0,0,null,null,null,null,null,null,0,0,"",""]
["KTS KOSZALINIANIN Koszalin","PECYNA Anna",3210,null,null,null,0,0,0,0,null,0,0,0,0,null,0,0,"","",null,0,0,0,0,null,0,0,0,0,null,0,0,0,0,null,0,0,0,0,null,0,0,0,0,null,0,0,0,0,null,0,0,0,0,null,0,0,0,0,null,0,0,0,0,null,0,0,0,0,null,0,0,0,0,null,null,null,null,"","",null,null,null,"","",null,null,null,null,null,null,null,null,"","",null," ",null,null,null,null,null,null,"","",null,null,null,"","",null," ",null,null,null,null,null,0,0,"","",null," ",0,0,0,null,null,null,"","",null,null,null,null,null,null,null,null,null,null,null,null,null,null,null,null,null,null,null,null,null,null,null,null,null,null,null,null,null,null,null,null,null,null,null,null,null,null,null,null,null,0,0,"","",null,null,null,null,null,null,null,null,null,null,null,null,null,null,"","",null," ",0,0,0,null,null,null,null,null,null,0,0,0,0,null,"Woźnicka Klaudia",12161,"Woźnicka","Klaudia",null,"Woźnicka Klaudia",12161,"Woźnicka","Klaudia",null," ",null,null,null,null,0,0,0,0,null," ",0,0,0,null,null,null,"","",null,null,0,0,0,0,null,null,null,null,null,null,0,0,"",""]
["KTS KOSZALINIANIN Koszalin","ROGALKA Kinga",3211,null,null,null,0,0,0,0,null,0,0,0,0,null,0,0,"","",null,0,0,0,0,null,0,0,0,0,null,0,0,0,0,null,0,0,0,0,null,0,0,0,0,null,0,0,0,0,null,0,0,0,0,null,0,0,0,0,null,0,0,0,0,null,0,0,0,0,null,0,0,0,0,null,null,null,null,"","",null,null,null,"","",null,null,null,{"$f":"IF(CJ40<>\"\",LEFT(CJ40,FIND(\" \",CJ40)-1),\"\")","v":""},{"$f":"IF(CJ40<>\"\",MID(CJ40, FIND(\" \", CJ40)+1,50),\"\")","v":""},null,null,null,"","",null," ",null,null,null,null,null,null,"","",null,null,null,"","",null," ",null,null,null,null,null,0,0,"","",null," ",0,0,0,null,null,null,"","",null,null,null,null,null,null,null,null,null,null,null,null,null,null,null,null,null,null,null,null,null,null,null,null,null,null,null,null,null,null,null,null,null,null,null,null,null,null,null,null,null,0,0,"","",null,null,null,null,null,null,null,null,null,null,null,null,null,null,"","",null," ",0,0,0,null,null,null,null,null,null,0,0,0,0,null,"Żabkiewicz Mirosław",6697,"Żabkiewicz","Mirosław",null,"Żabkiewicz Mirosław",6697,"Żabkiewicz","Mirosław",null," ",null,null,null,null,0,0,0,0,null," ",0,0,0,null,null,null,"","",null,null,0,0,0,0,null,null,null,null,null,null,0,0,"",""]
["KTS KOSZALINIANIN Koszalin","RYŁÓW Mariusz",3218,null,null,null,0,0,0,0,null,0,0,0,0,null,0,0,0,0,null,0,0,0,0,null,0,0,0,0,null,0,0,0,0,null,0,0,0,0,null,0,0,0,0,null,0,0,0,0,null,0,0,0,0,null,0,0,0,0,null,0,0,0,0,null,0,0,0,0,null,0,0,0,0,null,null,null,null,"","",null,null,null,"","",null,null,null,"","",null,null,null,"","",null," ",null,null,null,null,null,null,"","",null,null,null,"","",null," ",null,null,null,null,null,null,null,null,null,null,null,null,{"$f":"IF(DT41<>\"\",LEFT(DT41,FIND(\" \",DT41)-1),\"\")","v":""},{"$f":"IF(DT41<>\"\",MID(DT41, FIND(\" \", DT41)+1,50),\"\")","v":""},null,null,null,"","",null,null,null,null,null,null,null,null,null,null,null,null,null,null,null,null,null,null,null,null,null,null,null,null,null,null,null,null,null,null,null,null,null,null,null,null,null,null,null,null,null,null,null,null,null,null,null,null,null,null,null,null,null,null,null,null,null,null,null,"","",null,null,null,{"$f":"IF(GM41<>\"\",LEFT(GM41,FIND(\" \",GM41)-1),\"\")","v":""},{"$f":"IF(GM41<>\"\",MID(GM41, FIND(\" \", GM41)+1,50),\"\")","v":""},null,null,null,null,null,null,null,null,null,null,null,null,null,null,null,null,null,null,null,null,null," ",null,null,null,null,null,null,{"$f":"IF(HQ41<>\"\",LEFT(HQ41,FIND(\" \",HQ41)-1),\"\")","v":""},{"$f":"IF(HQ41<>\"\",MID(HQ41, FIND(\" \", HQ41)+1,50),\"\")","v":""},null,null,null,{"$f":"EK41","v":0},{"$f":"EL41","v":0},null,null,null,"",""]
["KTS KOSZALINIANIN Koszalin","SILUTA Janusz",3219,null,null,null,0,0,0,0,null,0,0,0,0,null,0,0,0,0,null,0,0,0,0,null,0,0,0,0,null,0,0,0,0,null,0,0,0,0,null,0,0,0,0,null,0,0,0,0,null,0,0,0,0,null,0,0,0,0,null,0,0,0,0,null,0,0,0,0,null,0,0,0,0,null,null,null,null,null,null,null,null,null,null,null,null,null,null,null,null,null,null,null,null,null,null,null,null,null,null,null,null,null,null,null,null,null,null,null,null,null," ",null,null,null,null,null,null,null,null,null,null,null,null,null,null,null,null,null,null,null,null,null,null,null,null,null,null,null,null,null,null,null,null,null,null,null,null,null,null,null,null,null,null,null,null,null,null,null,null,null,null,null,null,null,null,null,null,null,null,null,null,null,null,null,null,null,null,null,null,null,null,null,null,null,null,null,null,null,null,null,null,null,null,null,null,null,null,null,null,null,null,null,null,null,null,null,null,null,null,null,null,null,null,null,null,null,null," ",null,null,null,null,null,null,null,null,null,null,null,0,0]
["KTS KOSZALINIANIN Koszalin","WASILEWSKA Aleksandra",3212,null,null,null,0,0,0,0,null,0,0,0,0,null,0,0,0,0,null,0,0,0,0,null,0,0,0,0,null,0,0,0,0,null,0,0,0,0,null,0,0,0,0,null,0,0,0,0,null,0,0,0,0,null,0,0,0,0,null,0,0,0,0,null,0,0,0,0,null,0,0,0,0,null,null,null,null,null,null,null,null,null,null,null,null,null,null,null,null,null,null,null,null,null,null,null,null,null,null,null,null,null,null,null,null,null,null,null,null,null,null,null,null,null,null,null,null,null,null,null,null,null,null,null,null,null,null,null,null,null,null,null,null,null,null,null,null,null,null,null,null,null,null,null,null,null,null,null,null,null,null,null,null,null,null,null,null,null,null,null,null,null,null,null,null,null,null,null,null,null,null,null,null,null,null,null,null,null,null,null,null,null,null,null,null,null,null,null,null,null,null,null,null,null,null,null,null,null,null,null,null,null,null,null,null,null,null,null,null,null,null,null,null,null,null,null,null," ",null,null,null,null,null,null,null,null,null,null,null,0,0]
["KTS KOSZALINIANIN Koszalin","WASILEWSKI Gabriel",3213,null,null,null,null,null,null,null,null,null,null,null,null,null,null,null,null,null,null,null,null,null,null,null,null,null,null,null,null,null,null,null,null,null,null,null,null,null,null,null,null,null,null,null,null,null,null,null,null,null,null,null,null,null,null,null,null,null,null,null,null,null,null,null,null,null,null,null,null,null,null,null,null,null,null,null,null,null,null,null,null,null,null,null,null,null,null,null,null,null,null,null,null,null,null,null,null,null,null,null,null,null,null,null,null,null,null,null,null,null,null,null,null,null,null,null,null,null,null,null,null,null,null,null,null,null,null,null,null,null,null,null,null,null,null,null,null,null,null,null,null,null,null,null,null,null,null,null,null,null,null,null,null,null,null,null,null,null,null,null,null,null,null,null,null,null,null,null,null,null,null,null,null,null,null,null,null,null,null,null,null,null,null,null,null,null,null,null,null,null,null,null,null,null,null,null,null,null,null,null,null,null,null,null,null,null,null,null,null,null,null,null,null,null,null,null,null," ",null,null,null,null,null,null,null,null,null,null,null,0,0]
["KTS KOSZALINIANIN Koszalin","ZAJĄC Maciej",3214,null,null,{"$f":"Protokół!CE59","v":4},"Gospodarz",null,null,null,{"$f":"Protokół!CV59","v":2},"Goście",null,null,null,null,null,null,null,null,null,null,null,null,null,null,null,null,null,null,null,null,null,null,null,null,null,null,null,null,null,null,null,null,null,null,null,null,null,null,null,null,null,null,null,null,null,null,null,null,null,null,null,null,null,null,null,null,null,null,null,null,null,null,null,null,null,null,null,null,null,null,null,null,null,null,null,null,null,null,null,null,null,null,null,null,null,null,null,null,null,null,null,null,null,null,null,null,null,null,null,null,null,null,null,null,null,null,null,null,null,null,null,null,null,null,null,null,null,null,null,null,null,null,null,null,null,null,null,null,null,null,null,null,null,null,null,null,null,null,null,null,null,null,null,null,null,null,null,null,null,null,null,null,null,null,null,null,null,null,null,null,null,null,null,null,null,null,null,null,null,null,null,null,null,null,null,null,null,null,null,null,null,null,null,null,null,null,null,null,null,null,null,null,null,null,null,null,null,null,null,null,null,null,null,null,null,null,null," "]
["KTS KOSZALINIANIN Koszalin","ZBYLUT Władysław",3217,null,null,null,{"$f":"IF($F$45=1,G1,IF($F$45=2,L1,IF($F$45=3,Q1,IF($F$45=4,V1,IF($F$45=5,AA1,IF($F$45=6,AF1,IF($F$45=7,AK1,IF($F$45=8,AP1,IF($F$45=9,AU1,IF($F$45=10,AZ1,IF($F$45=11,BE1,IF($F$45=12,BJ1,IF($F$45=13,BO1,IF($F$45=14,BT1,\"\"))))))))))))))","v":"SL Salos Szczecin"},"nr lic","Nazwisko","Imię",null,{"$f":"IF($K$45=1,G1,IF($K$45=2,L1,IF($K$45=3,Q1,IF($K$45=4,V1,IF($K$45=5,AA1,IF($K$45=6,AF1,IF($K$45=7,AK1,IF($K$45=8,AP1,IF($K$45=9,AU1,IF($K$45=10,AZ1,IF($K$45=11,BE1,IF($K$45=12,BJ1,IF($K$45=13,BO1,IF($K$45=14,BT1,\"\"))))))))))))))","v":"Flota Świnoujście"},"nr lic","Nazwisko","Imię",null,null,"gospodarz","gospodarz",null,null,null,null,null,null,null,null,null,null,null,null,null,null,null,null,null,null,null,null,null,null,null,null,null,null,null,null,null,null,null,null,null,null,null,null,null,null,null,null,null,null,null,null,null,null,null,null,null,null,null,null,null,null,null,null,null,null,null,null,null,null,null,null,null,null,null,null,null,null,null,null,null,null,null,null,null,null,null,null,null,null,null,null,null,null,null,null,null,null,null,null,null,null,null,null,null,null,null,null,null,null,null,null,null,null,null,null,null,null,null,null,null,null,null,null,null,null,null,null,null,null,null,null,null,null,null,null,null,null,null,null,null,null,null,null,null,null,null,null,null,null,null,null,null,null,null,null,null,null,null,null,null,null,null,null,null,null,null,null,null,null,null,null,null,null,null,null,null,null,null,null,null,null,null,null,null,null,null,null,null,null,null,null,null,null,null,null,null,null,null,null,null,null,null,null,null,null,null,null," "]
["KTS KOSZALINIANIN Koszalin","ZDROJEWSKI Ryszard",3221,null,null,1,{"$f":"IF($F$45=1,G2,IF($F$45=2,L2,IF($F$45=3,Q2,IF($F$45=4,V2,IF($F$45=5,AA2,IF($F$45=6,AF2,IF($F$45=7,AK2,IF($F$45=8,AP2,IF($F$45=9,AU2,IF($F$45=10,AZ2,IF($F$45=11,BE2,IF($F$45=12,BJ2,IF($F$45=13,BO2,IF($F$45=14,BT2,\"\"))))))))))))))","v":"Dworak Jędrzej"},{"$f":"IF($F$45=1,H2,IF($F$45=2,M2,IF($F$45=3,R2,IF($F$45=4,W2,IF($F$45=5,AB2,IF($F$45=6,AG2,IF($F$45=7,AL2,IF($F$45=8,AQ2,IF($F$45=9,AV2,IF($F$45=10,BA2,IF($F$45=11,BF2,IF($F$45=12,BK2,IF($F$45=13,BP2,IF($F$45=14,BU2,\"\"))))))))))))))","v":5797},"Dworak","Jędrzej",1,{"$f":"IF($K$45=1,G2,IF($K$45=2,L2,IF($K$45=3,Q2,IF($K$45=4,V2,IF($K$45=5,AA2,IF($K$45=6,AF2,IF($K$45=7,AK2,IF($K$45=8,AP2,IF($K$45=9,AU2,IF($K$45=10,AZ2,IF($K$45=11,BE2,IF($K$45=12,BJ2,IF($K$45=13,BO2,IF($K$45=14,BT2,\"\"))))))))))))))","v":"Dębal Dariusz"},{"$f":"IF($K$45=1,H2,IF($K$45=2,M2,IF($K$45=3,R2,IF($K$45=4,W2,IF($K$45=5,AB2,IF($K$45=6,AG2,IF($K$45=7,AL2,IF($K$45=8,AQ2,IF($K$45=9,AV2,IF($K$45=10,BA2,IF($K$45=11,BF2,IF($K$45=12,BK2,IF($K$45=13,BP2,IF($K$45=14,BU2,\"\"))))))))))))))","v":10104},"Dębal","Dariusz",1,null,"gość",null,null,null,null,null,null,null,null,null,null,null,null,null,null,null,null,null,null,null,null,null,null,null,null,null,null,null,null,null,null,null,null,null,null,null,null,null,null,null,null,null,null,null,null,null,null,null,null,null,null,null,null,null,null,null,null,null,null,null,null,null,null,null,null,null,null,null,null,null,null,null,null,null,null,null,null,null,null,null,null,null,null,null,null,null,null,null,null,null,null,null,null,null,null,null,null,null,null,null,null,null,null,null,null,null,null,null,null,null,null,null,null,null,null,null,null,null,null,null,null,null,null,null,null,null,null,null,null,null,null,null,null,null,null,null,null,null,null,null,null,null,null,null,null,null,null,null,null,null,null,null,null,null,null,null,null,null,null,null,null,null,null,null,null,null,null,null,null,null,null,null,null,null,null,null,null,null,null,null,null,null,null,null,null,null,null,null,null,null,null,null,null,null,null,null,null,null,null,null,null,null," "]
["KTS KOSZALINIANIN Koszalin","ŻYTKO Mariusz",3224,null,null,2,{"$f":"IF($F$45=1,G3,IF($F$45=2,L3,IF($F$45=3,Q3,IF($F$45=4,V3,IF($F$45=5,AA3,IF($F$45=6,AF3,IF($F$45=7,AK3,IF($F$45=8,AP3,IF($F$45=9,AU3,IF($F$45=10,AZ3,IF($F$45=11,BE3,IF($F$45=12,BJ3,IF($F$45=13,BO3,IF($F$45=14,BT3,\"\"))))))))))))))","v":"Garstecki Dawid"},{"$f":"IF($F$45=1,H3,IF($F$45=2,M3,IF($F$45=3,R3,IF($F$45=4,W3,IF($F$45=5,AB3,IF($F$45=6,AG3,IF($F$45=7,AL3,IF($F$45=8,AQ3,IF($F$45=9,AV3,IF($F$45=10,BA3,IF($F$45=11,BF3,IF($F$45=12,BK3,IF($F$45=13,BP3,IF($F$45=14,BU3,\"\"))))))))))))))","v":14175},{"$f":"IF($F$45=1,I3,IF($F$45=2,N3,IF($F$45=3,S3,IF($F$45=4,X3,IF($F$45=5,AC3,IF($F$45=6,AH3,IF($F$45=7,AM3,IF($F$45=8,AR3,IF($F$45=9,AW3,IF($F$45=10,BB3,IF($F$45=11,BG3,IF($F$45=12,BL3,IF($F$45=13,BQ3,IF($F$45=14,BV3,\"\"))))))))))))))","v":"Garstecki"},{"$f":"IF($F$45=1,J3,IF($F$45=2,O3,IF($F$45=3,T3,IF($F$45=4,Y3,IF($F$45=5,AD3,IF($F$45=6,AI3,IF($F$45=7,AN3,IF($F$45=8,AS3,IF($F$45=9,AX3,IF($F$45=10,BC3,IF($F$45=11,BH3,IF($F$45=12,BM3,IF($F$45=13,BR3,IF($F$45=14,BW3,\"\"))))))))))))))","v":"Dawid"},2,{"$f":"IF($K$45=1,G3,IF($K$45=2,L3,IF($K$45=3,Q3,IF($K$45=4,V3,IF($K$45=5,AA3,IF($K$45=6,AF3,IF($K$45=7,AK3,IF($K$45=8,AP3,IF($K$45=9,AU3,IF($K$45=10,AZ3,IF($K$45=11,BE3,IF($K$45=12,BJ3,IF($K$45=13,BO3,IF($K$45=14,BT3,\"\"))))))))))))))","v":"Iwanów Marcin"},{"$f":"IF($K$45=1,H3,IF($K$45=2,M3,IF($K$45=3,R3,IF($K$45=4,W3,IF($K$45=5,AB3,IF($K$45=6,AG3,IF($K$45=7,AL3,IF($K$45=8,AQ3,IF($K$45=9,AV3,IF($K$45=10,BA3,IF($K$45=11,BF3,IF($K$45=12,BK3,IF($K$45=13,BP3,IF($K$45=14,BU3,\"\"))))))))))))))","v":10105},{"$f":"IF($K$45=1,I3,IF($K$45=2,N3,IF($K$45=3,S3,IF($K$45=4,X3,IF($K$45=5,AC3,IF($K$45=6,AH3,IF($K$45=7,AM3,IF($K$45=8,AR3,IF($K$45=9,AW3,IF($K$45=10,BB3,IF($K$45=11,BG3,IF($K$45=12,BL3,IF($K$45=13,BQ3,IF($K$45=14,BV3,\"\"))))))))))))))","v":"Iwanów"},{"$f":"IF($K$45=1,J3,IF($K$45=2,O3,IF($K$45=3,T3,IF($K$45=4,Y3,IF($K$45=5,AD3,IF($K$45=6,AI3,IF($K$45=7,AN3,IF($K$45=8,AS3,IF($K$45=9,AX3,IF($K$45=10,BC3,IF($K$45=11,BH3,IF($K$45=12,BM3,IF($K$45=13,BR3,IF($K$45=14,BW3,\"\"))))))))))))))","v":"Marcin"},2,null,null,null,null,null,null,null,null,null,null,null,null,null,null,null,null,null,null,null,null,null,null,null,null,null,null,null,null,null,null,null,null,null,null,null,null,null,null,null,null,null,null,null,null,null,null,null,null,null,null,null,null,null,null,null,null,null,null,null,null,null,null,null,null,null,null,null,null,null,null,null,null,null,null,null,null,null,null,null,null,null,null,null,null,null,null,null,null,null,null,null,null,null,null,null,null,null,null,null,null,null,null,null,null,null,null,null,null,null,null,null,null,null,null,null,null,null,null,null,null,null,null,null,null,null,null,null,null,null,null,null,null,null,null,null,null,null,null,null,null,null,null,null,null,null,null,null,null,null,null,null,null,null,null,null,null,null,null,null,null,null,null,null,null,null,null,null,null,null,null,null,null,null,null,null,null,null,null,null,null,null,null,null,null,null,null,null,null,null,null,null,null,null,null,null,null,null,null,null,null,null,null,null," "]
["LKS LECH Czaplinek","CIEŚLA Magdalena",3679,null,null,3,"Karczyński Eryk",5798,"Karczyński","Eryk",3,"Kruszyna Artur",10106,"Kruszyna","Artur",3,null,null,null,null,null,null,null,null,null,null,null,null,null,null,null,null,null,null,null,null,null,null,null,null,null,null,null,null,null,null,null,null,null,null,null,null,null,null,null,null,null,null,null,null,null,null,null,null,null,null,null,null,null,null,null,null,null,null,null,null,null,null,null,null,null,null,null,null,null,null,null,null,null,null,null,null,null,null,null,null,null,null,null,null,null,null,null,null,null,null,null,null,null,null,null,null,null,null,null,null,null,null,null,null,null,null,null,null,null,null,null,null,null,null,null,null,null,null,null,null,null,null,null,null,null,null,null,null,null,null,null,null,null,null,null,null,null,null,null,null,null,null,null,null,null,null,null,null,null,null,null,null,null,null,null,null,null,null,null,null,null,null,null,null,null,null,null,null,null,null,null,null,null,null,null,null,null,null,null,null,null,null,null,null,null,null,null,null,null,null,null,null,null,null,null,null,null,null,null,null,null,null,null," "]
["LKS LECH Czaplinek","CIEŚLA Maja",3666,null,null,4,"Łyskawa Jakub",5799,"Łyskawa","Jakub",4,"Rybarczyk Bronisław",10107,"Rybarczyk","Bronisław",4,null,null,null,null,null,null,null,null,null,null,null,null,null,null,null,null,null,null,null,null,null,null,null,null,null,null,null,null,null,null,null,null,null,null,null,null,null,null,null,null,null,null,null,null,null,null,null,null,null,null,null,null,null,null,null,null,null,null,null,null,null,null,null,null,null,null,null,null,null,null,null,null,null,null,null,null,null,null,null,null,null,null,null,null,null,null,null,null,null,null,null,null,null,null,null,null,null,null,null,null,null,null,null,null,null,null,null,null,null,null,null,null,null,null,null,null,null,null,null,null,null,null,null,null,null,null,null,null,null,null,null,null,null,null,null,null,null,null,null,null,null,null,null,null,null,null,null,null,null,null,null,null,null,null,null,null,null,null,null,null,null,null,null,null,null,null,null,null,null,null,null,null,null,null,null,null,null,null,null,null,null,null,null,null,null,null,null,null,null,null,null,null,null,null,null,null,null,null,null,null,null,null,null," "]
["LKS LECH Czaplinek","CIEŚLA Michalina",3667,null,null,5,"Majchrzak Michał",5800,"Majchrzak","Michał",5,"Skuza Paweł",10103,"Skuza","Paweł",5]
["LKS LECH Czaplinek","DWORZAK Jędrzej",3668,null,null,6,"Majchrzak Robert",5794,"Majchrzak","Robert",6,"Wawrzycki Kamil",10102,"Wawrzycki","Kamil",6]
["LKS LECH Czaplinek","PIETRZAK Karolina",3669,null,null,7,"Makutynowicz Jakub",5801,"Makutynowicz","Jakub",7,"Wierzbicki Krzysztof",10108,"Wierzbicki","Krzysztof",7]
["LKS LECH Czaplinek","PRZYWARTA Sandra",3670,null,null,8,"Mokanek Marcel",14274,"Mokanek","Marcel",8,"Wyrzykowski Morjan",10101,"Wyrzykowski","Morjan",8]
["LKS LECH Czaplinek","PRZYWARTY Jarosław",3671,null,null,9,"Nowakowski Mieszko",5802,"Nowakowski","Mieszko",9,0,0,0,0,9]
["LKS LECH Czaplinek","ROMANOWICZ Szymon",3672,null,null,10,"Spychalski Łukasz",5803,"Spychalski","Łukasz",10,0,0,0,0,10]
["LKS LECH Czaplinek","ROMANOWICZ Waldemar",3673,null,null,11,"Szczawiński Szymon",5804,"Szczawiński","Szymon",11,0,0,0,0,11]
["LKS LECH Czaplinek","SŁOWIŃSKA Anika",3674,null,null,12,"Zarzycki Paweł",5796,"Zarzycki","Paweł",12,0,0,0,0,12]
["LKS LECH Czaplinek","SŁOWIŃSKI Hubert",3675,null,null,13,"Zarzycki Adam",5795,"Zarzycki","Adam",13,0,0,0,0,13]
["LKS LECH Czaplinek","TOMCZAK Jarosław",3676,null,null,14,"Zięcina Łukasz",5805,"Zięcina","Łukasz",14,0,0,0,0,14]
["LKS LECH Czaplinek","ŻUKOWSKI Adrian",3677,null,null,15,0,0,0,0,15,0,0,0,0,15]
["LKS LECH Czaplinek","ŻUKOWSKI Bartek",3678,null,null,16,0,0,0,0,16,0,0,0,0,16]
["LUKS Gryfice","CERKASKI Arkadiusz",2132,null,null,17,0,0,0,0,17,0,0,0,0,17]
["LUKS Gryfice","CERKASKI Krzysztof",2133,null,null,18,0,0,0,0,18,0,0,0,0,18]
["LUKS Gryfice","DOMAŃSKA Agata",2134,null,null,19,0,0,0,0,19,0,0,0,0,19]
["LUKS Gryfice","GRABOWSKI Stanisław",2135,null,null,20,0,0,0,0,20,0,0,0,0,20]
["LUKS Gryfice","JASKULSKI Mariusz",2136,null,null,21,0,0,0,0,21,0,0,0,0,21]
["LUKS Gryfice","KALINOWSKI Mirosław",2138,null,null,22,0,0,0,0,22,0,0,0,0,22]
["LUKS Gryfice","MAKOWSKI Łukasz",2137,null,null,23,0,0,0,0,23,0,0,0,0,23]
["LUKS Gryfice","NOWY Natalia",2139,null,null,24,0,0,0,0,24,0,0,0,0,24]
["LUKS Gryfice","NOWY Szymon",2140,null,null,25,0,0,0,0,25,0,0,0,0,25]
["LUKS Gryfice","OLEJNIK Mikołaj",2143,null,null,26,0,0,0,0,26,0,0,0,0,26]
["LUKS Gryfice","POWROŹNIK Krzysztof",2141,null,null,27,0,0,0,0,27,0,0,0,0,27]
["LUKS Gryfice","RACHWAŁ Antoni",2142,null,null,28,0,0,0,0,28,0,0,0,0,28]
["SL SALOS Szczecin","DĄBROWSKI Michał",2727,null,null,29,0,0,0,0,29,0,0,0,0,29]
["SL SALOS Szczecin","FRYSKA Mateusz",2725,null,null,30,0,0,0,0,30,0,0,0,0,30]
["SL SALOS Szczecin","MITURA Marek",2721,null,null,31,0,0,0,0,31,0,0,0,0,31]
["SL SALOS Szczecin","PAWŁUSIEWICZ Marek",2722,null,null,32,0,0,0,0,32,0,0,0,0,32]
["SL SALOS Szczecin","PĄGOWSKI Filip",2726,null,null,33,0,0,0,0,33,0,0,0,0,33]
["SL SALOS Szczecin","POŹNIAK Dariusz",2720,null,null,34,0,0,0,0,34,0,0,0,0,34]
["SL SALOS Szczecin","RUSIECKI Krzysztof",2723,null,null,35,0,0,0,0,35,0,0,0,0,35]
["SL SALOS Szczecin","ZARZYCKI Adam",2719,null,null,36,0,0,0,0,36,0,0,0,0,36]
["SL SALOS Szczecin","ZARZYCKI Paweł",2724,null,null,37,0,0,0,0,37,0,0,0,0,37]
["UKS CHAMPION Police","BAJSON Piotr",1287,null,null,38,0,0,0,0,38,0,0,0,0,38]
["UKS CHAMPION Police","FREJUSZ Roman",1286,null,null,39,0,0,0,0,39,0,0,0,0,39]
[null,null,null,null,null,40,0,0,0,0,40,0,0,0,0,39]
[null,null,null,null,null,41,0,0,0,0,41,0,0,0,0,39]
[null,null,null,null,null,42,0,0,0,0,42,0,0,0,0,39]
["UKS CHAMPION Police","GADOMSKA Dorota",1298,null,"do 20",43,{"$f":"IF($F$45=1,G44,IF($F$45=2,L44,IF($F$45=3,Q44,IF($F$45=4,V44,IF($F$45=5,AA44,IF($F$45=6,AF44,IF($F$45=7,AK44,IF($F$45=8,AP44,IF($F$45=9,AU44,IF($F$45=10,AZ44,IF($F$45=11,BE44,IF($F$45=12,BJ44,\"\"))))))))))))","v":0},{"$f":"IF($F$45=1,H44,IF($F$45=2,M44,IF($F$45=3,R44,IF($F$45=4,W44,IF($F$45=5,AB44,IF($F$45=6,AG44,IF($F$45=7,AL44,IF($F$45=8,AQ44,IF($F$45=9,AV44,IF($F$45=10,BA44,IF($F$45=11,BF44,IF($F$45=12,BK44,\"\"))))))))))))","v":0},{"$f":"IF($F$45=1,I44,IF($F$45=2,N44,IF($F$45=3,S44,IF($F$45=4,X44,IF($F$45=5,AC44,IF($F$45=6,AH44,IF($F$45=7,AM44,IF($F$45=8,AR44,IF($F$45=9,AW44,IF($F$45=10,BB44,IF($F$45=11,BG44,IF($F$45=12,BL44,\"\"))))))))))))","v":0},{"$f":"IF($F$45=1,J44,IF($F$45=2,O44,IF($F$45=3,T44,IF($F$45=4,Y44,IF($F$45=5,AD44,IF($F$45=6,AI44,IF($F$45=7,AN44,IF($F$45=8,AS44,IF($F$45=9,AX44,IF($F$45=10,BC44,IF($F$45=11,BH44,IF($F$45=12,BM44,\"\"))))))))))))","v":0},43,0,0,0,0,40]
["UKS CHAMPION Police","GRYGORCEWICZ Anna",1293,null,"A",{"$f":"IF(Protokół!BZ13>0,Protokół!BZ13,0)","v":0},{"$f":"VLOOKUP(F90,F47:G89,2,FALSE)","v":{"$error":"#N/A"}},{"$f":"VLOOKUP(G90,G47:J89,2,FALSE)","v":{"$error":"#N/A"}},{"$f":"VLOOKUP(G90,G47:J89,3,FALSE)","v":{"$error":"#N/A"}},{"$f":"VLOOKUP(G90,G47:J89,4,FALSE)","v":{"$error":"#N/A"}},{"$f":"IF(Protokół!CA13>0,Protokół!CA13,0)","v":0},{"$f":"VLOOKUP(K90,K47:L89,2,FALSE)","v":{"$error":"#N/A"}},{"$f":"VLOOKUP(L90,L47:O89,2,FALSE)","v":{"$error":"#N/A"}},{"$f":"VLOOKUP(L90,L47:O89,3,FALSE)","v":{"$error":"#N/A"}},{"$f":"VLOOKUP(L90,L47:O89,4,FALSE)","v":{"$error":"#N/A"}}]
["UKS CHAMPION Police","JANKOWSKI Marcin",1284,null,"B",{"$f":"IF(Protokół!BZ14>0,Protokół!BZ14,0)","v":0},{"$f":"VLOOKUP(F91,E138:G179,3,TRUE)","v":{"$error":"#N/A"}},{"$f":"VLOOKUP(G91,G47:J89,2,FALSE)","v":{"$error":"#N/A"}},{"$f":"VLOOKUP(G91,G47:J89,3,FALSE)","v":{"$error":"#N/A"}},{"$f":"VLOOKUP(G91,G47:J89,4,FALSE)","v":{"$error":"#N/A"}},{"$f":"IF(Protokół!CA14>0,Protokół!CA14,0)","v":0},{"$f":"VLOOKUP(K91,J138:L179,3,TRUE)","v":{"$error":"#N/A"}},{"$f":"VLOOKUP(L91,L47:O89,2,FALSE)","v":{"$error":"#N/A"}},{"$f":"VLOOKUP(L91,L47:O89,3,FALSE)","v":{"$error":"#N/A"}},{"$f":"VLOOKUP(L91,L47:O89,4,FALSE)","v":{"$error":"#N/A"}}]
["UKS CHAMPION Police","KACZMARSKI Szymon",1289,null,"C",{"$f":"IF(Protokół!BZ15>0,Protokół!BZ15,0)","v":0},{"$f":"VLOOKUP(F92,E180:G259,3,TRUE)","v":{"$error":"#N/A"}},{"$f":"VLOOKUP(G92,G47:J89,2,FALSE)","v":{"$error":"#N/A"}},{"$f":"VLOOKUP(G92,G47:J89,3,FALSE)","v":{"$error":"#N/A"}},{"$f":"VLOOKUP(G92,G47:J89,4,FALSE)","v":{"$error":"#N/A"}},{"$f":"IF(Protokół!CA15>0,Protokół!CA15,0)","v":0},{"$f":"VLOOKUP(K92,J180:L259,3,TRUE)","v":{"$error":"#N/A"}},{"$f":"VLOOKUP(L92,L47:O89,2,FALSE)","v":{"$error":"#N/A"}},{"$f":"VLOOKUP(L92,L47:O89,3,FALSE)","v":{"$error":"#N/A"}},{"$f":"VLOOKUP(L92,L47:O89,4,FALSE)","v":{"$error":"#N/A"}}]
["UKS CHAMPION Police","KORZENIOWSKA Patrycja",1295,null,"D",{"$f":"IF(Protokół!BZ16>0,Protokół!BZ16,0)","v":0},{"$f":"VLOOKUP(F93,E220:G259,3,FALSE)","v":{"$error":"#N/A"}},{"$f":"VLOOKUP(G93,G47:J89,2,FALSE)","v":{"$error":"#N/A"}},{"$f":"VLOOKUP(G93,G47:J89,3,FALSE)","v":{"$error":"#N/A"}},{"$f":"VLOOKUP(G93,G47:J89,4,FALSE)","v":{"$error":"#N/A"}},{"$f":"IF(Protokół!CA16>0,Protokół!CA16,0)","v":0},{"$f":"VLOOKUP(K93,J220:L259,3,FALSE)","v":{"$error":"#N/A"}},{"$f":"VLOOKUP(L93,L47:O89,2,FALSE)","v":{"$error":"#N/A"}},{"$f":"VLOOKUP(L93,L47:O89,3,FALSE)","v":{"$error":"#N/A"}},{"$f":"VLOOKUP(L93,L47:O89,4,FALSE)","v":{"$error":"#N/A"}}]
["UKS CHAMPION Police","KORZENIOWSKA Paulina",1294,null,"R1",{"$f":"IF(Protokół!BZ17>0,Protokół!BZ17,0)","v":0},{"$f":"VLOOKUP(F94,E260:G298,3,FALSE)","v":{"$error":"#N/A"}},{"$f":"VLOOKUP(G94,G47:J89,2,FALSE)","v":{"$error":"#N/A"}},{"$f":"VLOOKUP(G94,G47:J89,3,FALSE)","v":{"$error":"#N/A"}},{"$f":"VLOOKUP(G94,G47:J89,4,FALSE)","v":{"$error":"#N/A"}},{"$f":"IF(Protokół!CA17>0,Protokół!CA17,0)","v":0},{"$f":"VLOOKUP(K94,J260:L298,3,FALSE)","v":{"$error":"#N/A"}},{"$f":"VLOOKUP(L94,L47:O89,2,FALSE)","v":{"$error":"#N/A"}},{"$f":"VLOOKUP(L94,L47:O89,3,FALSE)","v":{"$error":"#N/A"}},{"$f":"VLOOKUP(L94,L47:O89,4,FALSE)","v":{"$error":"#N/A"}}]
["UKS CHAMPION Police","KUPISZ Mariusz",1280,null,"R2",{"$f":"IF(Protokół!BZ18>0,Protokół!BZ18,0)","v":0},{"$f":"VLOOKUP(F95,E300:G337,3,FALSE)","v":{"$error":"#N/A"}},{"$f":"VLOOKUP(G95,G47:J89,2,FALSE)","v":{"$error":"#N/A"}},{"$f":"VLOOKUP(G95,G47:J89,3,FALSE)","v":{"$error":"#N/A"}},{"$f":"VLOOKUP(G95,G47:J89,4,FALSE)","v":{"$error":"#N/A"}},{"$f":"IF(Protokół!CA18>0,Protokół!CA18,0)","v":0},{"$f":"VLOOKUP(K95,J300:L337,3,FALSE)","v":{"$error":"#N/A"}},{"$f":"VLOOKUP(L95,L47:O89,2,FALSE)","v":{"$error":"#N/A"}},{"$f":"VLOOKUP(L95,L47:O89,3,FALSE)","v":{"$error":"#N/A"}},{"$f":"VLOOKUP(L95,L47:O89,4,FALSE)","v":{"$error":"#N/A"}}]
["UKS CHAMPION Police","MALICKI Damian",1281]
["UKS CHAMPION Police","MALICKI Mateusz",1282,null,null,{"$f":"Protokół!$BZ$19","v":0},null,{"$f":"VLOOKUP(Protokół!D13,'kluby i zawodnicy'!G98:G140,1,0)","v":{"$error":"#N/A"}},{"$f":"VLOOKUP(Protokół!D14,'kluby i zawodnicy'!H98:H140,1,0)","v":{"$error":"#N/A"}},{"$f":"VLOOKUP(Protokół!D15,'kluby i zawodnicy'!I98:I140,1,0)","v":{"$error":"#N/A"}},{"$f":"VLOOKUP(Protokół!D16,'kluby i zawodnicy'!J98:J140,1,0)","v":{"$error":"#N/A"}},{"$f":"VLOOKUP(Protokół!D17,'kluby i zawodnicy'!K98:K140,1,0)","v":{"$error":"#N/A"}},null,{"$f":"IF(K97=1,N$47,IF(K97=2,N$48,IF(K97=3,N$49,IF(K97=4,N$50,IF(K97=5,N$51,IF(K97=6,N$52,IF(K97=7,N$53,IF(K97=8,N$54,IF(K97=9,N$55,IF(K97=10,N$56,IF(K97=11,N$57,IF(K97=12,N$58,IF(K97=13,N$59,IF(K97=14,N$60,IF(K97=15,N$61,IF(K97=16,N$62,IF(K97=17,N$63,IF(K97=18,N$64,IF(K97=19,N$65,IF(K97=20,N$66,IF(K97=21,N$67,IF(K97=22,N$68,IF(K97=23,N$69,IF(K97=24,N$70,IF(K97=25,N$71,IF(K97=26,N$72,IF(K97=27,N$73,IF(K97=28,N$74,IF(K97=29,N$75,IF(K97=30,N$76,IF(K97=31,N$77,IF(K97=32,N$78,IF(K97=33,N$79,IF(K97=34,N$80,IF(K97=35,N$81,IF(K97=36,N$82,IF(K97=37,N$83,IF(K97=38,N$84,IF(K97=39,N$85,\"\")))))))))))))))))))))))))))))))))))))))","v":{"$error":"#N/A"}},{"$f":"IF(K97=1,O$47,IF(K97=2,O$48,IF(K97=3,O$49,IF(K97=4,O$50,IF(K97=5,O$51,IF(K97=6,O$52,IF(K97=7,O$53,IF(K97=8,O$54,IF(K97=9,O$55,IF(K97=10,O$56,IF(K97=11,O$57,IF(K97=12,O$58,IF(K97=13,O$59,IF(K97=14,O$60,IF(K97=15,O$61,IF(K97=16,O$62,IF(K97=17,O$63,IF(K97=18,O$64,IF(K97=19,O$65,IF(K97=20,O$66,IF(K97=21,O$67,IF(K97=22,O$68,IF(K97=23,O$69,IF(K97=24,O$70,IF(K97=25,O$71,IF(K97=26,O$72,IF(K97=27,O$73,IF(K97=28,O$74,IF(K97=29,O$75,IF(K97=30,O$76,IF(K97=31,O$77,IF(K97=32,O$78,IF(K97=33,O$79,IF(K97=34,O$80,IF(K97=35,O$81,IF(K97=36,O$82,IF(K97=37,O$83,IF(K97=38,O$84,IF(K97=39,O$85,\"\")))))))))))))))))))))))))))))))))))))))","v":{"$error":"#N/A"}}]
["UKS CHAMPION Police","MARCZUK Marek",1288,null,1,{"$f":"IF(G98<>\"\",TRUE,FALSE)","v":true},{"$f":"IF(G47=0,\"\",G47)","v":"Dworak Jędrzej"},{"$f":"OFFSET(G98,COUNTIF(G$97:G98,H$97),0)&\"\"","v":"Dworak Jędrzej"},{"$f":"OFFSET(H98,COUNTIF(H$97:H98,I$97),0)&\"\"","v":"Garstecki Dawid"},{"$f":"OFFSET(I98,COUNTIF(I$97:I98,J$97),0)&\"\"","v":"Karczyński Eryk"},{"$f":"OFFSET(J98,COUNTIF(J$97:J98,K$97),0)&\"\"","v":"Łyskawa Jakub"},{"$f":"OFFSET(K98,COUNTIF(K$97:K98,L$97),0)&\"\"","v":"Majchrzak Michał"}]
["UKS CHAMPION Police","MOSKWA Martyna",1297,null,2,{"$f":"IF(G99<>\"\",TRUE,FALSE)","v":true},"Garstecki Dawid",{"$f":"OFFSET(G99,COUNTIF(G$97:G99,H$97),0)&\"\"","v":"Garstecki Dawid"},{"$f":"OFFSET(H99,COUNTIF(H$97:H99,I$97),0)&\"\"","v":"Karczyński Eryk"},{"$f":"OFFSET(I99,COUNTIF(I$97:I99,J$97),0)&\"\"","v":"Łyskawa Jakub"},{"$f":"OFFSET(J99,COUNTIF(J$97:J99,K$97),0)&\"\"","v":"Majchrzak Michał"},{"$f":"OFFSET(K99,COUNTIF(K$97:K99,L$97),0)&\"\"","v":"Majchrzak Robert"}]
["UKS CHAMPION Police","POŹNIAK Paulina",1295,null,3,true,"Karczyński Eryk",{"$f":"OFFSET(G100,COUNTIF(G$97:G100,H$97),0)&\"\"","v":"Karczyński Eryk"},{"$f":"OFFSET(H100,COUNTIF(H$97:H100,I$97),0)&\"\"","v":"Łyskawa Jakub"},{"$f":"OFFSET(I100,COUNTIF(I$97:I100,J$97),0)&\"\"","v":"Majchrzak Michał"},{"$f":"OFFSET(J100,COUNTIF(J$97:J100,K$97),0)&\"\"","v":"Majchrzak Robert"},{"$f":"OFFSET(K100,COUNTIF(K$97:K100,L$97),0)&\"\"","v":"Makutynowicz Jakub"}]
["UKS CHAMPION Police","ROSIK Iwona",1299,null,4,true,"Łyskawa Jakub",{"$f":"OFFSET(G101,COUNTIF(G$97:G101,H$97),0)&\"\"","v":"Łyskawa Jakub"},{"$f":"OFFSET(H101,COUNTIF(H$97:H101,I$97),0)&\"\"","v":"Majchrzak Michał"},{"$f":"OFFSET(I101,COUNTIF(I$97:I101,J$97),0)&\"\"","v":"Majchrzak Robert"},{"$f":"OFFSET(J101,COUNTIF(J$97:J101,K$97),0)&\"\"","v":"Makutynowicz Jakub"},{"$f":"OFFSET(K101,COUNTIF(K$97:K101,L$97),0)&\"\"","v":"Mokanek Marcel"}]
["UKS CHAMPION Police","SMOLIŃSKI Rafał",1291,null,5,true,"Majchrzak Michał",{"$f":"OFFSET(G102,COUNTIF(G$97:G102,H$97),0)&\"\"","v":"Majchrzak Michał"},{"$f":"OFFSET(H102,COUNTIF(H$97:H102,I$97),0)&\"\"","v":"Majchrzak Robert"},{"$f":"OFFSET(I102,COUNTIF(I$97:I102,J$97),0)&\"\"","v":"Makutynowicz Jakub"},{"$f":"OFFSET(J102,COUNTIF(J$97:J102,K$97),0)&\"\"","v":"Mokanek Marcel"},{"$f":"OFFSET(K102,COUNTIF(K$97:K102,L$97),0)&\"\"","v":"Nowakowski Mieszko"}]
["UKS CHAMPION Police","STADNIK Maciej",1284,null,6,true,"Majchrzak Robert",{"$f":"OFFSET(G103,COUNTIF(G$97:G103,H$97),0)&\"\"","v":"Majchrzak Robert"},{"$f":"OFFSET(H103,COUNTIF(H$97:H103,I$97),0)&\"\"","v":"Makutynowicz Jakub"},{"$f":"OFFSET(I103,COUNTIF(I$97:I103,J$97),0)&\"\"","v":"Mokanek Marcel"},{"$f":"OFFSET(J103,COUNTIF(J$97:J103,K$97),0)&\"\"","v":"Nowakowski Mieszko"},{"$f":"OFFSET(K103,COUNTIF(K$97:K103,L$97),0)&\"\"","v":"Spychalski Łukasz"}]
["UKS CHAMPION Police","WOJCIECHOWSKI Robert",1292,null,7,true,"Makutynowicz Jakub",{"$f":"OFFSET(G104,COUNTIF(G$97:G104,H$97),0)&\"\"","v":"Makutynowicz Jakub"},{"$f":"OFFSET(H104,COUNTIF(H$97:H104,I$97),0)&\"\"","v":"Mokanek Marcel"},{"$f":"OFFSET(I104,COUNTIF(I$97:I104,J$97),0)&\"\"","v":"Nowakowski Mieszko"},{"$f":"OFFSET(J104,COUNTIF(J$97:J104,K$97),0)&\"\"","v":"Spychalski Łukasz"},{"$f":"OFFSET(K104,COUNTIF(K$97:K104,L$97),0)&\"\"","v":"Szczawiński Szymon"}]
["UKS CHAMPION Police","WOJEWODA Jakub",1290,null,8,true,"Mokanek Marcel",{"$f":"OFFSET(G105,COUNTIF(G$97:G105,H$97),0)&\"\"","v":"Mokanek Marcel"},{"$f":"OFFSET(H105,COUNTIF(H$97:H105,I$97),0)&\"\"","v":"Nowakowski Mieszko"},{"$f":"OFFSET(I105,COUNTIF(I$97:I105,J$97),0)&\"\"","v":"Spychalski Łukasz"},{"$f":"OFFSET(J105,COUNTIF(J$97:J105,K$97),0)&\"\"","v":"Szczawiński Szymon"},{"$f":"OFFSET(K105,COUNTIF(K$97:K105,L$97),0)&\"\"","v":"Zarzycki Paweł"}]
["UKS CHAMPION Police","WYMIATAŁ Robert",1279,null,9,true,"Nowakowski Mieszko",{"$f":"OFFSET(G106,COUNTIF(G$97:G106,H$97),0)&\"\"","v":"Nowakowski Mieszko"},{"$f":"OFFSET(H106,COUNTIF(H$97:H106,I$97),0)&\"\"","v":"Spychalski Łukasz"},{"$f":"OFFSET(I106,COUNTIF(I$97:I106,J$97),0)&\"\"","v":"Szczawiński Szymon"},{"$f":"OFFSET(J106,COUNTIF(J$97:J106,K$97),0)&\"\"","v":"Zarzycki Paweł"},{"$f":"OFFSET(K106,COUNTIF(K$97:K106,L$97),0)&\"\"","v":"Zarzycki Adam"}]
["UKS CHAMPION Police","ZINCZAK Paweł",1283,null,10,true,"Spychalski Łukasz",{"$f":"OFFSET(G107,COUNTIF(G$97:G107,H$97),0)&\"\"","v":"Spychalski Łukasz"},{"$f":"OFFSET(H107,COUNTIF(H$97:H107,I$97),0)&\"\"","v":"Szczawiński Szymon"},{"$f":"OFFSET(I107,COUNTIF(I$97:I107,J$97),0)&\"\"","v":"Zarzycki Paweł"},{"$f":"OFFSET(J107,COUNTIF(J$97:J107,K$97),0)&\"\"","v":"Zarzycki Adam"},{"$f":"OFFSET(K107,COUNTIF(K$97:K107,L$97),0)&\"\"","v":"Zięcina Łukasz"}]
["UKS CHROBRY Międzyzdroje","BANACHOWICZ Aleksander",799,null,11,true,"Szczawiński Szymon",{"$f":"OFFSET(G108,COUNTIF(G$97:G108,H$97),0)&\"\"","v":"Szczawiński Szymon"},{"$f":"OFFSET(H108,COUNTIF(H$97:H108,I$97),0)&\"\"","v":"Zarzycki Paweł"},{"$f":"OFFSET(I108,COUNTIF(I$97:I108,J$97),0)&\"\"","v":"Zarzycki Adam"},{"$f":"OFFSET(J108,COUNTIF(J$97:J108,K$97),0)&\"\"","v":"Zięcina Łukasz"},{"$f":"OFFSET(K108,COUNTIF(K$97:K108,L$97),0)&\"\"","v":""}]
["UKS CHROBRY Międzyzdroje","BANACHOWICZ Artur",800,null,12,true,"Zarzycki Paweł",{"$f":"OFFSET(G109,COUNTIF(G$97:G109,H$97),0)&\"\"","v":"Zarzycki Paweł"},{"$f":"OFFSET(H109,COUNTIF(H$97:H109,I$97),0)&\"\"","v":"Zarzycki Adam"},{"$f":"OFFSET(I109,COUNTIF(I$97:I109,J$97),0)&\"\"","v":"Zięcina Łukasz"},{"$f":"OFFSET(J109,COUNTIF(J$97:J109,K$97),0)&\"\"","v":""},{"$f":"OFFSET(K109,COUNTIF(K$97:K109,L$97),0)&\"\"","v":""}]
["UKS CHROBRY Międzyzdroje","BŁAŻENIUK Robert",801,null,13,true,"Zarzycki Adam",{"$f":"OFFSET(G110,COUNTIF(G$97:G110,H$97),0)&\"\"","v":"Zarzycki Adam"},{"$f":"OFFSET(H110,COUNTIF(H$97:H110,I$97),0)&\"\"","v":"Zięcina Łukasz"},{"$f":"OFFSET(I110,COUNTIF(I$97:I110,J$97),0)&\"\"","v":""},{"$f":"OFFSET(J110,COUNTIF(J$97:J110,K$97),0)&\"\"","v":""},{"$f":"OFFSET(K110,COUNTIF(K$97:K110,L$97),0)&\"\"","v":""}]
["UKS CHROBRY Międzyzdroje","BORKOWICZ Łukasz",802,null,14,true,"Zięcina Łukasz",{"$f":"OFFSET(G111,COUNTIF(G$97:G111,H$97),0)&\"\"","v":"Zięcina Łukasz"},{"$f":"OFFSET(H111,COUNTIF(H$97:H111,I$97),0)&\"\"","v":""},{"$f":"OFFSET(I111,COUNTIF(I$97:I111,J$97),0)&\"\"","v":""},{"$f":"OFFSET(J111,COUNTIF(J$97:J111,K$97),0)&\"\"","v":""},{"$f":"OFFSET(K111,COUNTIF(K$97:K111,L$97),0)&\"\"","v":""}]
["UKS CHROBRY Międzyzdroje","BURZA Aurelia",824,null,15,false,"",{"$f":"OFFSET(G112,COUNTIF(G$97:G112,H$97),0)&\"\"","v":""},{"$f":"OFFSET(H112,COUNTIF(H$97:H112,I$97),0)&\"\"","v":""},{"$f":"OFFSET(I112,COUNTIF(I$97:I112,J$97),0)&\"\"","v":""},{"$f":"OFFSET(J112,COUNTIF(J$97:J112,K$97),0)&\"\"","v":""},{"$f":"OFFSET(K112,COUNTIF(K$97:K112,L$97),0)&\"\"","v":""}]
["UKS CHROBRY Międzyzdroje","JANOWICZ Rafał",5788,null,16,false,"",{"$f":"OFFSET(G113,COUNTIF(G$97:G113,H$97),0)&\"\"","v":""},{"$f":"OFFSET(H113,COUNTIF(H$97:H113,I$97),0)&\"\"","v":""},{"$f":"OFFSET(I113,COUNTIF(I$97:I113,J$97),0)&\"\"","v":""},{"$f":"OFFSET(J113,COUNTIF(J$97:J113,K$97),0)&\"\"","v":""},{"$f":"OFFSET(K113,COUNTIF(K$97:K113,L$97),0)&\"\"","v":""}]
["UKS CHROBRY Międzyzdroje","KĘDZIORA Robert",803,null,17,false,"",{"$f":"OFFSET(G114,COUNTIF(G$97:G114,H$97),0)&\"\"","v":""},{"$f":"OFFSET(H114,COUNTIF(H$97:H114,I$97),0)&\"\"","v":""},{"$f":"OFFSET(I114,COUNTIF(I$97:I114,J$97),0)&\"\"","v":""},{"$f":"OFFSET(J114,COUNTIF(J$97:J114,K$97),0)&\"\"","v":""},{"$f":"OFFSET(K114,COUNTIF(K$97:K114,L$97),0)&\"\"","v":""}]
["UKS CHROBRY Międzyzdroje","KLUCZYŃSKI Michał",804,null,18,false,"",{"$f":"OFFSET(G115,COUNTIF(G$97:G115,H$97),0)&\"\"","v":""},{"$f":"OFFSET(H115,COUNTIF(H$97:H115,I$97),0)&\"\"","v":""},{"$f":"OFFSET(I115,COUNTIF(I$97:I115,J$97),0)&\"\"","v":""},{"$f":"OFFSET(J115,COUNTIF(J$97:J115,K$97),0)&\"\"","v":""},{"$f":"OFFSET(K115,COUNTIF(K$97:K115,L$97),0)&\"\"","v":""}]
["UKS CHROBRY Międzyzdroje","KOBER Laura",825,null,19,false,"",{"$f":"OFFSET(G116,COUNTIF(G$97:G116,H$97),0)&\"\"","v":""},{"$f":"OFFSET(H116,COUNTIF(H$97:H116,I$97),0)&\"\"","v":""},{"$f":"OFFSET(I116,COUNTIF(I$97:I116,J$97),0)&\"\"","v":""},{"$f":"OFFSET(J116,COUNTIF(J$97:J116,K$97),0)&\"\"","v":""},{"$f":"OFFSET(K116,COUNTIF(K$97:K116,L$97),0)&\"\"","v":""}]
["UKS CHROBRY Międzyzdroje","KOŁASZEWSKA Adrianna",796,null,20,false,"",{"$f":"OFFSET(G117,COUNTIF(G$97:G117,H$97),0)&\"\"","v":""},{"$f":"OFFSET(H117,COUNTIF(H$97:H117,I$97),0)&\"\"","v":""},{"$f":"OFFSET(I117,COUNTIF(I$97:I117,J$97),0)&\"\"","v":""},{"$f":"OFFSET(J117,COUNTIF(J$97:J117,K$97),0)&\"\"","v":""},{"$f":"OFFSET(K117,COUNTIF(K$97:K117,L$97),0)&\"\"","v":""}]
["UKS CHROBRY Międzyzdroje","KOMISARSKA Paulina",797,null,21,false,"",{"$f":"OFFSET(G118,COUNTIF(G$97:G118,H$97),0)&\"\"","v":""},{"$f":"OFFSET(H118,COUNTIF(H$97:H118,I$97),0)&\"\"","v":""},{"$f":"OFFSET(I118,COUNTIF(I$97:I118,J$97),0)&\"\"","v":""},{"$f":"OFFSET(J118,COUNTIF(J$97:J118,K$97),0)&\"\"","v":""},{"$f":"OFFSET(K118,COUNTIF(K$97:K118,L$97),0)&\"\"","v":""}]
["UKS CHROBRY Międzyzdroje","KONICKA Agata",805,null,22,false,"",{"$f":"OFFSET(G119,COUNTIF(G$97:G119,H$97),0)&\"\"","v":""},{"$f":"OFFSET(H119,COUNTIF(H$97:H119,I$97),0)&\"\"","v":""},{"$f":"OFFSET(I119,COUNTIF(I$97:I119,J$97),0)&\"\"","v":""},{"$f":"OFFSET(J119,COUNTIF(J$97:J119,K$97),0)&\"\"","v":""},{"$f":"OFFSET(K119,COUNTIF(K$97:K119,L$97),0)&\"\"","v":""}]
["UKS CHROBRY Międzyzdroje","KORNEL Piotr",806,null,23,false,"",{"$f":"OFFSET(G120,COUNTIF(G$97:G120,H$97),0)&\"\"","v":""},{"$f":"OFFSET(H120,COUNTIF(H$97:H120,I$97),0)&\"\"","v":""},{"$f":"OFFSET(I120,COUNTIF(I$97:I120,J$97),0)&\"\"","v":""},{"$f":"OFFSET(J120,COUNTIF(J$97:J120,K$97),0)&\"\"","v":""},{"$f":"OFFSET(K120,COUNTIF(K$97:K120,L$97),0)&\"\"","v":""}]
["UKS CHROBRY Międzyzdroje","KRELA Andrzej",821,null,24,false,"",{"$f":"OFFSET(G121,COUNTIF(G$97:G121,H$97),0)&\"\"","v":""},{"$f":"OFFSET(H121,COUNTIF(H$97:H121,I$97),0)&\"\"","v":""},{"$f":"OFFSET(I121,COUNTIF(I$97:I121,J$97),0)&\"\"","v":""},{"$f":"OFFSET(J121,COUNTIF(J$97:J121,K$97),0)&\"\"","v":""},{"$f":"OFFSET(K121,COUNTIF(K$97:K121,L$97),0)&\"\"","v":""}]
["UKS CHROBRY Międzyzdroje","KUJDA Dominik",807,null,25,false,"",{"$f":"OFFSET(G122,COUNTIF(G$97:G122,H$97),0)&\"\"","v":""},{"$f":"OFFSET(H122,COUNTIF(H$97:H122,I$97),0)&\"\"","v":""},{"$f":"OFFSET(I122,COUNTIF(I$97:I122,J$97),0)&\"\"","v":""},{"$f":"OFFSET(J122,COUNTIF(J$97:J122,K$97),0)&\"\"","v":""},{"$f":"OFFSET(K122,COUNTIF(K$97:K122,L$97),0)&\"\"","v":""}]
["UKS CHROBRY Międzyzdroje","MIKLIS Ireneusz",808,null,26,false,"",{"$f":"OFFSET(G123,COUNTIF(G$97:G123,H$97),0)&\"\"","v":""},{"$f":"OFFSET(H123,COUNTIF(H$97:H123,I$97),0)&\"\"","v":""},{"$f":"OFFSET(I123,COUNTIF(I$97:I123,J$97),0)&\"\"","v":""},{"$f":"OFFSET(J123,COUNTIF(J$97:J123,K$97),0)&\"\"","v":""},{"$f":"OFFSET(K123,COUNTIF(K$97:K123,L$97),0)&\"\"","v":""}]
["UKS CHROBRY Międzyzdroje","MUTH Grzegorz",809,null,27,false,"",{"$f":"OFFSET(G124,COUNTIF(G$97:G124,H$97),0)&\"\"","v":""},{"$f":"OFFSET(H124,COUNTIF(H$97:H124,I$97),0)&\"\"","v":""},{"$f":"OFFSET(I124,COUNTIF(I$97:I124,J$97),0)&\"\"","v":""},{"$f":"OFFSET(J124,COUNTIF(J$97:J124,K$97),0)&\"\"","v":""},{"$f":"OFFSET(K124,COUNTIF(K$97:K124,L$97),0)&\"\"","v":""}]
["UKS CHROBRY Międzyzdroje","SKŁADANEK Sylwia",793,null,28,false,"",{"$f":"OFFSET(G125,COUNTIF(G$97:G125,H$97),0)&\"\"","v":""},{"$f":"OFFSET(H125,COUNTIF(H$97:H125,I$97),0)&\"\"","v":""},{"$f":"OFFSET(I125,COUNTIF(I$97:I125,J$97),0)&\"\"","v":""},{"$f":"OFFSET(J125,COUNTIF(J$97:J125,K$97),0)&\"\"","v":""},{"$f":"OFFSET(K125,COUNTIF(K$97:K125,L$97),0)&\"\"","v":""}]
["UKS CHROBRY Międzyzdroje","SOBIERAJSKI Kacper ",823,null,29,false,"",{"$f":"OFFSET(G126,COUNTIF(G$97:G126,H$97),0)&\"\"","v":""},{"$f":"OFFSET(H126,COUNTIF(H$97:H126,I$97),0)&\"\"","v":""},{"$f":"OFFSET(I126,COUNTIF(I$97:I126,J$97),0)&\"\"","v":""},{"$f":"OFFSET(J126,COUNTIF(J$97:J126,K$97),0)&\"\"","v":""},{"$f":"OFFSET(K126,COUNTIF(K$97:K126,L$97),0)&\"\"","v":""}]
["UKS CHROBRY Międzyzdroje","SOŁTYSIAK Piotr",822,null,30,false,"",{"$f":"OFFSET(G127,COUNTIF(G$97:G127,H$97),0)&\"\"","v":""},{"$f":"OFFSET(H127,COUNTIF(H$97:H127,I$97),0)&\"\"","v":""},{"$f":"OFFSET(I127,COUNTIF(I$97:I127,J$97),0)&\"\"","v":""},{"$f":"OFFSET(J127,COUNTIF(J$97:J127,K$97),0)&\"\"","v":""},{"$f":"OFFSET(K127,COUNTIF(K$97:K127,L$97),0)&\"\"","v":""}]
["UKS CHROBRY Międzyzdroje","SURWIŁO Jan",5789,null,31,false,"",{"$f":"OFFSET(G128,COUNTIF(G$97:G128,H$97),0)&\"\"","v":""},{"$f":"OFFSET(H128,COUNTIF(H$97:H128,I$97),0)&\"\"","v":""},{"$f":"OFFSET(I128,COUNTIF(I$97:I128,J$97),0)&\"\"","v":""},{"$f":"OFFSET(J128,COUNTIF(J$97:J128,K$97),0)&\"\"","v":""},{"$f":"OFFSET(K128,COUNTIF(K$97:K128,L$97),0)&\"\"","v":""}]
["UKS CHROBRY Międzyzdroje","SURWIŁO Piotr",810,null,32,false,"",{"$f":"OFFSET(G129,COUNTIF(G$97:G129,H$97),0)&\"\"","v":""},{"$f":"OFFSET(H129,COUNTIF(H$97:H129,I$97),0)&\"\"","v":""},{"$f":"OFFSET(I129,COUNTIF(I$97:I129,J$97),0)&\"\"","v":""},{"$f":"OFFSET(J129,COUNTIF(J$97:J129,K$97),0)&\"\"","v":""},{"$f":"OFFSET(K129,COUNTIF(K$97:K129,L$97),0)&\"\"","v":""}]
["UKS CHROBRY Międzyzdroje","SZCZUROWSKI Artur",820,null,33,false,"",{"$f":"OFFSET(G130,COUNTIF(G$97:G130,H$97),0)&\"\"","v":""},{"$f":"OFFSET(H130,COUNTIF(H$97:H130,I$97),0)&\"\"","v":""},{"$f":"OFFSET(I130,COUNTIF(I$97:I130,J$97),0)&\"\"","v":""},{"$f":"OFFSET(J130,COUNTIF(J$97:J130,K$97),0)&\"\"","v":""},{"$f":"OFFSET(K130,COUNTIF(K$97:K130,L$97),0)&\"\"","v":""}]
["UKS CHROBRY Międzyzdroje","SZYMAŃSKA Marta",798,null,34,false,"",{"$f":"OFFSET(G131,COUNTIF(G$97:G131,H$97),0)&\"\"","v":""},{"$f":"OFFSET(H131,COUNTIF(H$97:H131,I$97),0)&\"\"","v":""},{"$f":"OFFSET(I131,COUNTIF(I$97:I131,J$97),0)&\"\"","v":""},{"$f":"OFFSET(J131,COUNTIF(J$97:J131,K$97),0)&\"\"","v":""},{"$f":"OFFSET(K131,COUNTIF(K$97:K131,L$97),0)&\"\"","v":""}]
["UKS CHROBRY Międzyzdroje","TRAUT Kryspin",826,null,35,false,"",{"$f":"OFFSET(G132,COUNTIF(G$97:G132,H$97),0)&\"\"","v":""},{"$f":"OFFSET(H132,COUNTIF(H$97:H132,I$97),0)&\"\"","v":""},{"$f":"OFFSET(I132,COUNTIF(I$97:I132,J$97),0)&\"\"","v":""},{"$f":"OFFSET(J132,COUNTIF(J$97:J132,K$97),0)&\"\"","v":""},{"$f":"OFFSET(K132,COUNTIF(K$97:K132,L$97),0)&\"\"","v":""}]
["UKS CHROBRY Międzyzdroje","WANDACHOWICZ Adam",811,null,36,false,"",{"$f":"OFFSET(G133,COUNTIF(G$97:G133,H$97),0)&\"\"","v":""},{"$f":"OFFSET(H133,COUNTIF(H$97:H133,I$97),0)&\"\"","v":""},{"$f":"OFFSET(I133,COUNTIF(I$97:I133,J$97),0)&\"\"","v":""},{"$f":"OFFSET(J133,COUNTIF(J$97:J133,K$97),0)&\"\"","v":""},{"$f":"OFFSET(K133,COUNTIF(K$97:K133,L$97),0)&\"\"","v":""}]
["UKS CHROBRY Międzyzdroje","WANDACHOWICZ Michał",812,null,37,false,"",{"$f":"OFFSET(G134,COUNTIF(G$97:G134,H$97),0)&\"\"","v":""},{"$f":"OFFSET(H134,COUNTIF(H$97:H134,I$97),0)&\"\"","v":""},{"$f":"OFFSET(I134,COUNTIF(I$97:I134,J$97),0)&\"\"","v":""},{"$f":"OFFSET(J134,COUNTIF(J$97:J134,K$97),0)&\"\"","v":""},{"$f":"OFFSET(K134,COUNTIF(K$97:K134,L$97),0)&\"\"","v":""}]
["UKS CHROBRY Międzyzdroje","WANDACHOWICZ Sylwia",794,null,38,false,"",{"$f":"OFFSET(G135,COUNTIF(G$97:G135,H$97),0)&\"\"","v":""},{"$f":"OFFSET(H135,COUNTIF(H$97:H135,I$97),0)&\"\"","v":""},{"$f":"OFFSET(I135,COUNTIF(I$97:I135,J$97),0)&\"\"","v":""},{"$f":"OFFSET(J135,COUNTIF(J$97:J135,K$97),0)&\"\"","v":""},{"$f":"OFFSET(K135,COUNTIF(K$97:K135,L$97),0)&\"\"","v":""}]
["UKS CHROBRY Międzyzdroje","WILCZEK Joanna",813,null,39,false,"",{"$f":"OFFSET(G136,COUNTIF(G$97:G136,H$97),0)&\"\"","v":""},{"$f":"OFFSET(H136,COUNTIF(H$97:H136,I$97),0)&\"\"","v":""},{"$f":"OFFSET(I136,COUNTIF(I$97:I136,J$97),0)&\"\"","v":""},{"$f":"OFFSET(J136,COUNTIF(J$97:J136,K$97),0)&\"\"","v":""},{"$f":"OFFSET(K136,COUNTIF(K$97:K136,L$97),0)&\"\"","v":""}]
["UKS CHROBRY Międzyzdroje","WIŚNIEWSKI Dariusz",814,null,40,false,{"$f":"IF(G86=0,\"\",G86)","v":""},{"$f":"OFFSET(G137,COUNTIF(G$97:G137,H$97),0)&\"\"","v":""},{"$f":"OFFSET(H137,COUNTIF(H$97:H137,I$97),0)&\"\"","v":""},{"$f":"OFFSET(I137,COUNTIF(I$97:I137,J$97),0)&\"\"","v":""},{"$f":"OFFSET(J137,COUNTIF(J$97:J137,K$97),0)&\"\"","v":""},{"$f":"OFFSET(K137,COUNTIF(K$97:K137,L$97),0)&\"\"","v":""}]
["UKS CHROBRY Międzyzdroje","WITKOWSKA Wioleta",795,null,41,false,"",{"$f":"OFFSET(G138,COUNTIF(G$97:G138,H$97),0)&\"\"","v":""},{"$f":"OFFSET(H138,COUNTIF(H$97:H138,I$97),0)&\"\"","v":""},{"$f":"OFFSET(I138,COUNTIF(I$97:I138,J$97),0)&\"\"","v":""},{"$f":"OFFSET(J138,COUNTIF(J$97:J138,K$97),0)&\"\"","v":""},{"$f":"OFFSET(K138,COUNTIF(K$97:K138,L$97),0)&\"\"","v":""}]
[null,null,null,null,42,null,null,{"$f":"OFFSET(G139,COUNTIF(G$97:G139,H$97),0)&\"\"","v":""},{"$f":"OFFSET(H139,COUNTIF(H$97:H139,I$97),0)&\"\"","v":""},{"$f":"OFFSET(I139,COUNTIF(I$97:I139,J$97),0)&\"\"","v":""},{"$f":"OFFSET(J139,COUNTIF(J$97:J139,K$97),0)&\"\"","v":""},{"$f":"OFFSET(K139,COUNTIF(K$97:K139,L$97),0)&\"\"","v":""}]
[]
["UKS CHROBRY Międzyzdroje","WITKOWSKI Waldemar",815,null,null,null,null,{"$f":"VLOOKUP(Protokół!AO13,'kluby i zawodnicy'!G142:G183,1,0)","v":{"$error":"#N/A"}},{"$f":"VLOOKUP(Protokół!$AO$14,'kluby i zawodnicy'!H142:H182,1,0)","v":{"$error":"#N/A"}},{"$f":"VLOOKUP(Protokół!$AO$15,'kluby i zawodnicy'!I142:I181,1,0)","v":{"$error":"#N/A"}},{"$f":"VLOOKUP(Protokół!$AO$16,'kluby i zawodnicy'!J142:J181,1,0)","v":{"$error":"#N/A"}},{"$f":"VLOOKUP(Protokół!$AO$17,'kluby i zawodnicy'!K142:K181,1,0)","v":{"$error":"#N/A"}},{"$f":"VLOOKUP(Protokół!$AO$18,'kluby i zawodnicy'!L142:L181,1,0)","v":{"$error":"#N/A"}}]
["UKS CHROBRY Międzyzdroje","WITKOWSKI Zdzisław",816,null,1,null,{"$f":"IF(L47=0,\"\",L47)","v":"Dębal Dariusz"},{"$f":"OFFSET(G142,COUNTIF(G$141:G142,H$141),0)&\"\"","v":"Dębal Dariusz"},{"$f":"OFFSET(H142,COUNTIF(H$141:H142,I$141),0)&\"\"","v":"Iwanów Marcin"},{"$f":"OFFSET(I142,COUNTIF(I$141:I142,J$141),0)&\"\"","v":"Kruszyna Artur"},{"$f":"OFFSET(J142,COUNTIF(J$141:J142,K$141),0)&\"\"","v":"Rybarczyk Bronisław"},{"$f":"OFFSET(K142,COUNTIF(K$141:K142,L$141),0)&\"\"","v":"Skuza Paweł"},{"$f":"OFFSET(L142,COUNTIF(L$141:L142,M$141),0)&\"\"","v":"Wawrzycki Kamil"}]
["UKS CHROBRY Międzyzdroje","WOLNY Mateusz",817,null,2,null,"Iwanów Marcin",{"$f":"OFFSET(G143,COUNTIF(G$141:G143,H$141),0)&\"\"","v":"Iwanów Marcin"},{"$f":"OFFSET(H143,COUNTIF(H$141:H143,I$141),0)&\"\"","v":"Kruszyna Artur"},{"$f":"OFFSET(I143,COUNTIF(I$141:I143,J$141),0)&\"\"","v":"Rybarczyk Bronisław"},{"$f":"OFFSET(J143,COUNTIF(J$141:J143,K$141),0)&\"\"","v":"Skuza Paweł"},{"$f":"OFFSET(K143,COUNTIF(K$141:K143,L$141),0)&\"\"","v":"Wawrzycki Kamil"},{"$f":"OFFSET(L143,COUNTIF(L$141:L143,M$141),0)&\"\"","v":"Wierzbicki Krzysztof"}]
["UKS CHROBRY Międzyzdroje","WOŹNIAK Adam",818,null,3,null,"Kruszyna Artur",{"$f":"OFFSET(G144,COUNTIF(G$141:G144,H$141),0)&\"\"","v":"Kruszyna Artur"},{"$f":"OFFSET(H144,COUNTIF(H$141:H144,I$141),0)&\"\"","v":"Rybarczyk Bronisław"},{"$f":"OFFSET(I144,COUNTIF(I$141:I144,J$141),0)&\"\"","v":"Skuza Paweł"},{"$f":"OFFSET(J144,COUNTIF(J$141:J144,K$141),0)&\"\"","v":"Wawrzycki Kamil"},{"$f":"OFFSET(K144,COUNTIF(K$141:K144,L$141),0)&\"\"","v":"Wierzbicki Krzysztof"},{"$f":"OFFSET(L144,COUNTIF(L$141:L144,M$141),0)&\"\"","v":"Wyrzykowski Morjan"}]
["UKS CHROBRY Międzyzdroje","ZIELIŃSKA Anna Monika",792,null,4,null,"Rybarczyk Bronisław",{"$f":"OFFSET(G145,COUNTIF(G$141:G145,H$141),0)&\"\"","v":"Rybarczyk Bronisław"},{"$f":"OFFSET(H145,COUNTIF(H$141:H145,I$141),0)&\"\"","v":"Skuza Paweł"},{"$f":"OFFSET(I145,COUNTIF(I$141:I145,J$141),0)&\"\"","v":"Wawrzycki Kamil"},{"$f":"OFFSET(J145,COUNTIF(J$141:J145,K$141),0)&\"\"","v":"Wierzbicki Krzysztof"},{"$f":"OFFSET(K145,COUNTIF(K$141:K145,L$141),0)&\"\"","v":"Wyrzykowski Morjan"},{"$f":"OFFSET(L145,COUNTIF(L$141:L145,M$141),0)&\"\"","v":""}]
["UKS CHROBRY Międzyzdroje","ZYGAN Weronika",819,null,5,null,"Skuza Paweł",{"$f":"OFFSET(G146,COUNTIF(G$141:G146,H$141),0)&\"\"","v":"Skuza Paweł"},{"$f":"OFFSET(H146,COUNTIF(H$141:H146,I$141),0)&\"\"","v":"Wawrzycki Kamil"},{"$f":"OFFSET(I146,COUNTIF(I$141:I146,J$141),0)&\"\"","v":"Wierzbicki Krzysztof"},{"$f":"OFFSET(J146,COUNTIF(J$141:J146,K$141),0)&\"\"","v":"Wyrzykowski Morjan"},{"$f":"OFFSET(K146,COUNTIF(K$141:K146,L$141),0)&\"\"","v":""},{"$f":"OFFSET(L146,COUNTIF(L$141:L146,M$141),0)&\"\"","v":""}]
["UKS TEAM TENIS 2005 Białogard","ANDRYSIAK Natalia",3110,null,6,null,"Wawrzycki Kamil",{"$f":"OFFSET(G147,COUNTIF(G$141:G147,H$141),0)&\"\"","v":"Wawrzycki Kamil"},{"$f":"OFFSET(H147,COUNTIF(H$141:H147,I$141),0)&\"\"","v":"Wierzbicki Krzysztof"},{"$f":"OFFSET(I147,COUNTIF(I$141:I147,J$141),0)&\"\"","v":"Wyrzykowski Morjan"},{"$f":"OFFSET(J147,COUNTIF(J$141:J147,K$141),0)&\"\"","v":""},{"$f":"OFFSET(K147,COUNTIF(K$141:K147,L$141),0)&\"\"","v":""},{"$f":"OFFSET(L147,COUNTIF(L$141:L147,M$141),0)&\"\"","v":""}]
["UKS TEAM TENIS 2005 Białogard","DZIDA Henryk",3105,null,7,null,"Wierzbicki Krzysztof",{"$f":"OFFSET(G148,COUNTIF(G$141:G148,H$141),0)&\"\"","v":"Wierzbicki Krzysztof"},{"$f":"OFFSET(H148,COUNTIF(H$141:H148,I$141),0)&\"\"","v":"Wyrzykowski Morjan"},{"$f":"OFFSET(I148,COUNTIF(I$141:I148,J$141),0)&\"\"","v":""},{"$f":"OFFSET(J148,COUNTIF(J$141:J148,K$141),0)&\"\"","v":""},{"$f":"OFFSET(K148,COUNTIF(K$141:K148,L$141),0)&\"\"","v":""},{"$f":"OFFSET(L148,COUNTIF(L$141:L148,M$141),0)&\"\"","v":""}]
["UKS TEAM TENIS 2005 Białogard","DZIDA Karol",3106,null,8,null,"Wyrzykowski Morjan",{"$f":"OFFSET(G149,COUNTIF(G$141:G149,H$141),0)&\"\"","v":"Wyrzykowski Morjan"},{"$f":"OFFSET(H149,COUNTIF(H$141:H149,I$141),0)&\"\"","v":""},{"$f":"OFFSET(I149,COUNTIF(I$141:I149,J$141),0)&\"\"","v":""},{"$f":"OFFSET(J149,COUNTIF(J$141:J149,K$141),0)&\"\"","v":""},{"$f":"OFFSET(K149,COUNTIF(K$141:K149,L$141),0)&\"\"","v":""},{"$f":"OFFSET(L149,COUNTIF(L$141:L149,M$141),0)&\"\"","v":""}]
["UKS TEAM TENIS 2005 Białogard","KLOTZ Witold",3102,null,9,null,"",{"$f":"OFFSET(G150,COUNTIF(G$141:G150,H$141),0)&\"\"","v":""},{"$f":"OFFSET(H150,COUNTIF(H$141:H150,I$141),0)&\"\"","v":""},{"$f":"OFFSET(I150,COUNTIF(I$141:I150,J$141),0)&\"\"","v":""},{"$f":"OFFSET(J150,COUNTIF(J$141:J150,K$141),0)&\"\"","v":""},{"$f":"OFFSET(K150,COUNTIF(K$141:K150,L$141),0)&\"\"","v":""},{"$f":"OFFSET(L150,COUNTIF(L$141:L150,M$141),0)&\"\"","v":""}]
["UKS TEAM TENIS 2005 Białogard","LIGOCKI Paweł",3109,null,10,null,"",{"$f":"OFFSET(G151,COUNTIF(G$141:G151,H$141),0)&\"\"","v":""},{"$f":"OFFSET(H151,COUNTIF(H$141:H151,I$141),0)&\"\"","v":""},{"$f":"OFFSET(I151,COUNTIF(I$141:I151,J$141),0)&\"\"","v":""},{"$f":"OFFSET(J151,COUNTIF(J$141:J151,K$141),0)&\"\"","v":""},{"$f":"OFFSET(K151,COUNTIF(K$141:K151,L$141),0)&\"\"","v":""},{"$f":"OFFSET(L151,COUNTIF(L$141:L151,M$141),0)&\"\"","v":""}]
["UKS TEAM TENIS 2005 Białogard","PŁUCIENNIK Edward",3104,null,11,null,"",{"$f":"OFFSET(G152,COUNTIF(G$141:G152,H$141),0)&\"\"","v":""},{"$f":"OFFSET(H152,COUNTIF(H$141:H152,I$141),0)&\"\"","v":""},{"$f":"OFFSET(I152,COUNTIF(I$141:I152,J$141),0)&\"\"","v":""},{"$f":"OFFSET(J152,COUNTIF(J$141:J152,K$141),0)&\"\"","v":""},{"$f":"OFFSET(K152,COUNTIF(K$141:K152,L$141),0)&\"\"","v":""},{"$f":"OFFSET(L152,COUNTIF(L$141:L152,M$141),0)&\"\"","v":""}]
["UKS TEAM TENIS 2005 Białogard","WIERZBICKI Radosław",3108,null,12,null,"",{"$f":"OFFSET(G153,COUNTIF(G$141:G153,H$141),0)&\"\"","v":""},{"$f":"OFFSET(H153,COUNTIF(H$141:H153,I$141),0)&\"\"","v":""},{"$f":"OFFSET(I153,COUNTIF(I$141:I153,J$141),0)&\"\"","v":""},{"$f":"OFFSET(J153,COUNTIF(J$141:J153,K$141),0)&\"\"","v":""},{"$f":"OFFSET(K153,COUNTIF(K$141:K153,L$141),0)&\"\"","v":""},{"$f":"OFFSET(L153,COUNTIF(L$141:L153,M$141),0)&\"\"","v":""}]
["UKS TEAM TENIS 2005 Białogard","WIERZBICKI Tomasz",3107,null,13,null,"",{"$f":"OFFSET(G154,COUNTIF(G$141:G154,H$141),0)&\"\"","v":""},{"$f":"OFFSET(H154,COUNTIF(H$141:H154,I$141),0)&\"\"","v":""},{"$f":"OFFSET(I154,COUNTIF(I$141:I154,J$141),0)&\"\"","v":""},{"$f":"OFFSET(J154,COUNTIF(J$141:J154,K$141),0)&\"\"","v":""},{"$f":"OFFSET(K154,COUNTIF(K$141:K154,L$141),0)&\"\"","v":""},{"$f":"OFFSET(L154,COUNTIF(L$141:L154,M$141),0)&\"\"","v":""}]
["UKS TEAM TENIS 2005 Białogard","WITKOWSKI Andrzej",3103,null,14,null,"",{"$f":"OFFSET(G155,COUNTIF(G$141:G155,H$141),0)&\"\"","v":""},{"$f":"OFFSET(H155,COUNTIF(H$141:H155,I$141),0)&\"\"","v":""},{"$f":"OFFSET(I155,COUNTIF(I$141:I155,J$141),0)&\"\"","v":""},{"$f":"OFFSET(J155,COUNTIF(J$141:J155,K$141),0)&\"\"","v":""},{"$f":"OFFSET(K155,COUNTIF(K$141:K155,L$141),0)&\"\"","v":""},{"$f":"OFFSET(L155,COUNTIF(L$141:L155,M$141),0)&\"\"","v":""}]
["UKS TRAPER Złocieniec","BORKOWSKI Rafał",2833,null,15,null,"",{"$f":"OFFSET(G156,COUNTIF(G$141:G156,H$141),0)&\"\"","v":""},{"$f":"OFFSET(H156,COUNTIF(H$141:H156,I$141),0)&\"\"","v":""},{"$f":"OFFSET(I156,COUNTIF(I$141:I156,J$141),0)&\"\"","v":""},{"$f":"OFFSET(J156,COUNTIF(J$141:J156,K$141),0)&\"\"","v":""},{"$f":"OFFSET(K156,COUNTIF(K$141:K156,L$141),0)&\"\"","v":""},{"$f":"OFFSET(L156,COUNTIF(L$141:L156,M$141),0)&\"\"","v":""}]
["UKS TRAPER Złocieniec","KOCOŃ Gabriel",2832,null,16,null,"",{"$f":"OFFSET(G157,COUNTIF(G$141:G157,H$141),0)&\"\"","v":""},{"$f":"OFFSET(H157,COUNTIF(H$141:H157,I$141),0)&\"\"","v":""},{"$f":"OFFSET(I157,COUNTIF(I$141:I157,J$141),0)&\"\"","v":""},{"$f":"OFFSET(J157,COUNTIF(J$141:J157,K$141),0)&\"\"","v":""},{"$f":"OFFSET(K157,COUNTIF(K$141:K157,L$141),0)&\"\"","v":""},{"$f":"OFFSET(L157,COUNTIF(L$141:L157,M$141),0)&\"\"","v":""}]
["UKS TRAPER Złocieniec","KOCOŃ Natalia",2831,null,17,null,"",{"$f":"OFFSET(G158,COUNTIF(G$141:G158,H$141),0)&\"\"","v":""},{"$f":"OFFSET(H158,COUNTIF(H$141:H158,I$141),0)&\"\"","v":""},{"$f":"OFFSET(I158,COUNTIF(I$141:I158,J$141),0)&\"\"","v":""},{"$f":"OFFSET(J158,COUNTIF(J$141:J158,K$141),0)&\"\"","v":""},{"$f":"OFFSET(K158,COUNTIF(K$141:K158,L$141),0)&\"\"","v":""},{"$f":"OFFSET(L158,COUNTIF(L$141:L158,M$141),0)&\"\"","v":""}]
["UKS TRAPER Złocieniec","KOZŁOWSKI Tomasz",2834,null,18,null,"",{"$f":"OFFSET(G159,COUNTIF(G$141:G159,H$141),0)&\"\"","v":""},{"$f":"OFFSET(H159,COUNTIF(H$141:H159,I$141),0)&\"\"","v":""},{"$f":"OFFSET(I159,COUNTIF(I$141:I159,J$141),0)&\"\"","v":""},{"$f":"OFFSET(J159,COUNTIF(J$141:J159,K$141),0)&\"\"","v":""},{"$f":"OFFSET(K159,COUNTIF(K$141:K159,L$141),0)&\"\"","v":""},{"$f":"OFFSET(L159,COUNTIF(L$141:L159,M$141),0)&\"\"","v":""}]
["UKS TRAPER Złocieniec","KRYSIAK Przemysław",2845,null,19,null,"",{"$f":"OFFSET(G160,COUNTIF(G$141:G160,H$141),0)&\"\"","v":""},{"$f":"OFFSET(H160,COUNTIF(H$141:H160,I$141),0)&\"\"","v":""},{"$f":"OFFSET(I160,COUNTIF(I$141:I160,J$141),0)&\"\"","v":""},{"$f":"OFFSET(J160,COUNTIF(J$141:J160,K$141),0)&\"\"","v":""},{"$f":"OFFSET(K160,COUNTIF(K$141:K160,L$141),0)&\"\"","v":""},{"$f":"OFFSET(L160,COUNTIF(L$141:L160,M$141),0)&\"\"","v":""}]
["UKS TRAPER Złocieniec","PRZYWARTY Patryk",2830,null,20,null,"",{"$f":"OFFSET(G161,COUNTIF(G$141:G161,H$141),0)&\"\"","v":""},{"$f":"OFFSET(H161,COUNTIF(H$141:H161,I$141),0)&\"\"","v":""},{"$f":"OFFSET(I161,COUNTIF(I$141:I161,J$141),0)&\"\"","v":""},{"$f":"OFFSET(J161,COUNTIF(J$141:J161,K$141),0)&\"\"","v":""},{"$f":"OFFSET(K161,COUNTIF(K$141:K161,L$141),0)&\"\"","v":""},{"$f":"OFFSET(L161,COUNTIF(L$141:L161,M$141),0)&\"\"","v":""}]
["UKS TRAPER Złocieniec","SZCZEPAŃSKA Marta",2835,null,21,null,"",{"$f":"OFFSET(G162,COUNTIF(G$141:G162,H$141),0)&\"\"","v":""},{"$f":"OFFSET(H162,COUNTIF(H$141:H162,I$141),0)&\"\"","v":""},{"$f":"OFFSET(I162,COUNTIF(I$141:I162,J$141),0)&\"\"","v":""},{"$f":"OFFSET(J162,COUNTIF(J$141:J162,K$141),0)&\"\"","v":""},{"$f":"OFFSET(K162,COUNTIF(K$141:K162,L$141),0)&\"\"","v":""},{"$f":"OFFSET(L162,COUNTIF(L$141:L162,M$141),0)&\"\"","v":""}]
["UKS TRAPER Złocieniec","TWAROGOWSKI Stefan",2844,null,22,null,"",{"$f":"OFFSET(G163,COUNTIF(G$141:G163,H$141),0)&\"\"","v":""},{"$f":"OFFSET(H163,COUNTIF(H$141:H163,I$141),0)&\"\"","v":""},{"$f":"OFFSET(I163,COUNTIF(I$141:I163,J$141),0)&\"\"","v":""},{"$f":"OFFSET(J163,COUNTIF(J$141:J163,K$141),0)&\"\"","v":""},{"$f":"OFFSET(K163,COUNTIF(K$141:K163,L$141),0)&\"\"","v":""},{"$f":"OFFSET(L163,COUNTIF(L$141:L163,M$141),0)&\"\"","v":""}]
[null,null,null,null,23,null,"",{"$f":"OFFSET(G164,COUNTIF(G$141:G164,H$141),0)&\"\"","v":""},{"$f":"OFFSET(H164,COUNTIF(H$141:H164,I$141),0)&\"\"","v":""},{"$f":"OFFSET(I164,COUNTIF(I$141:I164,J$141),0)&\"\"","v":""},{"$f":"OFFSET(J164,COUNTIF(J$141:J164,K$141),0)&\"\"","v":""},{"$f":"OFFSET(K164,COUNTIF(K$141:K164,L$141),0)&\"\"","v":""},{"$f":"OFFSET(L164,COUNTIF(L$141:L164,M$141),0)&\"\"","v":""}]
[null,null,null,null,24,null,"",{"$f":"OFFSET(G165,COUNTIF(G$141:G165,H$141),0)&\"\"","v":""},{"$f":"OFFSET(H165,COUNTIF(H$141:H165,I$141),0)&\"\"","v":""},{"$f":"OFFSET(I165,COUNTIF(I$141:I165,J$141),0)&\"\"","v":""},{"$f":"OFFSET(J165,COUNTIF(J$141:J165,K$141),0)&\"\"","v":""},{"$f":"OFFSET(K165,COUNTIF(K$141:K165,L$141),0)&\"\"","v":""},{"$f":"OFFSET(L165,COUNTIF(L$141:L165,M$141),0)&\"\"","v":""}]
[null,null,null,null,25,null,"",{"$f":"OFFSET(G166,COUNTIF(G$141:G166,H$141),0)&\"\"","v":""},{"$f":"OFFSET(H166,COUNTIF(H$141:H166,I$141),0)&\"\"","v":""},{"$f":"OFFSET(I166,COUNTIF(I$141:I166,J$141),0)&\"\"","v":""},{"$f":"OFFSET(J166,COUNTIF(J$141:J166,K$141),0)&\"\"","v":""},{"$f":"OFFSET(K166,COUNTIF(K$141:K166,L$141),0)&\"\"","v":""},{"$f":"OFFSET(L166,COUNTIF(L$141:L166,M$141),0)&\"\"","v":""}]
[null,null,null,null,26,null,"",{"$f":"OFFSET(G167,COUNTIF(G$141:G167,H$141),0)&\"\"","v":""},{"$f":"OFFSET(H167,COUNTIF(H$141:H167,I$141),0)&\"\"","v":""},{"$f":"OFFSET(I167,COUNTIF(I$141:I167,J$141),0)&\"\"","v":""},{"$f":"OFFSET(J167,COUNTIF(J$141:J167,K$141),0)&\"\"","v":""},{"$f":"OFFSET(K167,COUNTIF(K$141:K167,L$141),0)&\"\"","v":""},{"$f":"OFFSET(L167,COUNTIF(L$141:L167,M$141),0)&\"\"","v":""}]
[null,null,null,null,27,null,"",{"$f":"OFFSET(G168,COUNTIF(G$141:G168,H$141),0)&\"\"","v":""},{"$f":"OFFSET(H168,COUNTIF(H$141:H168,I$141),0)&\"\"","v":""},{"$f":"OFFSET(I168,COUNTIF(I$141:I168,J$141),0)&\"\"","v":""},{"$f":"OFFSET(J168,COUNTIF(J$141:J168,K$141),0)&\"\"","v":""},{"$f":"OFFSET(K168,COUNTIF(K$141:K168,L$141),0)&\"\"","v":""},{"$f":"OFFSET(L168,COUNTIF(L$141:L168,M$141),0)&\"\"","v":""}]
[null,null,null,null,28,null,"",{"$f":"OFFSET(G169,COUNTIF(G$141:G169,H$141),0)&\"\"","v":""},{"$f":"OFFSET(H169,COUNTIF(H$141:H169,I$141),0)&\"\"","v":""},{"$f":"OFFSET(I169,COUNTIF(I$141:I169,J$141),0)&\"\"","v":""},{"$f":"OFFSET(J169,COUNTIF(J$141:J169,K$141),0)&\"\"","v":""},{"$f":"OFFSET(K169,COUNTIF(K$141:K169,L$141),0)&\"\"","v":""},{"$f":"OFFSET(L169,COUNTIF(L$141:L169,M$141),0)&\"\"","v":""}]
[null,null,null,null,29,null,"",{"$f":"OFFSET(G170,COUNTIF(G$141:G170,H$141),0)&\"\"","v":""},{"$f":"OFFSET(H170,COUNTIF(H$141:H170,I$141),0)&\"\"","v":""},{"$f":"OFFSET(I170,COUNTIF(I$141:I170,J$141),0)&\"\"","v":""},{"$f":"OFFSET(J170,COUNTIF(J$141:J170,K$141),0)&\"\"","v":""},{"$f":"OFFSET(K170,COUNTIF(K$141:K170,L$141),0)&\"\"","v":""},{"$f":"OFFSET(L170,COUNTIF(L$141:L170,M$141),0)&\"\"","v":""}]
[null,null,null,null,30,null,"",{"$f":"OFFSET(G171,COUNTIF(G$141:G171,H$141),0)&\"\"","v":""},{"$f":"OFFSET(H171,COUNTIF(H$141:H171,I$141),0)&\"\"","v":""},{"$f":"OFFSET(I171,COUNTIF(I$141:I171,J$141),0)&\"\"","v":""},{"$f":"OFFSET(J171,COUNTIF(J$141:J171,K$141),0)&\"\"","v":""},{"$f":"OFFSET(K171,COUNTIF(K$141:K171,L$141),0)&\"\"","v":""},{"$f":"OFFSET(L171,COUNTIF(L$141:L171,M$141),0)&\"\"","v":""}]
[null,null,null,null,31,null,"",{"$f":"OFFSET(G172,COUNTIF(G$141:G172,H$141),0)&\"\"","v":""},{"$f":"OFFSET(H172,COUNTIF(H$141:H172,I$141),0)&\"\"","v":""},{"$f":"OFFSET(I172,COUNTIF(I$141:I172,J$141),0)&\"\"","v":""},{"$f":"OFFSET(J172,COUNTIF(J$141:J172,K$141),0)&\"\"","v":""},{"$f":"OFFSET(K172,COUNTIF(K$141:K172,L$141),0)&\"\"","v":""},{"$f":"OFFSET(L172,COUNTIF(L$141:L172,M$141),0)&\"\"","v":""}]
[null,null,null,null,32,null,"",{"$f":"OFFSET(G173,COUNTIF(G$141:G173,H$141),0)&\"\"","v":""},{"$f":"OFFSET(H173,COUNTIF(H$141:H173,I$141),0)&\"\"","v":""},{"$f":"OFFSET(I173,COUNTIF(I$141:I173,J$141),0)&\"\"","v":""},{"$f":"OFFSET(J173,COUNTIF(J$141:J173,K$141),0)&\"\"","v":""},{"$f":"OFFSET(K173,COUNTIF(K$141:K173,L$141),0)&\"\"","v":""},{"$f":"OFFSET(L173,COUNTIF(L$141:L173,M$141),0)&\"\"","v":""}]
[null,null,null,null,33,null,"",{"$f":"OFFSET(G174,COUNTIF(G$141:G174,H$141),0)&\"\"","v":""},{"$f":"OFFSET(H174,COUNTIF(H$141:H174,I$141),0)&\"\"","v":""},{"$f":"OFFSET(I174,COUNTIF(I$141:I174,J$141),0)&\"\"","v":""},{"$f":"OFFSET(J174,COUNTIF(J$141:J174,K$141),0)&\"\"","v":""},{"$f":"OFFSET(K174,COUNTIF(K$141:K174,L$141),0)&\"\"","v":""},{"$f":"OFFSET(L174,COUNTIF(L$141:L174,M$141),0)&\"\"","v":""}]
[null,null,null,null,34,null,"",{"$f":"OFFSET(G175,COUNTIF(G$141:G175,H$141),0)&\"\"","v":""},{"$f":"OFFSET(H175,COUNTIF(H$141:H175,I$141),0)&\"\"","v":""},{"$f":"OFFSET(I175,COUNTIF(I$141:I175,J$141),0)&\"\"","v":""},{"$f":"OFFSET(J175,COUNTIF(J$141:J175,K$141),0)&\"\"","v":""},{"$f":"OFFSET(K175,COUNTIF(K$141:K175,L$141),0)&\"\"","v":""},{"$f":"OFFSET(L175,COUNTIF(L$141:L175,M$141),0)&\"\"","v":""}]
[null,null,null,null,35,null,"",{"$f":"OFFSET(G176,COUNTIF(G$141:G176,H$141),0)&\"\"","v":""},{"$f":"OFFSET(H176,COUNTIF(H$141:H176,I$141),0)&\"\"","v":""},{"$f":"OFFSET(I176,COUNTIF(I$141:I176,J$141),0)&\"\"","v":""},{"$f":"OFFSET(J176,COUNTIF(J$141:J176,K$141),0)&\"\"","v":""},{"$f":"OFFSET(K176,COUNTIF(K$141:K176,L$141),0)&\"\"","v":""},{"$f":"OFFSET(L176,COUNTIF(L$141:L176,M$141),0)&\"\"","v":""}]
[null,null,null,null,36,null,"",{"$f":"OFFSET(G177,COUNTIF(G$141:G177,H$141),0)&\"\"","v":""},{"$f":"OFFSET(H177,COUNTIF(H$141:H177,I$141),0)&\"\"","v":""},{"$f":"OFFSET(I177,COUNTIF(I$141:I177,J$141),0)&\"\"","v":""},{"$f":"OFFSET(J177,COUNTIF(J$141:J177,K$141),0)&\"\"","v":""},{"$f":"OFFSET(K177,COUNTIF(K$141:K177,L$141),0)&\"\"","v":""},{"$f":"OFFSET(L177,COUNTIF(L$141:L177,M$141),0)&\"\"","v":""}]
[null,null,null,null,37,null,"",{"$f":"OFFSET(G178,COUNTIF(G$141:G178,H$141),0)&\"\"","v":""},{"$f":"OFFSET(H178,COUNTIF(H$141:H178,I$141),0)&\"\"","v":""},{"$f":"OFFSET(I178,COUNTIF(I$141:I178,J$141),0)&\"\"","v":""},{"$f":"OFFSET(J178,COUNTIF(J$141:J178,K$141),0)&\"\"","v":""},{"$f":"OFFSET(K178,COUNTIF(K$141:K178,L$141),0)&\"\"","v":""},{"$f":"OFFSET(L178,COUNTIF(L$141:L178,M$141),0)&\"\"","v":""}]
[null,null,null,null,38,null,"",{"$f":"OFFSET(G179,COUNTIF(G$141:G179,H$141),0)&\"\"","v":""},{"$f":"OFFSET(H179,COUNTIF(H$141:H179,I$141),0)&\"\"","v":""},{"$f":"OFFSET(I179,COUNTIF(I$141:I179,J$141),0)&\"\"","v":""},{"$f":"OFFSET(J179,COUNTIF(J$141:J179,K$141),0)&\"\"","v":""},{"$f":"OFFSET(K179,COUNTIF(K$141:K179,L$141),0)&\"\"","v":""},{"$f":"OFFSET(L179,COUNTIF(L$141:L179,M$141),0)&\"\"","v":""}]
[null,null,null,null,39,null,"",{"$f":"OFFSET(G180,COUNTIF(G$141:G180,H$141),0)&\"\"","v":""},{"$f":"OFFSET(H180,COUNTIF(H$141:H180,I$141),0)&\"\"","v":""},{"$f":"OFFSET(I180,COUNTIF(I$141:I180,J$141),0)&\"\"","v":""},{"$f":"OFFSET(J180,COUNTIF(J$141:J180,K$141),0)&\"\"","v":""},{"$f":"OFFSET(K180,COUNTIF(K$141:K180,L$141),0)&\"\"","v":""},{"$f":"OFFSET(L180,COUNTIF(L$141:L180,M$141),0)&\"\"","v":""}]
[null,null,null,null,40,null,"",{"$f":"OFFSET(G181,COUNTIF(G$141:G181,H$141),0)&\"\"","v":""},{"$f":"OFFSET(H181,COUNTIF(H$141:H181,I$141),0)&\"\"","v":""},{"$f":"OFFSET(I181,COUNTIF(I$141:I181,J$141),0)&\"\"","v":""},{"$f":"OFFSET(J181,COUNTIF(J$141:J181,K$141),0)&\"\"","v":""},{"$f":"OFFSET(K181,COUNTIF(K$141:K181,L$141),0)&\"\"","v":""},{"$f":"OFFSET(L181,COUNTIF(L$141:L181,M$141),0)&\"\"","v":""}]
[null,null,null,null,41,null,"",{"$f":"OFFSET(G182,COUNTIF(G$141:G182,H$141),0)&\"\"","v":""},{"$f":"OFFSET(H182,COUNTIF(H$141:H182,I$141),0)&\"\"","v":""},{"$f":"OFFSET(I182,COUNTIF(I$141:I182,J$141),0)&\"\"","v":""},{"$f":"OFFSET(J182,COUNTIF(J$141:J182,K$141),0)&\"\"","v":""},{"$f":"OFFSET(K182,COUNTIF(K$141:K182,L$141),0)&\"\"","v":""},{"$f":"OFFSET(L182,COUNTIF(L$141:L182,M$141),0)&\"\"","v":""}]
[null,null,null,null,42,null,"",{"$f":"OFFSET(G183,COUNTIF(G$141:G183,H$141),0)&\"\"","v":""},{"$f":"OFFSET(H183,COUNTIF(H$141:H183,I$141),0)&\"\"","v":""},{"$f":"OFFSET(I183,COUNTIF(I$141:I183,J$141),0)&\"\"","v":""},{"$f":"OFFSET(J183,COUNTIF(J$141:J183,K$141),0)&\"\"","v":""},{"$f":"OFFSET(K183,COUNTIF(K$141:K183,L$141),0)&\"\"","v":""},{"$f":"OFFSET(L183,COUNTIF(L$141:L183,M$141),0)&\"\"","v":""}]
[]
[]
[]
[]
[]
[]
[]
[]
[]
[]
[]
[]
[]
[]
[]
[]
[]
[]
[]
[]
[]
[]
[]
[]
[]
[]
[]
[]
[]
[]
[]
[]
[]
[]
[]
[]
[]
[]
[]
[]
[]
[]
[]
[]
[]
[]
[]
[]
[]
[]
[]
[]
[]
[]
[]
[]
[]
[]
[]
[]
[]
[]
[]
[]
[]
[]
[]
[]
[]
[]
[]
[]
[]
[]
[]
[]
[]
[]
[]
[]
[]
[]
[]
[]
[]
[]
[]
[]
[]
[]
[]
[]
[]
[]
[]
[]
[]
[]
[]
[]
[]
[]
[]
[]
[]
[]
[]
[]
[]
[]
[]
[]
[]
[]
[]
[]
[]
[]
[]
[]
[]
[]
[]
[]
[]
[]
[]
[]
[]
[]
[]
[]
[]
[]
[]
[]
[]
[]
[]
[]
[]
[]
[]
[]
[]
[]
[]
[]
[]
[]
[]
[]
[]
[]
[]
[]
[]
[]
[]
[]
[]
[]
[]
[]
[]
[]
[]
[]
[]
[]
[]
[]
[]
[]
[]
[]
[]
[]
[]
[]
[]
[]
[]
[]
[]
[]
[]
[]
[]
[]
[]
[]
[]
[]
[]
[]
[]
[]
[]
[]
[]
[]
[]
[]
[]
[]
[]
[]
[]
[]
[]
[]
[]
[]
[]
[]
[]
[]
[]
[]
[]
[]
[]
[]
[]
[]
[]
[]
[]
[]
[]
[]
[]
[]
[]
[]
[]
[]
[]
[]
[]
[]
[]
[]
[]
[]
[]
[]
[]
[]
[]
[]
[]
[]
[]
[]
[]
[]
[]
[]
[]
[]
[]
[]
[]
[]
[]
[]
[]
[]
[]
[]
[]
[]
[]
[]
[]
[]
[]
[]
[]
[]
[]
[]
[]
[]
[]
[]
[]
[]
[]
[]
[]
[]
[]
[]
[]
[]
[]
[]
[]
[]
[]
[]
[]
[]
[]
[]
[]
[]
[]
[]
[]
[]
[]
[]
[]
[]
[]
[]
[]
[]
[]
[]
[]
[]
[]
[]
[]
[]
[]
[]
[]
[]
[]
[]
[]
[]
[]
[]
[]
[]
[]
[]
[]
[]
[]
[]
[]
[]
[]
[]
[]
[]
[]
[]
[]
[]
[]
[]
[]
[]
[]
[]
[]
[]
[]
[]
[]
[]
[]
[]
[]
[]
[]
[]
[]
[]
[]
[]
[]
[]
[]
[]
[]
[]
[]
[]
[]
[]
[]
[]
[]
[]
[]
[]
[]
[]
[]
[]
[]
[]
[]
[]
[]
[]
[]
[]
[]
[]
[]
[]
[]
[]
[]
[]
[]
[]
[]
[]
[]
[]
[]
[]
[]
[]
[]
[]
[]
[]
[]
[]
[]
[]
[]
[]
[]
[]
[]
[]
[]
[]
[]
[]
[]
[]
[]
[]
[]
[]
[]
[]
[]
[]
[]
[]
[]
[]
[]
[]
[]
[]
[]
[]
[]
[]
[]
[]
[]
[]
[]
[]
[]
[]
[]
[]
[]
[]
[]
[]
[]
[]
[]
[]
[]
[]
[]
[]
[]
[]
[]
[]
[]
[]
[]
[]
[]
[]
[]
[]
[]
[]
[]
[]
[]
[]
[]
[]
[]
[]
[]
[]
[]
[]
[]
[]
[]
[]
[]
[]
[]
[]
[]
[]
[]
[]
[]
[]
[]
[]
[]
[]
[]
[]
[]
[]
[]
[]
[]
[]
[]
[]
[]
[]
[]
[]
[]
[]
[]
[]
[]
[]
[]
[]
[]
[]
[]
[]
[]
[]
[]
[]
[]
[]
[]
[]
[]
[]
[]
[]
[]
[]
[]
[]
[]
[]
[]
[]
[]
[]
[]
[]
[]
[]
[]
[]
[]
[]
[]
[]
[]
[]
[]
[]
[]
[]
[]
[]
[]
[]
[]
[]
[]
[]
[]
[]
[]
[]
[]
[]
[]
[]
[]
[]
[]
[]
[]
[]
[]
[]
[]
[]
[]
[]
[]
[]
[]
[]
[]
[]
[]
[]
[]
[]
[]
[]
[]
[]
[]
[]
[]
[]
[]
[]
[]
[]
[]
[]
[]
[]
[]
[]
[]
[]
[]
[]
[]
[]
[]
[]
[]
[]
[]
[]
[]
[]
[]
[]
[]
[]
[]
[]
[]
[]
[]
[]
[]
[]
[]
[]
[]
[]
[]
[]
[]
[]
[]
[]
[]
[]
[]
[]
[]
[]
[]
[]
[]
[]
[]
[]
[]
[]
[]
[]
[]
[]
[]
[]
[]
[]
[]
[]
[]
[]
[]
[]
[]
[]
[]
[]
[]
[]
[]
[]
[]
[]
[]
[]
[]
[]
[]
[]
[]
[]
[]
[]
[]
[]
[]
[]
[]
[]
[]
[]
[]
[]
[]
[]
[]
[]
[]
[]
[]
[]
[]
[]
[]
[]
[]
[]
[]
[]
[]
[]
[]
[]
[]
[]
[]
[]
[]
[]
[]
[]
[]
[]
[]
[]
[]
[]
[]
[]
[]
[]
[]
[]
[]
[]
[]
[]
[]
[]
[]
[]
[]
[]
[]
[]
[]
[]
[]
[]
[]
[]
[]
[]
[]
[]
[]
[]
[]
[]
[]
[]
[]
[]
[]
[]
[]
[]
[]
[]
[]
[]
[]
[]
[]
[]
[]
[]
[]
[]
[]
[]
[]
[]
[]
[]
[]
[]
[]
[]
[]
[]
[]
[]
[]
[]
[]
[]
[]
[]
[]
[]
[]
[]
[]
[]
[]
[]
[]
[]
[]
[]
[]
[]
[]
[]
[]
[]
[]
[]
[]
[]
[]
[]
[]
[]
[]
[]
[]
[]
[]
[]
[]
[]
[]
[]
[]
[]
[]
[]
[]
[]
[]
[]
[]
[]
[]
[]
[]
[]
[]
[]
[]
[]
[]
[]
[]
[]
[]
[]
[]
[]
[]
[]
[]
[]
[]
[]
[]
[]
[]
[]
[]
[]
[]
[]
[]
[]
[]
[]
[]
[]
[]
[]
[]
[]
[]
[]
[]
[]
[]
[]
[]
[]
[]
[]
[]
[]
[]
[]
[]
[]
[]
[]
[]
[]
[]
[]
[]
[]
[]
[]
[]
[]
[]
[]
[]
[]
[]
[]
[]
[]
[]
[]
[]
[]
[]
[]
[]
[]
[]
[]
[]
[]
[]
[]
[]
[]
[]
[]
[]
[]
[]
[]
[]
[]
[]
[]
[]
[]
[]
[]
[]
[]
[]
[]
[]
[]
[]
[]
[]
[]
[]
[]
[]
[]
[]
[]
[]
[]
[]
[]
[]
[]
[]
[]
[]
[]
[]
[]
[]
[]
[]
[]
[]
[]
[]
[]
[]
[]
[]
[]
[]
[]
[]
[]
[]
[]
[]
[]
[]
[]
[]
[]
[]
[]
[]
[]
[]
[]
[]
[]
[]
[]
[]
[]
[]
[]
[]
[]
[]
[]
[]
[]
[]
[]
[]
[]
[]
[]
[]
[]
[]
[]
[]
[]
[]
[]
[]
[]
[]
[]
[]
[]
[]
[]
[]
[]
[]
[]
[]
[]
[]
[]
[]
[]
[]
[]
[]
[]
[]
[]
[]
[]
[]
[]
[]
[]
[]
[]
[]
[]
[]
[]
[]
[]
[]
[]
[]
[]
[]
[]
[]
[]
[]
[]
[]
[]
[]
[]
[]
[]
[]
[]
[]
[]
[]
[]
[]
[]
[]
[]
[]
[]
[]
[]
[]
[]
[]
[]
[]
[]
[]
[]
[]
[]
[]
[]
[]
[]
[]
[]
[]
[]
[]
[]
[]
[]
[]
[]
[]
[]
[]
[]
[]
[]
[]
[]
[]
[]
[]
[]
[]
[]
[]
[]
[]
[]
[]
[]
[]
[]
[]
[]
[]
[]
[]
[]
[]
[]
[]
[]
[]
[]
[]
[]
[]
[]
[]
[]
[]
[]
[]
[]
[]
[]
[]
[]
[]
[]
[]
[]
[]
[]
[]
[]
[]
[]
[]
[]
[]
[]
[]
[]
[]
[]
[]
[]
[]
[]
[]
[]
[]
[]
[]
[]
[]
[]
[]
[]
[]
[]
[]
[]
[]
[]
[]
[]
[]
[]
[]
[]
[]
[]
[]
[]
[]
[]
[]
[]
[]
[]
[]
[]
[]
[]
[]
[]
[]
[]
[]
[]
[]
[]
[]
[]
[]
[]
[]
[]
[]
[]
[]
[]
[]
[]
[]
[]
[]
[]
[]
[]
[]
[]
[]
[]
[]
[]
[]
[]
[]
[]
[]
[]
[]
[]
[]
[]
[]
[]
[]
[]
[]
[]
[]
[]
[]
[]
[]
[]
[]
[]
[]
[]
[]
[]
[]
[]
[]
[]
[]
[]
[]
[]
[]
[]
[]
[]
[]
[]
[]
[]
[]
[]
[]
[]
[]
[]
[]
[]
[]
[]
[]
[]
[]
[]
[]
[]
[]
[]
[]
[]
[]
[]
[]
[]
[]
[]
[]
[]
[]
[]
[]
[]
[]
[]
[]
[]
[]
[]
[]
[]
[]
[]
[]
[]
[]
[]
[]
[]
[]
[]
[]
[]
[]
[]
[]
[]
[]
[]
[]
[]
[]
[]
[]
[]
[]
[]
[]
[]
[]
[]
[]
[]
[]
[]
[]
[]
[]
[]
[]
[]
[]
[]
[]
[]
[]
[]
[]
[]
[]
[]
[]
[]
[]
[]
[]
[]
[]
[]
[]
[]
[]
[]
[]
[]
[]
[]
[]
[]
[]
[]
[]
[]
[]
[]
[]
[]
[]
[]
[]
[]
[]
[]
[]
[]
[]
[]
[]
[]
[]
[]
[]
[]
[]
[]
[]
[]
[]
[]
[]
[]
[]
[]
[]
[]
[]
[]
[]
[]
[]
[]
[]
[]
[]
[]
[]
[]
[]
[]
[]
[]
[]
[]
[]
[]
[]
[]
[]
[]
[]
[]
[]
[]
[]
[]
[]
[]
[]
[]
[]
[]
[]
[]
[]
[]
[]
[]
[]
[]
[]
[]
[]
[]
[]
[]
[]
[]
[]
[]
[]
[]
[]
[]
[]
[]
[]
[]
[]
[]
[]
[]
[]
[]
[]
[]
[]
[]
[]
[]
[]
[]
[]
[]
[]
[]
[]
[]
[]
[]
[]
[]
[]
[]
[]
[]
[]
[]
[]
[]
[]
[]
[]
[]
[]
[]
[]
[]
[]
[]
[]
[]
[]
[]
[]
[]
[]
[]
[]
[]
[]
[]
[]
[]
[]
[]
[]
[]
[]
[]
[]
[]
[]
[]
[]
[]
[]
[]
[]
[]
[]
[]
[]
[]
[]
[]
[]
[]
[]
[]
[]
[]
[]
[]
[]
[]
[]
[]
[]
[]
[]
[]
[]
[]
[]
[]
[]
[]
[]
[]
[]
[]
[]
[]
[]
[]
[]
[]
[]
[]
[]
[]
[]
[]
[]
[]
[]
[]
[]
[]
[]
[]
[]
[]
[]
[]
[]
[]
[]
[]
[]
[]
[]
[]
[]
[]
[]
[]
[]
[]
[]
[]
[]
[]
[]
[]
[]
[]
[]
[]
[]
[]
[]
[]
[]
[]
[]
[]
[]
[]
[]
[]
[]
[]
[]
[]
[]
[]
[]
[]
[]
[]
[]
[]
[]
[]
[]
[]
[]
[]
[]
[]
[]
[]
[]
[]
[]
[]
[]
[]
[]
[]
[]
[]
[]
[]
[]
[]
[]
[]
[]
[]
[]
[]
[]
[]
[]
[]
[]
[]
[]
[]
[]
[]
[]
[]
[]
[]
[]
[]
[]
[]
[]
[]
[]
[]
[]
[]
[]
[]
[]
[]
[]
[]
[]
[]
[]
[]
[]
[]
[]
[]
[]
[]
[]
[]
[]
[]
[]
[]
[]
[]
[]
[]
[]
[]
[]
[]
[]
[]
[]
[]
[]
[]
[]
[]
[]
[]
[]
[]
[]
[]
[]
[]
[]
[]
[]
[]
[]
[]
[]
[]
[]
[]
[]
[]
[]
[]
[]
[]
[]
[]
[]
[]
[]
[]
[]
[]
[]
[]
[]
[]
[]
[]
[]
[]
[]
[]
[]
[]
[]
[]
[]
[]
[]
[]
[]
[]
[]
[]
[]
[]
[]
[]
[]
[]
[]
[]
[]
[]
[]
[]
[]
[]
[]
[]
[]
[]
[]
[]
[]
[]
[]
[]
[]
[]
[]
[]
[]
[]
[]
[]
[]
[]
[]
[]
[]
[]
[]
[]
[]
[]
[]
[]
[]
[]
[]
[]
[]
[]
[]
[]
[]
[]
[]
[]
[]
[]
[]
[]
[]
[]
[]
[]
[]
[]
[]
[]
[]
[]
[]
[]
[]
[]
[]
[]
[]
[]
[]
[]
[]
[]
[]
[]
[]
[]
[]
[]
[]
[]
[]
[]
[]
[]
[]
[]
[]
[]
[]
[]
[]
[]
[]
[]
[]
[]
[]
[]
[]
[]
[]
[]
[]
[]
[]
[]
[]
[]
[]
[]
[]
[]
[]
[]
[]
[]
[]
[]
[]
[]
[]
[]
[]
[]
[]
[]
[]
[]
[]
[]
[]
[]
[]
[]
[]
[]
[]
[]
[]
[]
[]
[]
[]
[]
[]
[]
[]
[]
[]
[]
[]
[]
[]
[]
[]
[]
[]
[]
[]
[]
[]
[]
[]
[]
[]
[]
[]
[]
[]
[]
[]
[]
[]
[]
[]
[]
[]
[]
[]
[]
[]
[]
[]
[]
[]
[]
[]
[]
[]
[]
[]
[]
[]
[]
[]
[]
[]
[]
[]
[]
[]
[]
[]
[]
[]
[]
[]
[]
[]
[]
[]
[]
[]
[]
[]
[]
[]
[]
[]
[]
[]
[]
[]
[]
[]
[]
[]
[]
[]
[]
[]
[]
[]
[]
[]
[]
[]
[]
[]
[]
[]
[]
[]
[]
[]
[]
[]
[]
[]
[]
[]
[]
[]
[]
[]
[]
[]
[]
[]
[]
[]
[]
[]
[]
[]
[]
[]
[]
[]
[]
[]
[]
[]
[]
[]
[]
[]
[]
[]
[]
[]
[]
[]
[]
[]
[]
[]
[]
[]
[]
[]
[]
[]
[]
[]
[]
[]
[]
[]
[]
[]
[]
[]
[]
[]
[]
[]
[]
[]
[]
[]
[]
[]
[]
[]
[]
[]
[]
[]
[]
[]
[]
[]
[]
[]
[]
[]
[]
[]
[]
[]
[]
[]
[]
[]
[]
[]
[]
[]
[]
[]
[]
[]
[]
[]
[]
[]
[]
[]
[]
[]
[]
[]
[]
[]
[]
[]
[]
[]
[]
[]
[]
[]
[]
[]
[]
[]
[]
[]
[]
[]
[]
[]
[]
[]
[]
[]
[]
[]
[]
[]
[]
[]
[]
[]
[]
[]
[]
[]
[]
[]
[]
[]
[]
[]
[]
[]
[]
[]
[]
[]
[]
[]
[]
[]
[]
[]
[]
[]
[]
[]
[]
[]
[]
[]
[]
[]
[]
[]
[]
[]
[]
[]
[]
[]
[]
[]
[]
[]
[]
[]
[]
[]
[]
[]
[]
[]
[]
[]
[]
[]
[]
[]
[]
[]
[]
[]
[]
[]
[]
[]
[]
[]
[]
[]
[]
[]
[]
[]
[]
[]
[]
[]
[]
[]
[]
[]
[]
[]
[]
[]
[]
[]
[]
[]
[]
[]
[]
[]
[]
[]
[]
[]
[]
[]
[]
[]
[]
[]
[]
[]
[]
[]
[]
[]
[]
[]
[]
[]
[]
[]
[]
[]
[]
[]
[]
[]
[]
[]
[]
[]
[]
[]
[]
[]
[]
[]
[]
[]
[]
[]
[]
[]
[]
[]
[]
[]
[]
[]
[]
[]
[]
[]
[]
[]
[]
[]
[]
[]
[]
[]
[]
[]
[]
[]
[]
[]
[]
[]
[]
[]
[]
[]
[]
[]
[]
[]
[]
[]
[]
[]
[]
[]
[]
[]
[]
[]
[]
[]
[]
[]
[]
[]
[]
[]
[]
[]
[]
[]
[]
[]
[]
[]
[]
[]
[]
[]
[]
[]
[]
[]
[]
[]
[]
[]
[]
[]
[]
[]
[]
[]
[]
[]
[]
[]
[]
[]
[]
[]
[]
[]
[]
[]
[]
[]
[]
[]
[]
[]
[]
[]
[]
[]
[]
[]
[]
[]
[]
[]
[]
[]
[]
[]
[]
[]
[]
[]
[]
[]
[]
[]
[]
[]
[]
[]
[]
[]
[]
[]
[]
[]
[]
[]
[]
[]
[]
[]
[]
[]
[]
[]
[]
[]
[]
[]
[]
[]
[]
[]
[]
[]
[]
[]
[]
[]
[]
[]
[]
[]
[]
[]
[]
[]
[]
[]
[]
[]
[]
[]
[]
[]
[]
[]
[]
[]
[]
[]
[]
[]
[]
[]
[]
[]
[]
[]
[]
[]
[]
[]
[]
[]
[]
[]
[]
[]
[]
[]
[]
[]
[]
[]
[]
[]
[]
[]
[]
[]
[]
[]
[]
[]
[]
[]
[]
[]
[]
[]
[]
[]
[]
[]
[]
[]
[]
[]
[]
[]
[]
[]
[]
[]
[]
[]
[]
[]
[]
[]
[]
[]
[]
[]
[]
[]
[]
[]
[]
[]
[]
[]
[]
[]
[]
[]
[]
[]
[]
[]
[]
[]
[]
[]
[]
[]
[]
[]
[]
[]
[]
[]
[]
[]
[]
[]
[]
[]
[]
[]
[]
[]
[]
[]
[]
[]
[]
[]
[]
[]
[]
[]
[]
[]
[]
[]
[]
[]
[]
[]
[]
[]
[]
[]
[]
[]
[]
[]
[]
[]
[]
[]
[]
[]
[]
[]
[]
[]
[]
[]
[]
[]
[]
[]
[]
[]
[]
[]
[]
[]
[]
[]
[]
[]
[]
[]
[]
[]
[]
[]
[]
[]
[]
[]
[]
[]
[]
[]
[]
[]
[]
[]
[]
[]
[]
[]
[]
[]
[]
[]
[]
[]
[]
[]
[]
[]
[]
[]
[]
[]
[]
[]
[]
[]
[]
[]
[]
[]
[]
[]
[]
[]
[]
[]
[]
[]
[]
[]
[]
[]
[]
[]
[]
[]
[]
[]
[]
[]
[]
[]
[]
[]
[]
[]
[]
[]
[]
[]
[]
[]
[]
[]
[]
[]
[]
[]
[]
[]
[]
[]
[]
[]
[]
[]
[]
[]
[]
[]
[]
[]
[]
[]
[]
[]
[]
[]
[]
[]
[]
[]
[]
[]
[]
[]
[]
[]
[]
[]
[]
[]
[]
[]
[]
[]
[]
[]
[]
[]
[]
[]
[]
[]
[]
[]
[]
[]
[]
[]
[]
[]
[]
[]
[]
[]
[]
[]
[]
[]
[]
[]
[]
[]
[]
[]
[]
[]
[]
[]
[]
[]
[]
[]
[]
[]
[]
[]
[]
[]
[]
[]
[]
[]
[]
[]
[]
[]
[]
[]
[]
[]
[]
[]
[]
[]
[]
[]
[]
[]
[]
[]
[]
[]
[]
[]
[]
[]
[]
[]
[]
[]
[]
[]
[]
[]
[]
[]
[]
[]
[]
[]
[]
[]
[]
[]
[]
[]
[]
[]
[]
[]
[]
[]
[]
[]
[]
[]
[]
[]
[]
[]
[]
[]
[]
[]
[]
[]
[]
[]
[]
[]
[]
[]
[]
[]
[]
[]
[]
[]
[]
[]
[]
[]
[]
[]
[]
[]
[]
[]
[]
[]
[]
[]
[]
[]
[]
[]
[]
[]
[]
[]
[]
[]
[]
[]
[]
[]
[]
[]
[]
[]
[]
[]
[]
[]
[]
[]
[]
[]
[]
[]
[]
[]
[]
[]
[]
[]
[]
[]
[]
[]
[]
[]
[]
[]
[]
[]
[]
[]
[]
[]
[]
[]
[]
[]
[]
[]
[]
[]
[]
[]
[]
[]
[]
[]
[]
[]
[]
[]
[]
[]
[]
[]
[]
[]
[]
[]
[]
[]
[]
[]
[]
[]
[]
[]
[]
[]
[]
[]
[]
[]
[]
[]
[]
[]
[]
[]
[]
[]
[]
[]
[]
[]
[]
[]
[]
[]
[]
[]
[]
[]
[]
[]
[]
[]
[]
[]
[]
[]
[]
[]
[]
[]
[]
[]
[]
[]
[]
[]
[]
[]
[]
[]
[]
[]
[]
[]
[]
[]
[]
[]
[]
[]
[]
[]
[]
[]
[]
[]
[]
[]
[]
[]
[]
[]
[]
[]
[]
[]
[]
[]
[]
[]
[]
[]
[]
[]
[]
[]
[]
[]
[]
[]
[]
[]
[]
[]
[]
[]
[]
[]
[]
[]
[]
[]
[]
[]
[]
[]
[]
[]
[]
[]
[]
[]
[]
[]
[]
[]
[]
[]
[]
[]
[]
[]
[]
[]
[]
[]
[]
[]
[]
[]
[]
[]
[]
[]
[]
[]
[]
[]
[]
[]
[]
[]
[]
[]
[]
[]
[]
[]
[]
[]
[]
[]
[]
[]
[]
[]
[]
[]
[]
[]
[]
[]
[]
[]
[]
[]
[]
[]
[]
[]
[]
[]
[]
[]
[]
[]
[]
[]
[]
[]
[]
[]
[]
[]
[]
[]
[]
[]
[]
[]
[]
[]
[]
[]
[]
[]
[]
[]
[]
[]
[]
[]
[]
[]
[]
[]
[]
[]
[]
[]
[]
[]
[]
[]
[]
[]
[]
[]
[]
[]
[]
[]
[]
[]
[]
[]
[]
[]
[]
[]
[]
[]
[]
[]
[]
[]
[]
[]
[]
[]
[]
[]
[]
[]
[]
[]
[]
[]
[]
[]
[]
[]
[]
[]
[]
[]
[]
[]
[]
[]
[]
[]
[]
[]
[]
[]
[]
[]
[]
[]
[]
[]
[]
[]
[]
[]
[]
[]
[]
[]
[]
[]
[]
[]
[]
[]
[]
[]
[]
[]
[]
[]
[]
[]
[]
[]
[]
[]
[]
[]
[]
[]
[]
[]
[]
[]
[]
[]
[]
[]
[]
[]
[]
[]
[]
[]
[]
[]
[]
[]
[]
[]
[]
[]
[]
[]
[]
[]
[]
[]
[]
[]
[]
[]
[]
[]
[]
[]
[]
[]
[]
[]
[]
[]
[]
[]
[]
[]
[]
[]
[]
[]
[]
[]
[]
[]
[]
[]
[]
[]
[]
[]
[]
[]
[]
[]
[]
[]
[]
[]
[]
[]
[]
[]
[]
[]
[]
[]
[]
[]
[]
[]
[]
[]
[]
[]
[]
[]
[]
[]
[]
[]
[]
[]
[]
[]
[]
[]
[]
[]
[]
[]
[]
[]
[]
[]
[]
[]
[]
[]
[]
[]
[]
[]
[]
[]
[]
[]
[]
[]
[]
[]
[]
[]
[]
[]
[]
[]
[]
[]
[]
[]
[]
[]
[]
[]
[]
[]
[]
[]
[]
[]
[]
[]
[]
[]
[]
[]
[]
[]
[]
[]
[]
[]
[]
[]
[]
[]
[]
[]
[]
[]
[]
[]
[]
[]
[]
[]
[]
[]
[]
[]
[]
[]
[]
[]
[]
[]
[]
[]
[]
[]
[]
[]
[]
[]
[]
[]
[]
[]
[]
[]
[]
[]
[]
[]
[]
[]
[]
[]
[]
[]
[]
[]
[]
[]
[]
[]
[]
[]
[]
[]
[]
[]
[]
[]
[]
[]
[]
[]
[]
[]
[]
[]
[]
[]
[]
[]
[]
[]
[]
[]
[]
[]
[]
[]
[]
[]
[]
[]
[]
[]
[]
[]
[]
[]
[]
[]
[]
[]
[]
[]
[]
[]
[]
[]
[]
[]
[]
[]
[]
[]
[]
[]
[]
[]
[]
[]
[]
[]
[]
[]
[]
[]
[]
[]
[]
[]
[]
[]
[]
[]
[]
[]
[]
[]
[]
[]
[]
[]
[]
[]
[]
[]
[]
[]
[]
[]
[]
[]
[]
[]
[]
[]
[]
[]
[]
[]
[]
[]
[]
[]
[]
[]
[]
[]
[]
[]
[]
[]
[]
[]
[]
[]
[]
[]
[]
[]
[]
[]
[]
[]
[]
[]
[]
[]
[]
[]
[]
[]
[]
[]
[]
[]
[]
[]
[]
[]
[]
[]
[]
[]
[]
[]
[]
[]
[]
[]
[]
[]
[]
[]
[]
[]
[]
[]
[]
[]
[]
[]
[]
[]
[]
[]
[]
[]
[]
[]
[]
[]
[]
[]
[]
[]
[]
[]
[]
[]
[]
[]
[]
[]
[]
[]
[]
[]
[]
[]
[]
[]
[]
[]
[]
[]
[]
[]
[]
[]
[]
[]
[]
[]
[]
[]
[]
[]
[]
[]
[]
[]
[]
[]
[]
[]
[]
[]
[]
[]
[]
[]
[]
[]
[]
[]
[]
[]
[]
[]
[]
[]
[]
[]
[]
[]
[]
[]
[]
[]
[]
[]
[]
[]
[]
[]
[]
[]
[]
[]
[]
[]
[]
[]
[]
[]
[]
[]
[]
[]
[]
[]
[]
[]
[]
[]
[]
[]
[]
[]
[]
[]
[]
[]
[]
[]
[]
[]
[]
[]
[]
[]
[]
[]
[]
[]
[]
[]
[]
[]
[]
[]
[]
[]
[]
[]
[]
[]
[]
[]
[]
[]
[]
[]
[]
[]
[]
[]
[]
[]
[]
[]
[]
[]
[]
[]
[]
[]
[]
[]
[]
[]
[]
[]
[]
[]
[]
[]
[]
[]
[]
[]
[]
[]
[]
[]
[]
[]
[]
[]
[]
[]
[]
[]
[]
[]
[]
[]
[]
[]
[]
[]
[]
[]
[]
[]
[]
[]
[]
[]
[]
[]
[]
[]
[]
[]
[]
[]
[]
[]
[]
[]
[]
[]
[]
[]
[]
[]
[]
[]
[]
[]
[]
[]
[]
[]
[]
[]
[]
[]
[]
[]
[]
[]
[]
[]
[]
[]
[]
[]
[]
[]
[]
[]
[]
[]
[]
[]
[]
[]
[]
[]
[]
[]
[]
[]
[]
[]
[]
[]
[]
[]
[]
[]
[]
[]
[]
[]
[]
[]
[]
[]
[]
[]
[]
[]
[]
[]
[]
[]
[]
[]
[]
[]
[]
[]
[]
[]
[]
[]
[]
[]
[]
[]
[]
[]
[]
[]
[]
[]
[]
[]
[]
[]
[]
[]
[]
[]
[]
[]
[]
[]
[]
[]
[]
[]
[]
[]
[]
[]
[]
[]
[]
[]
[]
[]
[]
[]
[]
[]
[]
[]
[]
[]
[]
[]
[]
[]
[]
[]
[]
[]
[]
[]
[]
[]
[]
[]
[]
[]
[]
[]
[]
[]
[]
[]
[]
[]
[]
[]
[]
[]
[]
[]
[]
[]
[]
[]
[]
[]
[]
[]
[]
[]
[]
[]
[]
[]
[]
[]
[]
[]
[]
[]
[]
[]
[]
[]
[]
[]
[]
[]
[]
[]
[]
[]
[]
[]
[]
[]
[]
[]
[]
[]
[]
[]
[]
[]
[]
[]
[]
[]
[]
[]
[]
[]
[]
[]
[]
[]
[]
[]
[]
[]
[]
[]
[]
[]
[]
[]
[]
[]
[]
[]
[]
[]
[]
[]
[]
[]
[]
[]
[]
[]
[]
[]
[]
[]
[]
[]
[]
[]
[]
[]
[]
[]
[]
[]
[]
[]
[]
[]
[]
[]
[]
[]
[]
[]
[]
[]
[]
[]
[]
[]
[]
[]
[]
[]
[]
[]
[]
[]
[]
[]
[]
[]
[]
[]
[]
[]
[]
[]
[]
[]
[]
[]
[]
[]
[]
[]
[]
[]
[]
[]
[]
[]
[]
[]
[]
[]
[]
[]
[]
[]
[]
[]
[]
[]
[]
[]
[]
[]
[]
[]
[]
[]
[]
[]
[]
[]
[]
[]
[]
[]
[]
[]
[]
[]
[]
[]
[]
[]
[]
[]
[]
[]
[]
[]
[]
[]
[]
[]
[]
[]
[]
[]
[]
[]
[]
[]
[]
[]
[]
[]
[]
[]
[]
[]
[]
[]
[]
[]
[]
[]
[]
[]
[]
[]
[]
[]
[]
[]
[]
[]
[]
[]
[]
[]
[]
[]
[]
[]
[]
[]
[]
[]
[]
[]
[]
[]
[]
[]
[]
[]
[]
[]
[]
[]
[]
[]
[]
[]
[]
[]
[]
[]
[]
[]
[]
[]
[]
[]
[]
[]
[]
[]
[]
[]
[]
[]
[]
[]
[]
[]
[]
[]
[]
[]
[]
[]
[]
[]
[]
[]
[]
[]
[]
[]
[]
[]
[]
[]
[]
[]
[]
[]
[]
[]
[]
[]
[]
[]
[]
[]
[]
[]
[]
[]
[]
[]
[]
[]
[]
[]
[]
[]
[]
[]
[]
[]
[]
[]
[]
[]
[]
[]
[]
[]
[]
[]
[]
[]
[]
[]
[]
[]
[]
[]
[]
[]
[]
[]
[]
[]
[]
[]
[]
[]
[]
[]
[]
[]
[]
[]
[]
[]
[]
[]
[]
[]
[]
[]
[]
[]
[]
[]
[]
[]
[]
[]
[]
[]
[]
[]
[]
[]
[]
[]
[]
[]
[]
[]
[]
[]
[]
[]
[]
[]
[]
[]
[]
[]
[]
[]
[]
[]
[]
[]
[]
[]
[]
[]
[]
[]
[]
[]
[]
[]
[]
[]
[]
[]
[]
[]
[]
[]
[]
[]
[]
[]
[]
[]
[]
[]
[]
[]
[]
[]
[]
[]
[]
[]
[]
[]
[]
[]
[]
[]
[]
[]
[]
[]
[]
[]
[]
[]
[]
[]
[]
[]
[]
[]
[]
[]
[]
[]
[]
[]
[]
[]
[]
[]
[]
[]
[]
[]
[]
[]
[]
[]
[]
[]
[]
[]
[]
[]
[]
[]
[]
[]
[]
[]
[]
[]
[]
[]
[]
[]
[]
[]
[]
[]
[]
[]
[]
[]
[]
[]
[]
[]
[]
[]
[]
[]
[]
[]
[]
[]
[]
[]
[]
[]
[]
[]
[]
[]
[]
[]
[]
[]
[]
[]
[]
[]
[]
[]
[]
[]
[]
[]
[]
[]
[]
[]
[]
[]
[]
[]
[]
[]
[]
[]
[]
[]
[]
[]
[]
[]
[]
[]
[]
[]
[]
[]
[]
[]
[]
[]
[]
[]
[]
[]
[]
[]
[]
[]
[]
[]
[]
[]
[]
[]
[]
[]
[]
[]
[]
[]
[]
[]
[]
[]
[]
[]
[]
[]
[]
[]
[]
[]
[]
[]
[]
[]
[]
[]
[]
[]
[]
[]
[]
[]
[]
[]
[]
[]
[]
[]
[]
[]
[]
[]
[]
[]
[]
[]
[]
[]
[]
[]
[]
[]
[]
[]
[]
[]
[]
[]
[]
[]
[]
[]
[]
[]
[]
[]
[]
[]
[]
[]
[]
[]
[]
[]
[]
[]
[]
[]
[]
[]
[]
[]
[]
[]
[]
[]
[]
[]
[]
[]
[]
[]
[]
[]
[]
[]
[]
[]
[]
[]
[]
[]
[]
[]
[]
[]
[]
[]
[]
[]
[]
[]
[]
[]
[]
[]
[]
[]
[]
[]
[]
[]
[]
[]
[]
[]
[]
[]
[]
[]
[]
[]
[]
[]
[]
[]
[]
[]
[]
[]
[]
[]
[]
[]
[]
[]
[]
[]
[]
[]
[]
[]
[]
[]
[]
[]
[]
[]
[]
[]
[]
[]
[]
[]
[]
[]
[]
[]
[]
[]
[]
[]
[]
[]
[]
[]
[]
[]
[]
[]
[]
[]
[]
[]
[]
[]
[]
[]
[]
[]
[]
[]
[]
[]
[]
[]
[]
[]
[]
[]
[]
[]
[]
[]
[]
[]
[]
[]
[]
[]
[]
[]
[]
[]
[]
[]
[]
[]
[]
[]
[]
[]
[]
[]
[]
[]
[]
[]
[]
[]
[]
[]
[]
[]
[]
[]
[]
[]
[]
[]
[]
[]
[]
[]
[]
[]
[]
[]
[]
[]
[]
[]
[]
[]
[]
[]
[]
[]
[]
[]
[]
[]
[]
[]
[]
[]
[]
[]
[]
[]
[]
[]
[]
[]
[]
[]
[]
[]
[]
[]
[]
[]
[]
[]
[]
[]
[]
[]
[]
[]
[]
[]
[]
[]
[]
[]
[]
[]
[]
[]
[]
[]
[]
[]
[]
[]
[]
[]
[]
[]
[]
[]
[]
[]
[]
[]
[]
[]
[]
[]
[]
[]
[]
[]
[]
[]
[]
[]
[]
[]
[]
[]
[]
[]
[]
[]
[]
[]
[]
[]
[]
[]
[]
[]
[]
[]
[]
[]
[]
[]
[]
[]
[]
[]
[]
[]
[]
[]
[]
[]
[]
[]
[]
[]
[]
[]
[]
[]
[]
[]
[]
[]
[]
[]
[]
[]
[]
[]
[]
[]
[]
[]
[]
[]
[]
[]
[]
[]
[]
[]
[]
[]
[]
[]
[]
[]
[]
[]
[]
[]
[]
[]
[]
[]
[]
[]
[]
[]
[]
[]
[]
[]
[]
[]
[]
[]
[]
[]
[]
[]
[]
[]
[]
[]
[]
[]
[]
[]
[]
[]
[]
[]
[]
[]
[]
[]
[]
[]
[]
[]
[]
[]
[]
[]
[]
[]
[]
[]
[]
[]
[]
[]
[]
[]
[]
[]
[]
[]
[]
[]
[]
[]
[]
[]
[]
[]
[]
[]
[]
[]
[]
[]
[]
[]
[]
[]
[]
[]
[]
[]
[]
[]
[]
[]
[]
[]
[]
[]
[]
[]
[]
[]
[]
[]
[]
[]
[]
[]
[]
[]
[]
[]
[]
[]
[]
[]
[]
[]
[]
[]
[]
[]
[]
[]
[]
[]
[]
[]
[]
[]
[]
[]
[]
[]
[]
[]
[]
[]
[]
[]
[]
[]
[]
[]
[]
[]
[]
[]
[]
[]
[]
[]
[]
[]
[]
[]
[]
[]
[]
[]
[]
[]
[]
[]
[]
[]
[]
[]
[]
[]
[]
[]
[]
[]
[]
[]
[]
[]
[]
[]
[]
[]
[]
[]
[]
[]
[]
[]
[]
[]
[]
[]
[]
[]
[]
[]
[]
[]
[]
[]
[]
[]
[]
[]
[]
[]
[]
[]
[]
[]
[]
[]
[]
[]
[]
[]
[]
[]
[]
[]
[]
[]
[]
[]
[]
[]
[]
[]
[]
[]
[]
[]
[]
[]
[]
[]
[]
[]
[]
[]
[]
[]
[]
[]
[]
[]
[]
[]
[]
[]
[]
[]
[]
[]
[]
[]
[]
[]
[]
[]
[]
[]
[]
[]
[]
[]
[]
[]
[]
[]
[]
[]
[]
[]
[]
[]
[]
[]
[]
[]
[]
[]
[]
[]
[]
[]
[]
[]
[]
[]
[]
[]
[]
[]
[]
[]
[]
[]
[]
[]
[]
[]
[]
[]
[]
[]
[]
[]
[]
[]
[]
[]
[]
[]
[]
[]
[]
[]
[]
[]
[]
[]
[]
[]
[]
[]
[]
[]
[]
[]
[]
[]
[]
[]
[]
[]
[]
[]
[]
[]
[]
[]
[]
[]
[]
[]
[]
[]
[]
[]
[]
[]
[]
[]
[]
[]
[]
[]
[]
[]
[]
[]
[]
[]
[]
[]
[]
[]
[]
[]
[]
[]
[]
[]
[]
[]
[]
[]
[]
[]
[]
[]
[]
[]
[]
[]
[]
[]
[]
[]
[]
[]
[]
[]
[]
[]
[]
[]
[]
[]
[]
[]
[]
[]
[]
[]
[]
[]
[]
[]
[]
[]
[]
[]
[]
[]
[]
[]
[]
[]
[]
[]
[]
[]
[]
[]
[]
[]
[]
[]
[]
[]
[]
[]
[]
[]
[]
[]
[]
[]
[]
[]
[]
[]
[]
[]
[]
[]
[]
[]
[]
[]
[]
[]
[]
[]
[]
[]
[]
[]
[]
[]
[]
[]
[]
[]
[]
[]
[]
[]
[]
[]
[]
[]
[]
[]
[]
[]
[]
[]
[]
[]
[]
[]
[]
[]
[]
[]
[]
[]
[]
[]
[]
[]
[]
[]
[]
[]
[]
[]
[]
[]
[]
[]
[]
[]
[]
[]
[]
[]
[]
[]
[]
[]
[]
[]
[]
[]
[]
[]
[]
[]
[]
[]
[]
[]
[]
[]
[]
[]
[]
[]
[]
[]
[]
[]
[]
[]
[]
[]
[]
[]
[]
[]
[]
[]
[]
[]
[]
[]
[]
[]
[]
[]
[]
[]
[]
[]
[]
[]
[]
[]
[]
[]
[]
[]
[]
[]
[]
[]
[]
[]
[]
[]
[]
[]
[]
[]
[]
[]
[]
[]
[]
[]
[]
[]
[]
[]
[]
[]
[]
[]
[]
[]
[]
[]
[]
[]
[]
[]
[]
[]
[]
[]
[]
[]
[]
[]
[]
[]
[]
[]
[]
[]
[]
[]
[]
[]
[]
[]
[]
[]
[]
[]
[]
[]
[]
[]
[]
[]
[]
[]
[]
[]
[]
[]
[]
[]
[]
[]
[]
[]
[]
[]
[]
[]
[]
[]
[]
[]
[]
[]
[]
[]
[]
[]
[]
[]
[]
[]
[]
[]
[]
[]
[]
[]
[]
[]
[]
[]
[]
[]
[]
[]
[]
[]
[]
[]
[]
[]
[]
[]
[]
[]
[]
[]
[]
[]
[]
[]
[]
[]
[]
[]
[]
[]
[]
[]
[]
[]
[]
[]
[]
[]
[]
[]
[]
[]
[]
[]
[]
[]
[]
[]
[]
[]
[]
[]
[]
[]
[]
[]
[]
[]
[]
[]
[]
[]
[]
[]
[]
[]
[]
[]
[]
[]
[]
[]
[]
[]
[]
[]
[]
[]
[]
[]
[]
[]
[]
[]
[]
[]
[]
[]
[]
[]
[]
[]
[]
[]
[]
[]
[]
[]
[]
[]
[]
[]
[]
[]
[]
[]
[]
[]
[]
[]
[]
[]
[]
[]
[]
[]
[]
[]
[]
[]
[]
[]
[]
[]
[]
[]
[]
[]
[]
[]
[]
[]
[]
[]
[]
[]
[]
[]
[]
[]
[]
[]
[]
[]
[]
[]
[]
[]
[]
[]
[]
[]
[]
[]
[]
[]
[]
[]
[]
[]
[]
[]
[]
[]
[]
[]
[]
[]
[]
[]
[]
[]
[]
[]
[]
[]
[]
[]
[]
[]
[]
[]
[]
[]
[]
[]
[]
[]
[]
[]
[]
[]
[]
[]
[]
[]
[]
[]
[]
[]
[]
[]
[]
[]
[]
[]
[]
[]
[]
[]
[]
[]
[]
[]
[]
[]
[]
[]
[]
[]
[]
[]
[]
[]
[]
[]
[]
[]
[]
[]
[]
[]
[]
[]
[]
[]
[]
[]
[]
[]
[]
[]
[]
[]
[]
[]
[]
[]
[]
[]
[]
[]
[]
[]
[]
[]
[]
[]
[]
[]
[]
[]
[]
[]
[]
[]
[]
[]
[]
[]
[]
[]
[]
[]
[]
[]
[]
[]
[]
[]
[]
[]
[]
[]
[]
[]
[]
[]
[]
[]
[]
[]
[]
[]
[]
[]
[]
[]
[]
[]
[]
[]
[]
[]
[]
[]
[]
[]
[]
[]
[]
[]
[]
[]
[]
[]
[]
[]
[]
[]
[]
[]
[]
[]
[]
[]
[]
[]
[]
[]
[]
[]
[]
[]
[]
[]
[]
[]
[]
[]
[]
[]
[]
[]
[]
[]
[]
[]
[]
[]
[]
[]
[]
[]
[]
[]
[]
[]
[]
[]
[]
[]
[]
[]
[]
[]
[]
[]
[]
[]
[]
[]
[]
[]
[]
[]
[]
[]
[]
[]
[]
[]
[]
[]
[]
[]
[]
[]
[]
[]
[]
[]
[]
[]
[]
[]
[]
[]
[]
[]
[]
[]
[]
[]
[]
[]
[]
[]
[]
[]
[]
[]
[]
[]
[]
[]
[]
[]
[]
[]
[]
[]
[]
[]
[]
[]
[]
[]
[]
[]
[]
[]
[]
[]
[]
[]
[]
[]
[]
[]
[]
[]
[]
[]
[]
[]
[]
[]
[]
[]
[]
[]
[]
[]
[]
[]
[]
[]
[]
[]
[]
[]
[]
[]
[]
[]
[]
[]
[]
[]
[]
[]
[]
[]
[]
[]
[]
[]
[]
[]
[]
[]
[]
[]
[]
[]
[]
[]
[]
[]
[]
[]
[]
[]
[]
[]
[]
[]
[]
[]
[]
[]
[]
[]
[]
[]
[]
[]
[]
[]
[]
[]
[]
[]
[]
[]
[]
[]
[]
[]
[]
[]
[]
[]
[]
[]
[]
[]
[]
[]
[]
[]
[]
[]
[]
[]
[]
[]
[]
[]
[]
[]
[]
[]
[]
[]
[]
[]
[]
[]
[]
[]
[]
[]
[]
[]
[]
[]
[]
[]
[]
[]
[]
[]
[]
[]
[]
[]
[]
[]
[]
[]
[]
[]
[]
[]
[]
[]
[]
[]
[]
[]
[]
[]
[]
[]
[]
[]
[]
[]
[]
[]
[]
[]
[]
[]
[]
[]
[]
[]
[]
[]
[]
[]
[]
[]
[]
[]
[]
[]
[]
[]
[]
[]
[]
[]
[]
[]
[]
[]
[]
[]
[]
[]
[]
[]
[]
[]
[]
[]
[]
[]
[]
[]
[]
[]
[]
[]
[]
[]
[]
[]
[]
[]
[]
[]
[]
[]
[]
[]
[]
[]
[]
[]
[]
[]
[]
[]
[]
[]
[]
[]
[]
[]
[]
[]
[]
[]
[]
[]
[]
[]
[]
[]
[]
[]
[]
[]
[]
[]
[]
[]
[]
[]
[]
[]
[]
[]
[]
[]
[]
[]
[]
[]
[]
[]
[]
[]
[]
[]
[]
[]
[]
[]
[]
[]
[]
[]
[]
[]
[]
[]
[]
[]
[]
[]
[]
[]
[]
[]
[]
[]
[]
[]
[]
[]
[]
[]
[]
[]
[]
[]
[]
[]
[]
[]
[]
[]
[]
[]
[]
[]
[]
[]
[]
[]
[]
[]
[]
[]
[]
[]
[]
[]
[]
[]
[]
[]
[]
[]
[]
[]
[]
[]
[]
[]
[]
[]
[]
[]
[]
[]
[]
[]
[]
[]
[]
[]
[]
[]
[]
[]
[]
[]
[]
[]
[]
[]
[]
[]
[]
[]
[]
[]
[]
[]
[]
[]
[]
[]
[]
[]
[]
[]
[]
[]
[]
[]
[]
[]
[]
[]
[]
[]
[]
[]
[]
[]
[]
[]
[]
[]
[]
[]
[]
[]
[]
[]
[]
[]
[]
[]
[]
[]
[]
[]
[]
[]
[]
[]
[]
[]
[]
[]
[]
[]
[]
[]
[]
[]
[]
[]
[]
[]
[]
[]
[]
[]
[]
[]
[]
[]
[]
[]
[]
[]
[]
[]
[]
[]
[]
[]
[]
[]
[]
[]
[]
[]
[]
[]
[]
[]
[]
[]
[]
[]
[]
[]
[]
[]
[]
[]
[]
[]
[]
[]
[]
[]
[]
[]
[]
[]
[]
[]
[]
[]
[]
[]
[]
[]
[]
[]
[]
[]
[]
[]
[]
[]
[]
[]
[]
[]
[]
[]
[]
[]
[]
[]
[]
[]
[]
[]
[]
[]
[]
[]
[]
[]
[]
[]
[]
[]
[]
[]
[]
[]
[]
[]
[]
[]
[]
[]
[]
[]
[]
[]
[]
[]
[]
[]
[]
[]
[]
[]
[]
[]
[]
[]
[]
[]
[]
[]
[]
[]
[]
[]
[]
[]
[]
[]
[]
[]
[]
[]
[]
[]
[]
[]
[]
[]
[]
[]
[]
[]
[]
[]
[]
[]
[]
[]
[]
[]
[]
[]
[]
[]
[]
[]
[]
[]
[]
[]
[]
[]
[]
[]
[]
[]
[]
[]
[]
[]
[]
[]
[]
[]
[]
[]
[]
[]
[]
[]
[]
[]
[]
[]
[]
[]
[]
[]
[]
[]
[]
[]
[]
[]
[]
[]
[]
[]
[]
[]
[]
[]
[]
[]
[]
[]
[]
[]
[]
[]
[]
[]
[]
[]
[]
[]
[]
[]
[]
[]
[]
[]
[]
[]
[]
[]
[]
[]
[]
[]
[]
[]
[]
[]
[]
[]
[]
[]
[]
[]
[]
[]
[]
[]
[]
[]
[]
[]
[]
[]
[]
[]
[]
[]
[]
[]
[]
[]
[]
[]
[]
[]
[]
[]
[]
[]
[]
[]
[]
[]
[]
[]
[]
[]
[]
[]
[]
[]
[]
[]
[]
[]
[]
[]
[]
[]
[]
[]
[]
[]
[]
[]
[]
[]
[]
[]
[]
[]
[]
[]
[]
[]
[]
[]
[]
[]
[]
[]
[]
[]
[]
[]
[]
[]
[]
[]
[]
[]
[]
[]
[]
[]
[]
[]
[]
[]
[]
[]
[]
[]
[]
[]
[]
[]
[]
[]
[]
[]
[]
[]
[]
[]
[]
[]
[]
[]
[]
[]
[]
[]
[]
[]
[]
[]
[]
[]
[]
[]
[]
[]
[]
[]
[]
[]
[]
[]
[]
[]
[]
[]
[]
[]
[]
[]
[]
[]
[]
[]
[]
[]
[]
[]
[]
[]
[]
[]
[]
[]
[]
[]
[]
[]
[]
[]
[]
[]
[]
[]
[]
[]
[]
[]
[]
[]
[]
[]
[]
[]
[]
[]
[]
[]
[]
[]
[]
[]
[]
[]
[]
[]
[]
[]
[]
[]
[]
[]
[]
[]
[]
[]
[]
[]
[]
[]
[]
[]
[]
[]
[]
[]
[]
[]
[]
[]
[]
[]
[]
[]
[]
[]
[]
[]
[]
[]
[]
[]
[]
[]
[]
[]
[]
[]
[]
[]
[]
[]
[]
[]
[]
[]
[]
[]
[]
[]
[]
[]
[]
[]
[]
[]
[]
[]
[]
[]
[]
[]
[]
[]
[]
[]
[]
[]
[]
[]
[]
[]
[]
[]
[]
[]
[]
[]
[]
[]
[]
[]
[]
[]
[]
[]
[]
[]
[]
[]
[]
[]
[]
[]
[]
[]
[]
[]
[]
[]
[]
[]
[]
[]
[]
[]
[]
[]
[]
[]
[]
[]
[]
[]
[]
[]
[]
[]
[]
[]
[]
[]
[]
[]
[]
[]
[]
[]
[]
[]
[]
[]
[]
[]
[]
[]
[]
[]
[]
[]
[]
[]
[]
[]
[]
[]
[]
[]
[]
[]
[]
[]
[]
[]
[]
[]
[]
[]
[]
[]
[]
[]
[]
[]
[]
[]
[]
[]
[]
[]
[]
[]
[]
[]
[]
[]
[]
[]
[]
[]
[]
[]
[]
[]
[]
[]
[]
[]
[]
[]
[]
[]
[]
[]
[]
[]
[]
[]
[]
[]
[]
[]
[]
[]
[]
[]
[]
[]
[]
[]
[]
[]
[]
[]
[]
[]
[]
[]
[]
[]
[]
[]
[]
[]
[]
[]
[]
[]
[]
[]
[]
[]
[]
[]
[]
[]
[]
[]
[]
[]
[]
[]
[]
[]
[]
[]
[]
[]
[]
[]
[]
[]
[]
[]
[]
[]
[]
[]
[]
[]
[]
[]
[]
[]
[]
[]
[]
[]
[]
[]
[]
[]
[]
[]
[]
[]
[]
[]
[]
[]
[]
[]
[]
[]
[]
[]
[]
[]
[]
[]
[]
[]
[]
[]
[]
[]
[]
[]
[]
[]
[]
[]
[]
[]
[]
[]
[]
[]
[]
[]
[]
[]
[]
[]
[]
[]
[]
[]
[]
[]
[]
[]
[]
[]
[]
[]
[]
[]
[]
[]
[]
[]
[]
[]
[]
[]
[]
[]
[]
[]
[]
[]
[]
[]
[]
[]
[]
[]
[]
[]
[]
[]
[]
[]
[]
[]
[]
[]
[]
[]
[]
[]
[]
[]
[]
[]
[]
[]
[]
[]
[]
[]
[]
[]
[]
[]
[]
[]
[]
[]
[]
[]
[]
[]
[]
[]
[]
[]
[]
[]
[]
[]
[]
[]
[]
[]
[]
[]
[]
[]
[]
[]
[]
[]
[]
[]
[]
[]
[]
[]
[]
[]
[]
[]
[]
[]
[]
[]
[]
[]
[]
[]
[]
[]
[]
[]
[]
[]
[]
[]
[]
[]
[]
[]
[]
[]
[]
[]
[]
[]
[]
[]
[]
[]
[]
[]
[]
[]
[]
[]
[]
[]
[]
[]
[]
[]
[]
[]
[]
[]
[]
[]
[]
[]
[]
[]
[]
[]
[]
[]
[]
[]
[]
[]
[]
[]
[]
[]
[]
[]
[]
[]
[]
[]
[]
[]
[]
[]
[]
[]
[]
[]
[]
[]
[]
[]
[]
[]
[]
[]
[]
[]
[]
[]
[]
[]
[]
[]
[]
[]
[]
[]
[]
[]
[]
[]
[]
[]
[]
[]
[]
[]
[]
[]
[]
[]
[]
[]
[]
[]
[]
[]
[]
[]
[]
[]
[]
[]
[]
[]
[]
[]
[]
[]
[]
[]
[]
[]
[]
[]
[]
[]
[]
[]
[]
[]
[]
[]
[]
[]
[]
[]
[]
[]
[]
[]
[]
[]
[]
[]
[]
[]
[]
[]
[]
[]
[]
[]
[]
[]
[]
[]
[]
[]
[]
[]
[]
[]
[]
[]
[]
[]
[]
[]
[]
[]
[]
[]
[]
[]
[]
[]
[]
[]
[]
[]
[]
[]
[]
[]
[]
[]
[]
[]
[]
[]
[]
[]
[]
[]
[]
[]
[]
[]
[]
[]
[]
[]
[]
[]
[]
[]
[]
[]
[]
[]
[]
[]
[]
[]
[]
[]
[]
[]
[]
[]
[]
[]
[]
[]
[]
[]
[]
[]
[]
[]
[]
[]
[]
[]
[]
[]
[]
[]
[]
[]
[]
[]
[]
[]
[]
[]
[]
[]
[]
[]
[]
[]
[]
[]
[]
[]
[]
[]
[]
[]
[]
[]
[]
[]
[]
[]
[]
[]
[]
[]
[]
[]
[]
[]
[]
[]
[]
[]
[]
[]
[]
[]
[]
[]
[]
[]
[]
[]
[]
[]
[]
[]
[]
[]
[]
[]
[]
[]
[]
[]
[]
[]
[]
[]
[]
[]
[]
[]
[]
[]
[]
[]
[]
[]
[]
[]
[]
[]
[]
[]
[]
[]
[]
[]
[]
[]
[]
[]
[]
[]
[]
[]
[]
[]
[]
[]
[]
[]
[]
[]
[]
[]
[]
[]
[]
[]
[]
[]
[]
[]
[]
[]
[]
[]
[]
[]
[]
[]
[]
[]
[]
[]
[]
[]
[]
[]
[]
[]
[]
[]
[]
[]
[]
[]
[]
[]
[]
[]
[]
[]
[]
[]
[]
[]
[]
[]
[]
[]
[]
[]
[]
[]
[]
[]
[]
[]
[]
[]
[]
[]
[]
[]
[]
[]
[]
[]
[]
[]
[]
[]
[]
[]
[]
[]
[]
[]
[]
[]
[]
[]
[]
[]
[]
[]
[]
[]
[]
[]
[]
[]
[]
[]
[]
[]
[]
[]
[]
[]
[]
[]
[]
[]
[]
[]
[]
[]
[]
[]
[]
[]
[]
[]
[]
[]
[]
[]
[]
[]
[]
[]
[]
[]
[]
[]
[]
[]
[]
[]
[]
[]
[]
[]
[]
[]
[]
[]
[]
[]
[]
[]
[]
[]
[]
[]
[]
[]
[]
[]
[]
[]
[]
[]
[]
[]
[]
[]
[]
[]
[]
[]
[]
[]
[]
[]
[]
[]
[]
[]
[]
[]
[]
[]
[]
[]
[]
[]
[]
[]
[]
[]
[]
[]
[]
[]
[]
[]
[]
[]
[]
[]
[]
[]
[]
[]
[]
[]
[]
[]
[]
[]
[]
[]
[]
[]
[]
[]
[]
[]
[]
[]
[]
[]
[]
[]
[]
[]
[]
[]
[]
[]
[]
[]
[]
[]
[]
[]
[]
[]
[]
[]
[]
[]
[]
[]
[]
[]
[]
[]
[]
[]
[]
[]
[]
[]
[]
[]
[]
[]
[]
[]
[]
[]
[]
[]
[]
[]
[]
[]
[]
[]
[]
[]
[]
[]
[]
[]
[]
[null,null,null,null,null,null,null,null,null,"UKS HERKULES Kamień Pomorski"]

{"sheet":"zawodnicy deble i po deblach","index":7,"n_rows":21,"n_cols":11,"rows_kept":21,"cut":false,"hidden":true,"merged":[]}
[null,{"$f":"Protokół!BW3","v":1},null,{"$f":"IF(B1=1,\"Pierwsza runda - deble dowolne\",\"Runda rewanżowa - deble wg. rankingu\")","v":"Pierwsza runda - deble dowolne"}]
[]
[]
[null,"Gospodarze","debel 1 zaw 1","debel 1 zaw 2","debel 2 zaw 1","debel 2 zaw 2",null,"mecz 7","mecz 8","mecz 9","mecz 10"]
[null,null,{"$f":"Protokół!E23","v":0},{"$f":"Protokół!E24","v":0},{"$f":"Protokół!E31","v":0},{"$f":"Protokół!E32","v":0},null,{"$f":"Protokół!E25","v":0},{"$f":"Protokół!E33","v":0},{"$f":"Protokół!E26","v":0},{"$f":"Protokół!E34","v":0}]
[{"$f":"Protokół!D13","v":0},{"$f":"Protokół!D13","v":0},{"$f":"OFFSET(B6,COUNTIF(B$5:B6,C$5),0)&\"\"","v":"0"},{"$f":"OFFSET(C6,COUNTIF(C$5:C6,D$5),0)&\"\"","v":"0"},{"$f":"OFFSET(D6,COUNTIF(D$5:D6,E$5),0)&\"\"","v":""},{"$f":"OFFSET(E6,COUNTIF(E$5:E6,F$5),0)&\"\"","v":""},null,{"$f":"Protokół!D13","v":0},{"$f":"Protokół!D15","v":0},{"$f":"Protokół!D14","v":0},{"$f":"Protokół!D16","v":0}]
[{"$f":"Protokół!D14","v":0},{"$f":"Protokół!D14","v":0},{"$f":"OFFSET(B7,COUNTIF(B$5:B7,C$5),0)&\"\"","v":"0"},{"$f":"OFFSET(C7,COUNTIF(C$5:C7,D$5),0)&\"\"","v":""},{"$f":"OFFSET(D7,COUNTIF(D$5:D7,E$5),0)&\"\"","v":""},{"$f":"OFFSET(E7,COUNTIF(E$5:E7,F$5),0)&\"\"","v":""},null,{"$f":"Protokół!D17","v":0},{"$f":"IF(H5=H6,H7,IF(H5=H7,H8,IF(H5=H8,H7)))","v":0},{"$f":"IF(I5=I6,I7,IF(I5=I7,I8,IF(I5=I8,I7)))","v":0},{"$f":"IF(J5=J6,J7,IF(J5=J7,J8,IF(J5=J8,J7)))","v":0}]
[{"$f":"IF($B$1=1,Protokół!D15,\"\")","v":0},{"$f":"Protokół!D15","v":0},{"$f":"OFFSET(B8,COUNTIF(B$5:B8,C$5),0)&\"\"","v":"0"},{"$f":"OFFSET(C8,COUNTIF(C$5:C8,D$5),0)&\"\"","v":""},{"$f":"OFFSET(D8,COUNTIF(D$5:D8,E$5),0)&\"\"","v":""},{"$f":"OFFSET(E8,COUNTIF(E$5:E8,F$5),0)&\"\"","v":""},null,{"$f":"Protokół!D18","v":0},{"$f":"IF(H5=H6,H8,\"\")","v":0},{"$f":"IF(I5=I6,I8,\"\")","v":0},{"$f":"IF(J5=J6,J8,\"\")","v":0}]
[{"$f":"IF($B$1=1,Protokół!D16,\"\")","v":0},{"$f":"Protokół!D16","v":0},{"$f":"OFFSET(B9,COUNTIF(B$5:B9,C$5),0)&\"\"","v":""},{"$f":"OFFSET(C9,COUNTIF(C$5:C9,D$5),0)&\"\"","v":""},{"$f":"OFFSET(D9,COUNTIF(D$5:D9,E$5),0)&\"\"","v":""},{"$f":"OFFSET(E9,COUNTIF(E$5:E9,F$5),0)&\"\"","v":""}]
[{"$f":"IF($B$1=1,Protokół!D17,\"\")","v":0},{"$f":"Protokół!D17","v":0},{"$f":"OFFSET(B10,COUNTIF(B$5:B10,C$5),0)&\"\"","v":""}]
[{"$f":"IF($B$1=1,Protokół!D18,\"\")","v":0},{"$f":"Protokół!D18","v":0}]
[]
[]
[null,"Goście","debel 1 zaw 1","debel 1 zaw 2","debel 2 zaw 1","debel 2 zaw 2",null,"mecz 7","mecz 8","mecz 9","mecz 10"]
[null,null,{"$f":"Protokół!W23","v":0},{"$f":"Protokół!W24","v":0},{"$f":"Protokół!W31","v":0},{"$f":"Protokół!W32","v":0},null,{"$f":"Protokół!W25","v":0},{"$f":"Protokół!W33","v":0},{"$f":"Protokół!W26","v":0},{"$f":"Protokół!W34","v":0}]
[{"$f":"Protokół!AO13","v":0},{"$f":"Protokół!AO13","v":0},{"$f":"OFFSET(B16,COUNTIF(B$15:B16,C$15),0)&\"\"","v":"0"},{"$f":"OFFSET(C16,COUNTIF(C$15:C16,D$15),0)&\"\"","v":"0"},{"$f":"OFFSET(D16,COUNTIF(D$15:D16,E$15),0)&\"\"","v":""},{"$f":"OFFSET(E16,COUNTIF(E$15:E16,F$15),0)&\"\"","v":""},null,{"$f":"Protokół!AO14","v":0},{"$f":"Protokół!AO16","v":0},{"$f":"Protokół!AO13","v":0},{"$f":"Protokół!AO15","v":0}]
[{"$f":"Protokół!AO14","v":0},{"$f":"Protokół!AO14","v":0},{"$f":"OFFSET(B17,COUNTIF(B$15:B17,C$15),0)&\"\"","v":"0"},{"$f":"OFFSET(C17,COUNTIF(C$15:C17,D$15),0)&\"\"","v":""},{"$f":"OFFSET(D17,COUNTIF(D$15:D17,E$15),0)&\"\"","v":""},{"$f":"OFFSET(E17,COUNTIF(E$15:E17,F$15),0)&\"\"","v":""},null,{"$f":"Protokół!AO17","v":0},{"$f":"IF(H15=H16,H17,IF(H15=H17,H18,IF(H15=H18,H17)))","v":0},{"$f":"IF(I15=I16,I17,IF(I15=I17,I18,IF(I15=I18,I17)))","v":0},{"$f":"IF(J15=J16,J17,IF(J15=J17,J18,IF(J15=J18,J17)))","v":0}]
[{"$f":"IF($B$1=1,Protokół!AO15,\"\")","v":0},{"$f":"Protokół!AO15","v":0},{"$f":"OFFSET(B18,COUNTIF(B$15:B18,C$15),0)&\"\"","v":"0"},{"$f":"OFFSET(C18,COUNTIF(C$15:C18,D$15),0)&\"\"","v":""},{"$f":"OFFSET(D18,COUNTIF(D$15:D18,E$15),0)&\"\"","v":""},{"$f":"OFFSET(E18,COUNTIF(E$15:E18,F$15),0)&\"\"","v":""},null,{"$f":"Protokół!AO18","v":0},{"$f":"IF(H15=H16,H18,\"\")","v":0},{"$f":"IF(I15=I16,I18,\"\")","v":0},{"$f":"IF(J15=J16,J18,\"\")","v":0}]
[{"$f":"IF($B$1=1,Protokół!AO16,\"\")","v":0},{"$f":"Protokół!AO16","v":0},{"$f":"OFFSET(B19,COUNTIF(B$15:B19,C$15),0)&\"\"","v":""},{"$f":"OFFSET(C19,COUNTIF(C$15:C19,D$15),0)&\"\"","v":""},{"$f":"OFFSET(D19,COUNTIF(D$15:D19,E$15),0)&\"\"","v":""},{"$f":"OFFSET(E19,COUNTIF(E$15:E19,F$15),0)&\"\"","v":""}]
[{"$f":"IF($B$1=1,Protokół!AO17,\"\")","v":0},{"$f":"Protokół!AO17","v":0},{"$f":"OFFSET(B20,COUNTIF(B$15:B20,C$15),0)&\"\"","v":""},{"$f":"OFFSET(C20,COUNTIF(C$15:C20,D$15),0)&\"\"","v":""},{"$f":"OFFSET(D20,COUNTIF(D$15:D20,E$15),0)&\"\"","v":""},{"$f":"OFFSET(E20,COUNTIF(E$15:E20,F$15),0)&\"\"","v":""}]
[{"$f":"IF($B$1=1,Protokół!AO18,\"\")","v":0},{"$f":"Protokół!AO18","v":0}]